{"text_format":"1","workbook":"xlsx","n_sheets":3,"sheets":["Read me - LAs","Level 1 Screening","Calculations"],"not_rendered":{"charts":0,"images":2,"macros":1,"external_links":0,"defined_names":4,"comments":0,"pivot_tables":0},"unopened":[],"bounds":{"document_bytes":16777216,"sheet_cells":100000,"rows_first":2000,"rows_last":500,"rows_between":2000,"halvings":0,"cell_chars":16384,"cell_head_chars":4096},"cells_cut":0,"cells_raw":0,"read":"whole","date_system":"1900"}

{"sheet":"Read me - LAs","index":0,"n_rows":22,"n_cols":3,"rows_kept":22,"cut":false,"hidden":false,"merged":[]}
[]
[]
[]
[]
[]
[]
[]
[null,null,"JBA Strategic Flood Risk Assessment Site Screening Tool - v1.0"]
[]
[null,null,"This spreadsheet has been designed to assist local authorities with the selection of development sites for inclusion within their local plan."]
[]
[null,null,"Note on calculations:"]
[null,null,"Site boundaries have been screened against flood risk information to determine the proportion of the site at risk.  The following flood risk information has been used in the assessment\n●  Flood Zones (from Environment Agency Flood Zones and results from detailed hydraulic models)\n●  Surface Water (from the Risk of Flooding from Surface Water mapping)\n●  Environment Agency's Historic Flood Map\n●  Reservoirs (from the National Reservoir Inundation Mapping)"]
[]
[null,null,"Additional information:"]
[null,null,"The sites have also been considered against the following information to provide additional information to support decision making\n●  Located in an IDB administrative area - to determine if the site may be affected by an IDB watercourse\n●  Defended? - to determine if the site benefits from formal flood defences\n●  Ordinary watercourse with catchment less than 3km2 flowing adjacent  - to determine if their is a watercourse with a catchment less than 3km2 flowing through or adjacent to a site, which would not have been included in the Environment Agency's Flood Zones"]
[]
[null,null,"Note on Flood Zone and Surface Water percentages:"]
[null,null,"The values quoted in the Level 1 Screening tab show the percentage of the site at flood risk from that particular Flood Zone / event, including the percentage of the site at flood risk at a higher zone.  \n\nFor example\n50% of a site is in the Flood Zones.  Taking each Flood Zone individually, 50% is in Flood Zone 2 but only 30% is in Flood Zone 3a and only 10% is in Flood Zone 3b.\nIn the Level 1 Screening tab this will be displayed as stated above, i.e. the total % of that particular Flood Zone in that site.  \nIf you would like to know how much of the site is in say Flood Zone 2 'only' (i.e. less the overlapping Flood Zone 3) then these percentages can be subtracted, e.g. 50% of the site is in Flood Zone 2, but as 30% is in Flood Zone 3 (which overlaps Flood Zone 2), this leaves 20% of the site in Flood Zone 2 'only'.\nNote that the FZ3a and FZ3b used in the screening is derived from the 100-year undefended and 20-year (or 25-year) defended model outlines supplied by the Environment Agency where available respectively. Where no modelled data was available, the Environment Agency Flood Mapping for Planning Flood Zone 3 was used to give an \"Indicative 3b\". Therefore, it is common for the percentage of a site located in FZ3a to be the same as the percentage of the site located in FZ3b, as they will only differ where modelled data is available."]
[]
[null,null,"Using the spreadsheet"]
[null,null,"The spreadsheet has been designed to assist the selection of sites.  A number of screening options are available at the top of the Level 1 Screening tab.  Each option will allow sites to be screened against a user defined value.\n\nFor example\nTo select sites that are more than 50% in Flood Zone 2, click on 'Screen sites against a user-defined % in Flood Zone 2' icon, and enter 50 (do not include a % sign) when prompted."]

{"sheet":"Level 1 Screening","index":1,"n_rows":798,"n_cols":10,"rows_kept":798,"cut":false,"hidden":false,"merged":[[7,0,8,0],[7,2,8,2],[7,9,8,9],[7,1,8,1],[7,3,7,8],[8,3,8,5],[8,6,8,8]]}
[]
[]
[]
[]
[]
[]
[]
["Site code","Location","Area (ha)",null,null,null,null,null,null,"Area of site outside of Flood Zones"]
[null,null,null,null,null,null,"Risk of flooding from surface water (Total %s)"]
[null,null,null,"FZ 3a"," FZ 2","FZ 1","30yr","100yr","1,000yr","(hectares)"]
[{"$f":"Calculations!B2","v":203},{"$f":"Calculations!A2","v":"Land south of Pedmore Lane, Pedmore, Stourbridge"},{"$f":"Calculations!C2","v":8.5399999999999991},{"$f":"Calculations!G2","v":0},{"$f":"Calculations!O2","v":0},{"$f":"Calculations!P2","v":1},{"$f":"Calculations!U2","v":0},{"$f":"Calculations!X2","v":0},{"$f":"Calculations!AB2","v":0},{"$f":"C11*F11","v":8.5399999999999991}]
[{"$f":"Calculations!B3","v":203},{"$f":"Calculations!A3","v":"Land south of Pedmore Lane, Pedmore, Stourbridge"},{"$f":"Calculations!C3","v":11.23},{"$f":"Calculations!G3","v":0},{"$f":"Calculations!O3","v":0},{"$f":"Calculations!P3","v":1},{"$f":"Calculations!U3","v":"<1%"},{"$f":"Calculations!X3","v":4.3732326825814783E-4},{"$f":"Calculations!AB3","v":2.7200208205817454E-3},11.23]
[{"$f":"Calculations!B4","v":138},{"$f":"Calculations!A4","v":"Land North of Linthouse Lane, south of the Dismantled Railway Line, west of Kitchen Lane and east of"},{"$f":"Calculations!C4","v":148},{"$f":"Calculations!G4","v":0},{"$f":"Calculations!O4","v":0},{"$f":"Calculations!P4","v":1},{"$f":"Calculations!U4","v":"<1%"},{"$f":"Calculations!X4","v":2.8466731599671152E-3},{"$f":"Calculations!AB4","v":4.1120589547889658E-3},148]
[{"$f":"Calculations!B5","v":192},{"$f":"Calculations!A5","v":"Land at Perton Road, Perton"},{"$f":"Calculations!C5","v":2.4},{"$f":"Calculations!G5","v":0},{"$f":"Calculations!O5","v":0},{"$f":"Calculations!P5","v":1},{"$f":"Calculations!U5","v":0},{"$f":"Calculations!X5","v":0},{"$f":"Calculations!AB5","v":0},2.4]
[{"$f":"Calculations!B6","v":187},{"$f":"Calculations!A6","v":"Dadford’s Bridge Industrial Estate, Plant Street Wordsley"},{"$f":"Calculations!C6","v":0.46},{"$f":"Calculations!G6","v":0},{"$f":"Calculations!O6","v":0},{"$f":"Calculations!P6","v":1},{"$f":"Calculations!U6","v":0},{"$f":"Calculations!X6","v":0},{"$f":"Calculations!AB6","v":3.4006504528254343E-2},0.46]
[{"$f":"Calculations!B7","v":185},{"$f":"Calculations!A7","v":"Opposite One Hundred acre school, Aldridge Road, Walsall"},{"$f":"Calculations!C7","v":7.5},{"$f":"Calculations!G7","v":0},{"$f":"Calculations!O7","v":0},{"$f":"Calculations!P7","v":1},{"$f":"Calculations!U7","v":6.1327982631985333E-3},{"$f":"Calculations!X7","v":1.9487229937750802E-2},{"$f":"Calculations!AB7","v":0.13856500732156934},7.5]
[{"$f":"Calculations!B8","v":184},{"$f":"Calculations!A8","v":"Merry Hill, Brierley Hill"},{"$f":"Calculations!C8","v":53.06},{"$f":"Calculations!G8","v":0},{"$f":"Calculations!O8","v":0},{"$f":"Calculations!P8","v":1},{"$f":"Calculations!U8","v":2.8880041110052015E-2},{"$f":"Calculations!X8","v":9.5695262758524122E-2},{"$f":"Calculations!AB8","v":0.32269648484456082},53.06]
[{"$f":"Calculations!B9","v":184},{"$f":"Calculations!A9","v":"Merry Hill, Brierley Hill"},{"$f":"Calculations!C9","v":21.85},{"$f":"Calculations!G9","v":0},{"$f":"Calculations!O9","v":0},{"$f":"Calculations!P9","v":1},{"$f":"Calculations!U9","v":1.349243355925748E-2},{"$f":"Calculations!X9","v":4.4647023880873223E-2},{"$f":"Calculations!AB9","v":0.14596653337167689},21.85]
[{"$f":"Calculations!B10","v":183},{"$f":"Calculations!A10","v":"Land at Electrium Point, Forge Road, Willenhall, Walsall"},{"$f":"Calculations!C10","v":0.4},{"$f":"Calculations!G10","v":0},{"$f":"Calculations!O10","v":0},{"$f":"Calculations!P10","v":1},{"$f":"Calculations!U10","v":9.3536290341399986E-3},{"$f":"Calculations!X10","v":2.6353629034139996E-2},{"$f":"Calculations!AB10","v":4.1921844193247501E-2},0.4]
[{"$f":"Calculations!B11","v":182},{"$f":"Calculations!A11","v":"Aldridge Wyevale Garden Centre,  Chester Road, Aldridge, Walsall"},{"$f":"Calculations!C11","v":1.03},{"$f":"Calculations!G11","v":0},{"$f":"Calculations!O11","v":0},{"$f":"Calculations!P11","v":1},{"$f":"Calculations!U11","v":0},{"$f":"Calculations!X11","v":0},{"$f":"Calculations!AB11","v":0},1.03]
[{"$f":"Calculations!B12","v":180},{"$f":"Calculations!A12","v":"Land at Pennwood, Wolverhampton"},{"$f":"Calculations!C12","v":114.8},{"$f":"Calculations!G12","v":0},{"$f":"Calculations!O12","v":0},{"$f":"Calculations!P12","v":1},{"$f":"Calculations!U12","v":6.5801782875916986E-3},{"$f":"Calculations!X12","v":9.6986710128749137E-3},{"$f":"Calculations!AB12","v":2.8827102060900871E-2},114.8]
[{"$f":"Calculations!B13","v":179},{"$f":"Calculations!A13","v":"Turls Hill Drive "},{"$f":"Calculations!C13","v":0.82},{"$f":"Calculations!G13","v":0},{"$f":"Calculations!O13","v":0},{"$f":"Calculations!P13","v":1},{"$f":"Calculations!U13","v":0},{"$f":"Calculations!X13","v":0},{"$f":"Calculations!AB13","v":0},0.82]
[{"$f":"Calculations!B14","v":178},{"$f":"Calculations!A14","v":"Land west of foxcote farm, Oldnall Lane, Wollescote, Stourbridge"},{"$f":"Calculations!C14","v":6.87},{"$f":"Calculations!G14","v":0},{"$f":"Calculations!O14","v":0},{"$f":"Calculations!P14","v":1},{"$f":"Calculations!U14","v":"<1%"},{"$f":"Calculations!X14","v":4.4333670208042209E-3},{"$f":"Calculations!AB14","v":3.6114703927727802E-2},6.87]
[{"$f":"Calculations!B15","v":176},{"$f":"Calculations!A15","v":"263a Land adjacent to Sutton Road, Wzlsall"},{"$f":"Calculations!C15","v":11.92},{"$f":"Calculations!G15","v":0},{"$f":"Calculations!O15","v":0},{"$f":"Calculations!P15","v":1},{"$f":"Calculations!U15","v":7.978195825386494E-3},{"$f":"Calculations!X15","v":1.7879715023472399E-2},{"$f":"Calculations!AB15","v":8.0862175974270714E-2},11.92]
[{"$f":"Calculations!B16","v":175},{"$f":"Calculations!A16","v":"Land adjoining Bilston Street/Whites Drive, Dudley"},{"$f":"Calculations!C16","v":2.5},{"$f":"Calculations!G16","v":0},{"$f":"Calculations!O16","v":0},{"$f":"Calculations!P16","v":1},{"$f":"Calculations!U16","v":4.3474246878214801E-2},{"$f":"Calculations!X16","v":6.5851984590385201E-2},{"$f":"Calculations!AB16","v":0.10435928447871641},2.5]
[{"$f":"Calculations!B17","v":173},{"$f":"Calculations!A17","v":"Land at Little Aston Road, Aldridge."},{"$f":"Calculations!C17","v":7.8},{"$f":"Calculations!G17","v":0},{"$f":"Calculations!O17","v":0},{"$f":"Calculations!P17","v":1},{"$f":"Calculations!U17","v":0},{"$f":"Calculations!X17","v":0},{"$f":"Calculations!AB17","v":0},7.8]
[{"$f":"Calculations!B18","v":172},{"$f":"Calculations!A18","v":"Land at Chester Road, Streetly, Walsall"},{"$f":"Calculations!C18","v":25.6},{"$f":"Calculations!G18","v":0},{"$f":"Calculations!O18","v":0},{"$f":"Calculations!P18","v":1},{"$f":"Calculations!U18","v":9.3014089843855077E-3},{"$f":"Calculations!X18","v":5.0386110253494924E-2},{"$f":"Calculations!AB18","v":0.2420922438663953},25.6]
[{"$f":"Calculations!B19","v":171},{"$f":"Calculations!A19","v":"Swindon Road/Enville Road, Wall Heath, Kingswinford"},{"$f":"Calculations!C19","v":26},{"$f":"Calculations!G19","v":0},{"$f":"Calculations!O19","v":"<1%"},{"$f":"Calculations!P19","v":0.99961538461538457},{"$f":"Calculations!U19","v":5.5679764495542303E-3},{"$f":"Calculations!X19","v":2.2121182584426843E-2},{"$f":"Calculations!AB19","v":4.899217762700038E-2},25.99]
[{"$f":"Calculations!B20","v":169},{"$f":"Calculations!A20","v":"Watery Lane, Wordsley, Stourbridge"},{"$f":"Calculations!C20","v":0.9},{"$f":"Calculations!G20","v":4.4444444444444446E-2},{"$f":"Calculations!O20","v":5.5555555555555559E-2},{"$f":"Calculations!P20","v":0.94444444444444442},{"$f":"Calculations!U20","v":1.0788388280648887E-2},{"$f":"Calculations!X20","v":3.8648105933104443E-2},{"$f":"Calculations!AB20","v":5.193457803760667E-2},0.85]
[{"$f":"Calculations!B21","v":169},{"$f":"Calculations!A21","v":"Watery Lane, Wordsley, Stourbridge"},{"$f":"Calculations!C21","v":0.9},{"$f":"Calculations!G21","v":2.2222222222222223E-2},{"$f":"Calculations!O21","v":2.2222222222222223E-2},{"$f":"Calculations!P21","v":0.97777777777777775},{"$f":"Calculations!U21","v":0},{"$f":"Calculations!X21","v":9.9970639167555556E-3},{"$f":"Calculations!AB21","v":2.6469106010513332E-2},0.88]
[{"$f":"Calculations!B22","v":164},{"$f":"Calculations!A22","v":"Skip Lane Walsall"},{"$f":"Calculations!C22","v":5.85},{"$f":"Calculations!G22","v":0},{"$f":"Calculations!O22","v":0},{"$f":"Calculations!P22","v":1},{"$f":"Calculations!U22","v":1.4894291119571282E-2},{"$f":"Calculations!X22","v":1.9965643359239147E-2},{"$f":"Calculations!AB22","v":3.6254284846227523E-2},5.85]
[{"$f":"Calculations!B23","v":163},{"$f":"Calculations!A23","v":"Skip Lane Walsall"},{"$f":"Calculations!C23","v":2.35},{"$f":"Calculations!G23","v":0},{"$f":"Calculations!O23","v":0},{"$f":"Calculations!P23","v":1},{"$f":"Calculations!U23","v":"<1%"},{"$f":"Calculations!X23","v":5.4301611399748938E-3},{"$f":"Calculations!AB23","v":2.6235267872185532E-2},2.35]
[{"$f":"Calculations!B24","v":162},{"$f":"Calculations!A24","v":"Land north of Stonnall Road, Aldridge, Walsall"},{"$f":"Calculations!C24","v":13.9},{"$f":"Calculations!G24","v":0},{"$f":"Calculations!O24","v":0},{"$f":"Calculations!P24","v":1},{"$f":"Calculations!U24","v":8.7918014568991367E-3},{"$f":"Calculations!X24","v":1.3309532750603524E-2},{"$f":"Calculations!AB24","v":6.3414265417205254E-2},13.9]
[{"$f":"Calculations!B25","v":152},{"$f":"Calculations!A25","v":"Land at Yorks Bridge, Lichfield Road, Pelsall, Walsall"},{"$f":"Calculations!C25","v":21},{"$f":"Calculations!G25","v":0},{"$f":"Calculations!O25","v":0},{"$f":"Calculations!P25","v":1},{"$f":"Calculations!U25","v":9.9239213609286659E-3},{"$f":"Calculations!X25","v":1.8539765464874475E-2},{"$f":"Calculations!AB25","v":5.1322731204539999E-2},21]
[{"$f":"Calculations!B26","v":151},{"$f":"Calculations!A26","v":"Former Goodyear Factory, Bushbury Lane/Stafford Road, Wolverhampton"},{"$f":"Calculations!C26","v":7.87},{"$f":"Calculations!G26","v":0},{"$f":"Calculations!O26","v":0},{"$f":"Calculations!P26","v":1},{"$f":"Calculations!U26","v":2.0330368487928845E-2},{"$f":"Calculations!X26","v":5.46384260247742E-2},{"$f":"Calculations!AB26","v":0.14245550125945872},7.87]
[{"$f":"Calculations!B27","v":150},{"$f":"Calculations!A27","v":"Land north of Mucklow Hill, Coombswood, Dudley"},{"$f":"Calculations!C27","v":35.200000000000003},{"$f":"Calculations!G27","v":0},{"$f":"Calculations!O27","v":0},{"$f":"Calculations!P27","v":1},{"$f":"Calculations!U27","v":1.4039386143728749E-2},{"$f":"Calculations!X27","v":2.254041267764011E-2},{"$f":"Calculations!AB27","v":9.0298698546428677E-2},35.200000000000003]
[{"$f":"Calculations!B28","v":149},{"$f":"Calculations!A28","v":"Land at Birchley Island, Junction 2 of M5, Oldbury, Sandwell"},{"$f":"Calculations!C28","v":1},{"$f":"Calculations!G28","v":0},{"$f":"Calculations!O28","v":0},{"$f":"Calculations!P28","v":1},{"$f":"Calculations!U28","v":0},{"$f":"Calculations!X28","v":1.5357863494382E-2},{"$f":"Calculations!AB28","v":0.12720612624830299},1]
[{"$f":"Calculations!B29","v":148},{"$f":"Calculations!A29","v":"Land at King Hays Farm, Off Walsall Wood Road, Walsall"},{"$f":"Calculations!C29","v":8.5},{"$f":"Calculations!G29","v":0},{"$f":"Calculations!O29","v":0},{"$f":"Calculations!P29","v":1},{"$f":"Calculations!U29","v":2.2845728288266587E-2},{"$f":"Calculations!X29","v":5.699677800128259E-2},{"$f":"Calculations!AB29","v":0.2971858811406306},8.5]
[{"$f":"Calculations!B30","v":147},{"$f":"Calculations!A30","v":"Land Off Viewfield Crescent, Dudley"},{"$f":"Calculations!C30","v":1.56},{"$f":"Calculations!G30","v":0},{"$f":"Calculations!O30","v":0},{"$f":"Calculations!P30","v":1},{"$f":"Calculations!U30","v":0},{"$f":"Calculations!X30","v":0},{"$f":"Calculations!AB30","v":5.0809132124544874E-3},1.56]
[{"$f":"Calculations!B31","v":131},{"$f":"Calculations!A31","v":"Home Farm, Sandhills, Walsall Wood, Walsall, West Midlands"},{"$f":"Calculations!C31","v":84.55},{"$f":"Calculations!G31","v":0},{"$f":"Calculations!O31","v":0},{"$f":"Calculations!P31","v":1},{"$f":"Calculations!U31","v":2.3519213475369366E-2},{"$f":"Calculations!X31","v":5.8084703197396691E-2},{"$f":"Calculations!AB31","v":0.24842392939526434},84.55]
[{"$f":"Calculations!B32","v":137},{"$f":"Calculations!A32","v":"Land east of Ounty John Lane, Pedmore, Stourbridge"},{"$f":"Calculations!C32","v":1.2},{"$f":"Calculations!G32","v":0},{"$f":"Calculations!O32","v":0},{"$f":"Calculations!P32","v":1},{"$f":"Calculations!U32","v":0},{"$f":"Calculations!X32","v":0},{"$f":"Calculations!AB32","v":0},1.2]
[{"$f":"Calculations!B33","v":135},{"$f":"Calculations!A33","v":"Darlaston Road, Willenhall"},{"$f":"Calculations!C33","v":1.31},{"$f":"Calculations!G33","v":0.34351145038167941},{"$f":"Calculations!O33","v":0.65648854961832059},{"$f":"Calculations!P33","v":0.34351145038167941},{"$f":"Calculations!U33","v":0.11876813547750992},{"$f":"Calculations!X33","v":0.21184904265650992},{"$f":"Calculations!AB33","v":0.5690790620937114},0.45000000000000007]
[{"$f":"Calculations!B34","v":134},{"$f":"Calculations!A34","v":"Former Junction Works, Cemetery Road, Darlaston, Walsall"},{"$f":"Calculations!C34","v":1.31},{"$f":"Calculations!G34","v":0.49618320610687022},{"$f":"Calculations!O34","v":0.51908396946564883},{"$f":"Calculations!P34","v":0.48091603053435117},{"$f":"Calculations!U34","v":0},{"$f":"Calculations!X34","v":0},{"$f":"Calculations!AB34","v":0.1192966006423313},{"$f":"C43*F43","v":0.63}]
[{"$f":"Calculations!B35","v":133},{"$f":"Calculations!A35","v":"Former Goscote Lane Copper Works, Goscote Lane, Walsall"},{"$f":"Calculations!C35","v":8.92},{"$f":"Calculations!G35","v":0},{"$f":"Calculations!O35","v":0},{"$f":"Calculations!P35","v":1},{"$f":"Calculations!U35","v":"<1%"},{"$f":"Calculations!X35","v":1.1273497124869731E-2},{"$f":"Calculations!AB35","v":5.060969797138587E-2},8.92]
[{"$f":"Calculations!B36","v":132},{"$f":"Calculations!A36","v":"Former Deeling Castings, Leamore Lane, Bloxwich, Walsall"},{"$f":"Calculations!C36","v":2.54},{"$f":"Calculations!G36","v":0},{"$f":"Calculations!O36","v":0},{"$f":"Calculations!P36","v":1},{"$f":"Calculations!U36","v":7.0527494883232279E-3},{"$f":"Calculations!X36","v":1.8120137635976377E-2},{"$f":"Calculations!AB36","v":8.5519602634316141E-2},2.54]
[{"$f":"Calculations!B37","v":126},{"$f":"Calculations!A37","v":"Brownhills Business Park, Lindon Road, Walsall"},{"$f":"Calculations!C37","v":2.59},{"$f":"Calculations!G37","v":0},{"$f":"Calculations!O37","v":0},{"$f":"Calculations!P37","v":1},{"$f":"Calculations!U37","v":"<1%"},{"$f":"Calculations!X37","v":3.0965603278406952E-2},{"$f":"Calculations!AB37","v":9.2100718925427427E-2},2.59]
[{"$f":"Calculations!B38","v":125},{"$f":"Calculations!A38","v":"Land at Stencils Farm, Aldridge Road (A454), Walsall"},{"$f":"Calculations!C38","v":37},{"$f":"Calculations!G38","v":0},{"$f":"Calculations!O38","v":0},{"$f":"Calculations!P38","v":1},{"$f":"Calculations!U38","v":9.0911701230555943E-3},{"$f":"Calculations!X38","v":1.5616532028926216E-2},{"$f":"Calculations!AB38","v":6.3980898617328918E-2},37]
[{"$f":"Calculations!B39","v":124},{"$f":"Calculations!A39","v":"Land at Coneygre, Newcomen Drive, Sandwell"},{"$f":"Calculations!C39","v":9.16},{"$f":"Calculations!G39","v":0},{"$f":"Calculations!O39","v":0},{"$f":"Calculations!P39","v":1},{"$f":"Calculations!U39","v":1.0217925017079367E-2},{"$f":"Calculations!X39","v":2.1694227306412447E-2},{"$f":"Calculations!AB39","v":7.3466784130529039E-2},9.16]
[{"$f":"Calculations!B40","v":120},{"$f":"Calculations!A40","v":"Land off Heath Road, Darlaston, Walsall"},{"$f":"Calculations!C40","v":0.13},{"$f":"Calculations!G40","v":0},{"$f":"Calculations!O40","v":0},{"$f":"Calculations!P40","v":1},{"$f":"Calculations!U40","v":0},{"$f":"Calculations!X40","v":0.11637286854995385},{"$f":"Calculations!AB40","v":0.29444783510534617},0.13]
[{"$f":"Calculations!B41","v":118},{"$f":"Calculations!A41","v":"Land at Bosty Lane, Aldridge, Walsall."},{"$f":"Calculations!C41","v":37},{"$f":"Calculations!G41","v":0},{"$f":"Calculations!O41","v":0},{"$f":"Calculations!P41","v":1},{"$f":"Calculations!U41","v":1.3798289312122241E-2},{"$f":"Calculations!X41","v":2.1523137711074003E-2},{"$f":"Calculations!AB41","v":5.117696377996054E-2},37]
[{"$f":"Calculations!B42","v":116},{"$f":"Calculations!A42","v":"Columba Park, Land at Queslett Road/ Aldridge Road, Walsall"},{"$f":"Calculations!C42","v":82},{"$f":"Calculations!G42","v":0},{"$f":"Calculations!O42","v":0},{"$f":"Calculations!P42","v":1},{"$f":"Calculations!U42","v":"<1%"},{"$f":"Calculations!X42","v":2.6254460931437926E-3},{"$f":"Calculations!AB42","v":2.6723309132022314E-2},82]
[{"$f":"Calculations!B43","v":129},{"$f":"Calculations!A43","v":"Land north of Park Hall Road, Walsall"},{"$f":"Calculations!C43","v":16},{"$f":"Calculations!G43","v":0},{"$f":"Calculations!O43","v":0},{"$f":"Calculations!P43","v":1},{"$f":"Calculations!U43","v":"<1%"},{"$f":"Calculations!X43","v":3.6652628869613749E-3},{"$f":"Calculations!AB43","v":1.3158642160546812E-2},16]
[{"$f":"Calculations!B44","v":208},{"$f":"Calculations!A44","v":"Land adjacent to Barr Common Road, Aldridge"},{"$f":"Calculations!C44","v":2.16},{"$f":"Calculations!G44","v":0},{"$f":"Calculations!O44","v":0},{"$f":"Calculations!P44","v":1},{"$f":"Calculations!U44","v":3.0868064249064815E-2},{"$f":"Calculations!X44","v":5.3768874761468057E-2},{"$f":"Calculations!AB44","v":0.28245924682669027},2.16]
[{"$f":"Calculations!B45","v":130},{"$f":"Calculations!A45","v":"Land at Heathfield Lane West, Darlaston"},{"$f":"Calculations!C45","v":7.4},{"$f":"Calculations!G45","v":1.2162162162162161E-2},{"$f":"Calculations!O45","v":0.12027027027027026},{"$f":"Calculations!P45","v":0.87972972972972974},{"$f":"Calculations!U45","v":0},{"$f":"Calculations!X45","v":5.6081079277699999E-3},{"$f":"Calculations!AB45","v":5.6106067367211757E-2},6.5100000000000007]
[{"$f":"Calculations!B46","v":114},{"$f":"Calculations!A46","v":"Racecourse Lane, Stourbridge"},{"$f":"Calculations!C46","v":38},{"$f":"Calculations!G46","v":0},{"$f":"Calculations!O46","v":0},{"$f":"Calculations!P46","v":1},{"$f":"Calculations!U46","v":1.1222548630798973E-2},{"$f":"Calculations!X46","v":2.0928456831597105E-2},{"$f":"Calculations!AB46","v":5.0473072955990524E-2},38]
[{"$f":"Calculations!B47","v":114},{"$f":"Calculations!A47","v":"Racecourse Lane, Stourbridge"},{"$f":"Calculations!C47","v":18.47},{"$f":"Calculations!G47","v":0},{"$f":"Calculations!O47","v":0},{"$f":"Calculations!P47","v":1},{"$f":"Calculations!U47","v":2.5731086718822252E-2},{"$f":"Calculations!X47","v":4.6873137800077479E-2},{"$f":"Calculations!AB47","v":0.11863846060136059},18.47]
[{"$f":"Calculations!B48","v":114},{"$f":"Calculations!A48","v":"Racecourse Lane, Stourbridge"},{"$f":"Calculations!C48","v":167.46},{"$f":"Calculations!G48","v":0},{"$f":"Calculations!O48","v":0},{"$f":"Calculations!P48","v":1},{"$f":"Calculations!U48","v":"<1%"},{"$f":"Calculations!X48","v":1.4134885305514212E-3},{"$f":"Calculations!AB48","v":8.0315928758416932E-3},167.46]
[{"$f":"Calculations!B49","v":50},{"$f":"Calculations!A49","v":"Site B, Land off Worceter Lane, Stourbridge"},{"$f":"Calculations!C49","v":2.29},{"$f":"Calculations!G49","v":0},{"$f":"Calculations!O49","v":0},{"$f":"Calculations!P49","v":1},{"$f":"Calculations!U49","v":0},{"$f":"Calculations!X49","v":0},{"$f":"Calculations!AB49","v":0},2.29]
[{"$f":"Calculations!B50","v":50},{"$f":"Calculations!A50","v":"Site A, Land off Worceter Lane, Stourbridge"},{"$f":"Calculations!C50","v":0.61},{"$f":"Calculations!G50","v":0},{"$f":"Calculations!O50","v":0},{"$f":"Calculations!P50","v":1},{"$f":"Calculations!U50","v":7.4230058833426232E-2},{"$f":"Calculations!X50","v":0.11480569992854754},{"$f":"Calculations!AB50","v":0.18657269231478363},0.61]
[{"$f":"Calculations!B51","v":64},{"$f":"Calculations!A51","v":"Land at Codsall Road, Wolverhampton"},{"$f":"Calculations!C51","v":0.8},{"$f":"Calculations!G51","v":0},{"$f":"Calculations!O51","v":0},{"$f":"Calculations!P51","v":1},{"$f":"Calculations!U51","v":0},{"$f":"Calculations!X51","v":0},{"$f":"Calculations!AB51","v":0},0.8]
[{"$f":"Calculations!B52","v":23},{"$f":"Calculations!A52","v":"Wildside Activity Centre, Horden Road, Wolverhampton"},{"$f":"Calculations!C52","v":0.18},{"$f":"Calculations!G52","v":5.5555555555555559E-2},{"$f":"Calculations!O52","v":0.72222222222222232},{"$f":"Calculations!P52","v":0.27777777777777768},{"$f":"Calculations!U52","v":0},{"$f":"Calculations!X52","v":0},{"$f":"Calculations!AB52","v":0},4.9999999999999982E-2]
[{"$f":"Calculations!B53","v":61},{"$f":"Calculations!A53","v":"City of Wolverhampton College and associated alnd to the rear, Padget Road, Wolverhampton"},{"$f":"Calculations!C53","v":7.4},{"$f":"Calculations!G53","v":0},{"$f":"Calculations!O53","v":0},{"$f":"Calculations!P53","v":1},{"$f":"Calculations!U53","v":0},{"$f":"Calculations!X53","v":0},{"$f":"Calculations!AB53","v":2.4239382596783782E-3},7.4]
[{"$f":"Calculations!B54","v":106},{"$f":"Calculations!A54","v":"Land at Yieldsfarm, Stafford Road, north of Bloxwich"},{"$f":"Calculations!C54","v":122},{"$f":"Calculations!G54","v":0},{"$f":"Calculations!O54","v":0},{"$f":"Calculations!P54","v":1},{"$f":"Calculations!U54","v":8.4983762683378677E-3},{"$f":"Calculations!X54","v":1.3095728334633934E-2},{"$f":"Calculations!AB54","v":3.136736306420828E-2},122]
[{"$f":"Calculations!B55","v":105},{"$f":"Calculations!A55","v":"Land at former Caparo Works, Walsall"},{"$f":"Calculations!C55","v":6.67},{"$f":"Calculations!G55","v":0},{"$f":"Calculations!O55","v":0},{"$f":"Calculations!P55","v":1},{"$f":"Calculations!U55","v":"<1%"},{"$f":"Calculations!X55","v":2.0202043383857572E-3},{"$f":"Calculations!AB55","v":1.2661789777973463E-2},6.67]
[{"$f":"Calculations!B56","v":70},{"$f":"Calculations!A56","v":"Land at Former Goscote Hospital, Goscote Lane, Walsall"},{"$f":"Calculations!C56","v":2},{"$f":"Calculations!G56","v":0},{"$f":"Calculations!O56","v":0},{"$f":"Calculations!P56","v":1},{"$f":"Calculations!U56","v":6.7799999999999999E-2},{"$f":"Calculations!X56","v":8.2799999999999999E-2},{"$f":"Calculations!AB56","v":0.1786801721036905},2]
[{"$f":"Calculations!B57","v":107},{"$f":"Calculations!A57","v":"Land to the East and West of Chester Road, Hardwick, Walsall"},{"$f":"Calculations!C57","v":23.6},{"$f":"Calculations!G57","v":0},{"$f":"Calculations!O57","v":0},{"$f":"Calculations!P57","v":1},{"$f":"Calculations!U57","v":5.5809921163858045E-3},{"$f":"Calculations!X57","v":1.1789285688171228E-2},{"$f":"Calculations!AB57","v":2.3677370494783898E-2},23.6]
[{"$f":"Calculations!B58","v":107},{"$f":"Calculations!A58","v":"Land to the East and West of Chester Road, Hardwick, Walsall"},{"$f":"Calculations!C58","v":23.6},{"$f":"Calculations!G58","v":0},{"$f":"Calculations!O58","v":0},{"$f":"Calculations!P58","v":1},{"$f":"Calculations!U58","v":1.0374732972728262E-2},{"$f":"Calculations!X58","v":4.6467827720774152E-2},{"$f":"Calculations!AB58","v":0.12691255346192584},23.6]
[{"$f":"Calculations!B59","v":46},{"$f":"Calculations!A59","v":"Land on the East side of Chester Road, Aldridge"},{"$f":"Calculations!C59","v":4.99},{"$f":"Calculations!G59","v":0},{"$f":"Calculations!O59","v":0},{"$f":"Calculations!P59","v":1},{"$f":"Calculations!U59","v":0},{"$f":"Calculations!X59","v":0},{"$f":"Calculations!AB59","v":3.4333858913676747E-2},4.99]
[{"$f":"Calculations!B60","v":67},{"$f":"Calculations!A60","v":"Land to the north of Lapal Lane South, Halesowen"},{"$f":"Calculations!C60","v":14.7},{"$f":"Calculations!G60","v":0},{"$f":"Calculations!O60","v":0},{"$f":"Calculations!P60","v":1},{"$f":"Calculations!U60","v":"<1%"},{"$f":"Calculations!X60","v":5.156500436067143E-3},{"$f":"Calculations!AB60","v":2.7922502712492178E-2},14.7]
[{"$f":"Calculations!B61","v":39},{"$f":"Calculations!A61","v":"Lye Close Lane, Halesowen"},{"$f":"Calculations!C61","v":1.24},{"$f":"Calculations!G61","v":0},{"$f":"Calculations!O61","v":0},{"$f":"Calculations!P61","v":1},{"$f":"Calculations!U61","v":0},{"$f":"Calculations!X61","v":0},{"$f":"Calculations!AB61","v":0},1.24]
[{"$f":"Calculations!B62","v":111},{"$f":"Calculations!A62","v":"Holbeache Lane/Wolverhampton Road, Kingswinford"},{"$f":"Calculations!C62","v":14.8},{"$f":"Calculations!G62","v":0},{"$f":"Calculations!O62","v":0},{"$f":"Calculations!P62","v":1},{"$f":"Calculations!U62","v":"<1%"},{"$f":"Calculations!X62","v":1.3324324324324323E-2},{"$f":"Calculations!AB62","v":4.1219776676759183E-2},14.8]
[{"$f":"Calculations!B63","v":56},{"$f":"Calculations!A63","v":"Land south west side of Lapel lane South, Halesowen"},{"$f":"Calculations!C63","v":0.71},{"$f":"Calculations!G63","v":0},{"$f":"Calculations!O63","v":0},{"$f":"Calculations!P63","v":1},{"$f":"Calculations!U63","v":0.1312366051334676},{"$f":"Calculations!X63","v":0.26083412622468172},{"$f":"Calculations!AB63","v":0.47364970666174511},0.71]
[{"$f":"Calculations!B64","v":60},{"$f":"Calculations!A64","v":"Land at Highfields, Walsall Road, Walsall Wood"},{"$f":"Calculations!C64","v":4.0999999999999996},{"$f":"Calculations!G64","v":0},{"$f":"Calculations!O64","v":0},{"$f":"Calculations!P64","v":1},{"$f":"Calculations!U64","v":1.2377440022126342E-2},{"$f":"Calculations!X64","v":2.880708159210171E-2},{"$f":"Calculations!AB64","v":0.11539427609538806},4.0999999999999996]
[{"$f":"Calculations!B65","v":68},{"$f":"Calculations!A65","v":"Former MEB site, Bull Street"},{"$f":"Calculations!C65","v":2.06},{"$f":"Calculations!G65","v":0},{"$f":"Calculations!O65","v":0},{"$f":"Calculations!P65","v":1},{"$f":"Calculations!U65","v":1.108933939030534E-2},{"$f":"Calculations!X65","v":1.4693024137618447E-2},{"$f":"Calculations!AB65","v":5.9886592733836404E-2},2.06]
[{"$f":"Calculations!B66","v":74},{"$f":"Calculations!A66","v":"Land off 385 Penn Road, Wolverhampton"},{"$f":"Calculations!C66","v":2.8},{"$f":"Calculations!G66","v":0},{"$f":"Calculations!O66","v":0},{"$f":"Calculations!P66","v":1},{"$f":"Calculations!U66","v":0},{"$f":"Calculations!X66","v":0},{"$f":"Calculations!AB66","v":0},{"$f":"C75*F75","v":2.8}]
[{"$f":"Calculations!B67","v":76},{"$f":"Calculations!A67","v":"Wightwick Mill Field, Land south of Bridgnorth Road, Compton, Wolverhampton"},{"$f":"Calculations!C67","v":2.7},{"$f":"Calculations!G67","v":0.41111111111111109},{"$f":"Calculations!O67","v":0.72592592592592586},{"$f":"Calculations!P67","v":0.27407407407407414},{"$f":"Calculations!U67","v":0.11217672848337519},{"$f":"Calculations!X67","v":0.20338195179177779},{"$f":"Calculations!AB67","v":0.6925551591075777},0.74000000000000021]
[{"$f":"Calculations!B68","v":66},{"$f":"Calculations!A68","v":"Cookley Works, Leys Road, Brockmoor, Brierley Hill"},{"$f":"Calculations!C68","v":3},{"$f":"Calculations!G68","v":0},{"$f":"Calculations!O68","v":0},{"$f":"Calculations!P68","v":1},{"$f":"Calculations!U68","v":0},{"$f":"Calculations!X68","v":7.4233047919733343E-4},{"$f":"Calculations!AB68","v":2.1455179558199668E-2},3]
[{"$f":"Calculations!B69","v":57},{"$f":"Calculations!A69","v":"Field at Woodsetton, Adj to Tipton Road/Setton Drive, Sedgley"},{"$f":"Calculations!C69","v":2},{"$f":"Calculations!G69","v":0},{"$f":"Calculations!O69","v":0},{"$f":"Calculations!P69","v":1},{"$f":"Calculations!U69","v":0},{"$f":"Calculations!X69","v":0},{"$f":"Calculations!AB69","v":7.4068075672575001E-3},2]
[{"$f":"Calculations!B70","v":59},{"$f":"Calculations!A70","v":"Land to rear of City of Wolverhampton College, Compton Park, Wolverhampton"},{"$f":"Calculations!C70","v":3.9},{"$f":"Calculations!G70","v":0},{"$f":"Calculations!O70","v":0},{"$f":"Calculations!P70","v":1},{"$f":"Calculations!U70","v":"<1%"},{"$f":"Calculations!X70","v":4.3624765224697442E-3},{"$f":"Calculations!AB70","v":1.0758127284097436E-2},3.9]
[{"$f":"Calculations!B71","v":58},{"$f":"Calculations!A71","v":"City of Wolverhampton College, Padget Road, Wolverhampton"},{"$f":"Calculations!C71","v":3.35},{"$f":"Calculations!G71","v":0},{"$f":"Calculations!O71","v":0},{"$f":"Calculations!P71","v":1},{"$f":"Calculations!U71","v":0},{"$f":"Calculations!X71","v":3.8208955223880598E-3},{"$f":"Calculations!AB71","v":1.408955223880597E-2},3.35]
[{"$f":"Calculations!B72","v":40},{"$f":"Calculations!A72","v":"land at Tanhouse Avenue, Great Barr"},{"$f":"Calculations!C72","v":2.5099999999999998},{"$f":"Calculations!G72","v":0},{"$f":"Calculations!O72","v":0},{"$f":"Calculations!P72","v":1},{"$f":"Calculations!U72","v":0},{"$f":"Calculations!X72","v":1.1457609561868526E-3},{"$f":"Calculations!AB72","v":0.14627390215200956},2.5099999999999998]
[{"$f":"Calculations!B73","v":45},{"$f":"Calculations!A73","v":"Old Farm, Norton Road, Norton, Stourbridge"},{"$f":"Calculations!C73","v":1.04},{"$f":"Calculations!G73","v":0},{"$f":"Calculations!O73","v":0},{"$f":"Calculations!P73","v":1},{"$f":"Calculations!U73","v":2.6538461538461539E-2},{"$f":"Calculations!X73","v":4.0232358010581733E-2},{"$f":"Calculations!AB73","v":8.7842549679310572E-2},1.04]
[{"$f":"Calculations!B74","v":18},{"$f":"Calculations!A74","v":"Clothier Street, Willenhall"},{"$f":"Calculations!C74","v":0.5},{"$f":"Calculations!G74","v":0},{"$f":"Calculations!O74","v":0},{"$f":"Calculations!P74","v":1},{"$f":"Calculations!U74","v":0},{"$f":"Calculations!X74","v":0},{"$f":"Calculations!AB74","v":5.0728607145484002E-2},0.5]
[{"$f":"Calculations!B75","v":24},{"$f":"Calculations!A75","v":"Ketley Quarry, Dudley Road, Kingswinford"},{"$f":"Calculations!C75","v":20.81},{"$f":"Calculations!G75","v":0},{"$f":"Calculations!O75","v":0},{"$f":"Calculations!P75","v":1},{"$f":"Calculations!U75","v":3.807981067455992E-2},{"$f":"Calculations!X75","v":5.8847999155155213E-2},{"$f":"Calculations!AB75","v":0.11803354967681308},20.81]
[{"$f":"Calculations!B76","v":26},{"$f":"Calculations!A76","v":"Land north and South of Himley Road, Himley, Dudley"},{"$f":"Calculations!C76","v":8.02},{"$f":"Calculations!G76","v":4.488778054862843E-2},{"$f":"Calculations!O76","v":6.4837905236907731E-2},{"$f":"Calculations!P76","v":0.93516209476309231},{"$f":"Calculations!U76","v":7.0205642596958245E-2},{"$f":"Calculations!X76","v":0.12422870056392632},{"$f":"Calculations!AB76","v":0.26346050615280547},7.5]
[{"$f":"Calculations!B77","v":26},{"$f":"Calculations!A77","v":"Land north and South of Himley Road, Himley, Dudley"},{"$f":"Calculations!C77","v":17.440000000000001},{"$f":"Calculations!G77","v":3.6123853211009173E-2},{"$f":"Calculations!O77","v":4.5871559633027525E-2},{"$f":"Calculations!P77","v":0.95412844036697253},{"$f":"Calculations!U77","v":6.137001556493004E-2},{"$f":"Calculations!X77","v":9.9018101730387026E-2},{"$f":"Calculations!AB77","v":0.18334618326636007},16.64]
[{"$f":"Calculations!B78","v":44},{"$f":"Calculations!A78","v":"Land at Wilderness Lane/Greenhill Gardens, Great Barr"},{"$f":"Calculations!C78","v":2.8},{"$f":"Calculations!G78","v":0},{"$f":"Calculations!O78","v":0},{"$f":"Calculations!P78","v":1},{"$f":"Calculations!U78","v":"<1%"},{"$f":"Calculations!X78","v":7.6385311131428584E-3},{"$f":"Calculations!AB78","v":9.4924309086590358E-2},2.8]
[{"$f":"Calculations!B79","v":47},{"$f":"Calculations!A79","v":"Grassy Lane, Wolverhampton"},{"$f":"Calculations!C79","v":2.38},{"$f":"Calculations!G79","v":0},{"$f":"Calculations!O79","v":0},{"$f":"Calculations!P79","v":1},{"$f":"Calculations!U79","v":3.2197335066827731E-2},{"$f":"Calculations!X79","v":7.6367337561035711E-2},{"$f":"Calculations!AB79","v":0.23896143047394078},2.38]
[{"$f":"Calculations!B80","v":48},{"$f":"Calculations!A80","v":"Land north of Vicarage Road, Amblecote, Stourbridge"},{"$f":"Calculations!C80","v":5.72},{"$f":"Calculations!G80","v":0},{"$f":"Calculations!O80","v":0},{"$f":"Calculations!P80","v":1},{"$f":"Calculations!U80","v":2.9790209790209791E-2},{"$f":"Calculations!X80","v":3.6363636363636362E-2},{"$f":"Calculations!AB80","v":6.4451771464670973E-2},5.72]
[{"$f":"Calculations!B81","v":49},{"$f":"Calculations!A81","v":"237 Watling Street, Brownhills, Walsall"},{"$f":"Calculations!C81","v":6},{"$f":"Calculations!G81","v":0},{"$f":"Calculations!O81","v":0},{"$f":"Calculations!P81","v":1},{"$f":"Calculations!U81","v":0},{"$f":"Calculations!X81","v":0},{"$f":"Calculations!AB81","v":1.9952171666702833E-2},6]
[{"$f":"Calculations!B82","v":54},{"$f":"Calculations!A82","v":"Land rear of Greenhill Road, Halesowen"},{"$f":"Calculations!C82","v":1},{"$f":"Calculations!G82","v":0},{"$f":"Calculations!O82","v":0},{"$f":"Calculations!P82","v":1},{"$f":"Calculations!U82","v":0},{"$f":"Calculations!X82","v":9.3813139531540007E-3},{"$f":"Calculations!AB82","v":4.8955487754203997E-2},1]
[{"$f":"Calculations!B83","v":93},{"$f":"Calculations!A83","v":"Land off Overend Road, Cradley Heath Business Park, Cradley Heath"},{"$f":"Calculations!C83","v":3.01},{"$f":"Calculations!G83","v":0},{"$f":"Calculations!O83","v":0},{"$f":"Calculations!P83","v":1},{"$f":"Calculations!U83","v":"<1%"},{"$f":"Calculations!X83","v":1.9098366378382726E-2},{"$f":"Calculations!AB83","v":5.8740515621448171E-2},3.01]
[{"$f":"Calculations!B84","v":102},{"$f":"Calculations!A84","v":"Land off Sutton Road, Longwood Lane, Walsall"},{"$f":"Calculations!C84","v":11.92},{"$f":"Calculations!G84","v":0},{"$f":"Calculations!O84","v":0},{"$f":"Calculations!P84","v":1},{"$f":"Calculations!U84","v":2.5330856879277185E-2},{"$f":"Calculations!X84","v":6.6294565431101765E-2},{"$f":"Calculations!AB84","v":0.24066279963389348},11.92]
[{"$f":"Calculations!B85","v":103},{"$f":"Calculations!A85","v":"Land off Bromwich Lane, Pedmore, Dudley"},{"$f":"Calculations!C85","v":4.24},{"$f":"Calculations!G85","v":0},{"$f":"Calculations!O85","v":0},{"$f":"Calculations!P85","v":1},{"$f":"Calculations!U85","v":0},{"$f":"Calculations!X85","v":3.6792452830188677E-3},{"$f":"Calculations!AB85","v":3.1158679186549763E-2},4.24]
[{"$f":"Calculations!B86","v":112},{"$f":"Calculations!A86","v":"Middlemore Lane West, Aldridge"},{"$f":"Calculations!C86","v":1.46},{"$f":"Calculations!G86","v":0},{"$f":"Calculations!O86","v":0},{"$f":"Calculations!P86","v":1},{"$f":"Calculations!U86","v":0},{"$f":"Calculations!X86","v":0},{"$f":"Calculations!AB86","v":0},1.46]
[{"$f":"Calculations!B87","v":113},{"$f":"Calculations!A87","v":"30 Gorge Road, Sedgley"},{"$f":"Calculations!C87","v":0.37},{"$f":"Calculations!G87","v":0},{"$f":"Calculations!O87","v":0},{"$f":"Calculations!P87","v":1},{"$f":"Calculations!U87","v":"<1%"},{"$f":"Calculations!X87","v":7.6224716920810821E-4},{"$f":"Calculations!AB87","v":6.2495869528108108E-3},0.37]
[{"$f":"Calculations!B88","v":197},{"$f":"Calculations!A88","v":"Wolverhampton North SUE"},{"$f":"Calculations!C88","v":54.3},{"$f":"Calculations!G88","v":1.6390423572744017E-2},{"$f":"Calculations!O88","v":1.8784530386740331E-2},{"$f":"Calculations!P88","v":0.98121546961325967},{"$f":"Calculations!U88","v":"<1%"},{"$f":"Calculations!X88","v":1.4697296797199227E-2},{"$f":"Calculations!AB88","v":2.241666767922431E-2},53.279999999999994]
[{"$f":"Calculations!B89","v":197},{"$f":"Calculations!A89","v":"Wolverhampton North SUE"},{"$f":"Calculations!C89","v":34.79},{"$f":"Calculations!G89","v":3.6504742742167293E-2},{"$f":"Calculations!O89","v":4.627766599597586E-2},{"$f":"Calculations!P89","v":0.95372233400402417},{"$f":"Calculations!U89","v":1.8034535501767032E-2},{"$f":"Calculations!X89","v":3.5773988968612246E-2},{"$f":"Calculations!AB89","v":6.205628781665163E-2},33.18]
[{"$f":"Calculations!B90","v":197},{"$f":"Calculations!A90","v":"Wolverhampton North SUE"},{"$f":"Calculations!C90","v":99.23},{"$f":"Calculations!G90","v":2.0155195001511639E-4},{"$f":"Calculations!O90","v":"<1%"},{"$f":"Calculations!P90","v":0.99959689609996971},{"$f":"Calculations!U90","v":"<1%"},{"$f":"Calculations!X90","v":5.8610680879633168E-5},{"$f":"Calculations!AB90","v":5.7691599246141286E-4},99.19]
[{"$f":"Calculations!B91","v":197},{"$f":"Calculations!A91","v":"Wolverhampton North SUE"},{"$f":"Calculations!C91","v":99.23},{"$f":"Calculations!G91","v":0},{"$f":"Calculations!O91","v":0},{"$f":"Calculations!P91","v":1},{"$f":"Calculations!U91","v":0},{"$f":"Calculations!X91","v":0},{"$f":"Calculations!AB91","v":0},99.23]
[{"$f":"Calculations!B92","v":209},{"$f":"Calculations!A92","v":"Land adjacent to Holbeche House Care Home, Wolverhampton Road, Kingswinford, Dudley"},{"$f":"Calculations!C92","v":1.7},{"$f":"Calculations!G92","v":0},{"$f":"Calculations!O92","v":0},{"$f":"Calculations!P92","v":1},{"$f":"Calculations!U92","v":0},{"$f":"Calculations!X92","v":0},{"$f":"Calculations!AB92","v":0},1.7]
[{"$f":"Calculations!B93","v":123},{"$f":"Calculations!A93","v":"Land at Blackhalve Lane, Wednesfield, Wolverhampton"},{"$f":"Calculations!C93","v":4.9000000000000004},{"$f":"Calculations!G93","v":0},{"$f":"Calculations!O93","v":0},{"$f":"Calculations!P93","v":1},{"$f":"Calculations!U93","v":0},{"$f":"Calculations!X93","v":0},{"$f":"Calculations!AB93","v":1.7055407588004081E-2},4.9000000000000004]
[{"$f":"Calculations!B94","v":41},{"$f":"Calculations!A94","v":"Land off Vicarage Road Road, Wolverhampton"},{"$f":"Calculations!C94","v":2.8},{"$f":"Calculations!G94","v":0},{"$f":"Calculations!O94","v":0},{"$f":"Calculations!P94","v":1},{"$f":"Calculations!U94","v":0},{"$f":"Calculations!X94","v":0},{"$f":"Calculations!AB94","v":0},2.8]
[{"$f":"Calculations!B95","v":212},{"$f":"Calculations!A95","v":"Land south of Bosty Lane, Aldridge, Walsall"},{"$f":"Calculations!C95","v":47},{"$f":"Calculations!G95","v":0},{"$f":"Calculations!O95","v":0},{"$f":"Calculations!P95","v":1},{"$f":"Calculations!U95","v":0},{"$f":"Calculations!X95","v":0},{"$f":"Calculations!AB95","v":2.1338942211519149E-4},47]
[{"$f":"Calculations!B96","v":212},{"$f":"Calculations!A96","v":"Land south of Bosty Lane, Aldridge, Walsall"},{"$f":"Calculations!C96","v":47},{"$f":"Calculations!G96","v":0},{"$f":"Calculations!O96","v":0},{"$f":"Calculations!P96","v":1},{"$f":"Calculations!U96","v":9.5592268736272128E-3},{"$f":"Calculations!X96","v":1.4311367659555404E-2},{"$f":"Calculations!AB96","v":5.1453338356120211E-2},47]
[{"$f":"Calculations!B97","v":213},{"$f":"Calculations!A97","v":"Land at Vicarage Road / Coronation Road, High Heath, Walsall"},{"$f":"Calculations!C97","v":36},{"$f":"Calculations!G97","v":8.8888888888888889E-3},{"$f":"Calculations!O97","v":9.2777777777777778E-2},{"$f":"Calculations!P97","v":0.90722222222222226},{"$f":"Calculations!U97","v":8.9639887453223602E-3},{"$f":"Calculations!X97","v":1.8163879521982167E-2},{"$f":"Calculations!AB97","v":7.5990445738358336E-2},32.660000000000004]
[{"$f":"Calculations!B98","v":214},{"$f":"Calculations!A98","v":"56 Cartbridge Lane, Walsall"},{"$f":"Calculations!C98","v":0.28000000000000003},{"$f":"Calculations!G98","v":0},{"$f":"Calculations!O98","v":"<1%"},{"$f":"Calculations!P98","v":1},{"$f":"Calculations!U98","v":"<1%"},{"$f":"Calculations!X98","v":1.4434451346035715E-2},{"$f":"Calculations!AB98","v":0.19889492448755},{"$f":"C107*F107","v":0.28000000000000003}]
[{"$f":"Calculations!B99","v":210},{"$f":"Calculations!A99","v":"Land at Greenwood Road and Lazy Hill Road, Aldridge, Walsall"},{"$f":"Calculations!C99","v":2.6},{"$f":"Calculations!G99","v":0},{"$f":"Calculations!O99","v":0},{"$f":"Calculations!P99","v":1},{"$f":"Calculations!U99","v":0},{"$f":"Calculations!X99","v":0},{"$f":"Calculations!AB99","v":7.4214074258076919E-5},2.6]
[{"$f":"Calculations!B100","v":152},{"$f":"Calculations!A100","v":"Land east of Longwood Lane, Daisy Bank, Walsall"},{"$f":"Calculations!C100","v":2.7},{"$f":"Calculations!G100","v":0},{"$f":"Calculations!O100","v":0},{"$f":"Calculations!P100","v":1},{"$f":"Calculations!U100","v":1.0405166742725555E-2},{"$f":"Calculations!X100","v":2.0159654914539998E-2},{"$f":"Calculations!AB100","v":4.5382809083275556E-2},2.7]
[{"$f":"Calculations!B101","v":216},{"$f":"Calculations!A101","v":"Land to the north of Oldnall Road, Halesowen"},{"$f":"Calculations!C101","v":13.6},{"$f":"Calculations!G101","v":0},{"$f":"Calculations!O101","v":0},{"$f":"Calculations!P101","v":1},{"$f":"Calculations!U101","v":0},{"$f":"Calculations!X101","v":8.5231696213183817E-4},{"$f":"Calculations!AB101","v":9.2884972382302217E-3},13.6]
[{"$f":"Calculations!B102","v":217},{"$f":"Calculations!A102","v":"Rear of 41 to approx. 59 Greenhill Road, Halesowen"},{"$f":"Calculations!C102","v":1.3},{"$f":"Calculations!G102","v":0},{"$f":"Calculations!O102","v":0},{"$f":"Calculations!P102","v":1},{"$f":"Calculations!U102","v":1.2307692307692308E-2},{"$f":"Calculations!X102","v":3.8895922537708461E-2},{"$f":"Calculations!AB102","v":7.8603681410047685E-2},1.3]
[{"$f":"Calculations!B103","v":218},{"$f":"Calculations!A103","v":"Land adjacent to Abbey Road, Halesowen,"},{"$f":"Calculations!C103","v":3.83},{"$f":"Calculations!G103","v":0},{"$f":"Calculations!O103","v":0},{"$f":"Calculations!P103","v":1},{"$f":"Calculations!U103","v":1.5729325092636554E-2},{"$f":"Calculations!X103","v":1.8140416903706266E-2},{"$f":"Calculations!AB103","v":3.0480942436719321E-2},3.83]
[{"$f":"Calculations!B104","v":219},{"$f":"Calculations!A104","v":"Land off Lutley Land, adjacent to Brookside Close, Halesowen"},{"$f":"Calculations!C104","v":3.81},{"$f":"Calculations!G104","v":0.1889763779527559},{"$f":"Calculations!O104","v":0.20734908136482941},{"$f":"Calculations!P104","v":0.79265091863517056},{"$f":"Calculations!U104","v":1.8807536394797375E-2},{"$f":"Calculations!X104","v":3.1393357445240418E-2},{"$f":"Calculations!AB104","v":8.91545820195042E-2},3.02]
[{"$f":"Calculations!B105","v":220},{"$f":"Calculations!A105","v":"Chester Road North, Borwnhills, Walsall"},{"$f":"Calculations!C105","v":2.2000000000000002},{"$f":"Calculations!G105","v":0},{"$f":"Calculations!O105","v":0},{"$f":"Calculations!P105","v":1},{"$f":"Calculations!U105","v":1.1293668181804545E-2},{"$f":"Calculations!X105","v":1.767872727264409E-2},{"$f":"Calculations!AB105","v":4.1226199922133631E-2},2.2000000000000002]
[{"$f":"Calculations!B106","v":222},{"$f":"Calculations!A106","v":"Land to the rear of 118 Little Hardwick Road, Streetly"},{"$f":"Calculations!C106","v":0.68},{"$f":"Calculations!G106","v":0},{"$f":"Calculations!O106","v":0},{"$f":"Calculations!P106","v":1},{"$f":"Calculations!U106","v":0},{"$f":"Calculations!X106","v":0},{"$f":"Calculations!AB106","v":0.13436588098169999},0.68]
[{"$f":"Calculations!B107","v":115},{"$f":"Calculations!A107","v":"Peak House Farm, Great Barr"},{"$f":"Calculations!C107","v":27},{"$f":"Calculations!G107","v":0},{"$f":"Calculations!O107","v":0},{"$f":"Calculations!P107","v":1},{"$f":"Calculations!U107","v":"<1%"},{"$f":"Calculations!X107","v":1.1533452341403037E-2},{"$f":"Calculations!AB107","v":6.8187518525438515E-2},27]
[{"$f":"Calculations!B108","v":221},{"$f":"Calculations!A108","v":"Land to the north of Northfields Way, Clayhanger, Borwnhills, Walsall"},{"$f":"Calculations!C108","v":1.87},{"$f":"Calculations!G108","v":0},{"$f":"Calculations!O108","v":0},{"$f":"Calculations!P108","v":1},{"$f":"Calculations!U108","v":7.2216577540069509E-3},{"$f":"Calculations!X108","v":2.0186758730329411E-2},{"$f":"Calculations!AB108","v":0.10840161352936897},1.87]
[{"$f":"Calculations!B109","v":224},{"$f":"Calculations!A109","v":"Hay Green / Lewis Rd, Lye"},{"$f":"Calculations!C109","v":4.1399999999999997},{"$f":"Calculations!G109","v":0},{"$f":"Calculations!O109","v":0},{"$f":"Calculations!P109","v":1},{"$f":"Calculations!U109","v":6.3515248045673683E-2},{"$f":"Calculations!X109","v":0.13633497371621231},{"$f":"Calculations!AB109","v":0.23974608875883022},4.1399999999999997]
[{"$f":"Calculations!B110","v":225},{"$f":"Calculations!A110","v":"Land south of Cradley Town FC"},{"$f":"Calculations!C110","v":1.26},{"$f":"Calculations!G110","v":0},{"$f":"Calculations!O110","v":0},{"$f":"Calculations!P110","v":1},{"$f":"Calculations!U110","v":0},{"$f":"Calculations!X110","v":0},{"$f":"Calculations!AB110","v":2.1092960752139681E-2},1.26]
[{"$f":"Calculations!B111","v":226},{"$f":"Calculations!A111","v":"High Farm Road, Halesowen"},{"$f":"Calculations!C111","v":0.37},{"$f":"Calculations!G111","v":0},{"$f":"Calculations!O111","v":0},{"$f":"Calculations!P111","v":1},{"$f":"Calculations!U111","v":0},{"$f":"Calculations!X111","v":0},{"$f":"Calculations!AB111","v":0},0.37]
[{"$f":"Calculations!B112","v":227},{"$f":"Calculations!A112","v":"Lapwood Avenue Kingswinford"},{"$f":"Calculations!C112","v":1.38},{"$f":"Calculations!G112","v":0},{"$f":"Calculations!O112","v":0},{"$f":"Calculations!P112","v":1},{"$f":"Calculations!U112","v":4.693526088847827E-2},{"$f":"Calculations!X112","v":0.11072548303793261},{"$f":"Calculations!AB112","v":0.27837157013342972},1.38]
[{"$f":"Calculations!B113","v":228},{"$f":"Calculations!A113","v":"Land off Cradley Rd Netherton"},{"$f":"Calculations!C113","v":1.74},{"$f":"Calculations!G113","v":0},{"$f":"Calculations!O113","v":0},{"$f":"Calculations!P113","v":1},{"$f":"Calculations!U113","v":0},{"$f":"Calculations!X113","v":1.9422980735914367E-2},{"$f":"Calculations!AB113","v":0.13672235530690746},1.74]
[{"$f":"Calculations!B114","v":229},{"$f":"Calculations!A114","v":"land off Bowling Green Rd Stourbridge"},{"$f":"Calculations!C114","v":0.62},{"$f":"Calculations!G114","v":0},{"$f":"Calculations!O114","v":0},{"$f":"Calculations!P114","v":1},{"$f":"Calculations!U114","v":0},{"$f":"Calculations!X114","v":0},{"$f":"Calculations!AB114","v":0},0.62]
[{"$f":"Calculations!B115","v":230},{"$f":"Calculations!A115","v":"Seymore Rd Wollescote"},{"$f":"Calculations!C115","v":0.2},{"$f":"Calculations!G115","v":0},{"$f":"Calculations!O115","v":0},{"$f":"Calculations!P115","v":1},{"$f":"Calculations!U115","v":0},{"$f":"Calculations!X115","v":0},{"$f":"Calculations!AB115","v":0},0.2]
[{"$f":"Calculations!B116","v":231},{"$f":"Calculations!A116","v":"Bank St / Bent St Brierley Hill"},{"$f":"Calculations!C116","v":0.15},{"$f":"Calculations!G116","v":0},{"$f":"Calculations!O116","v":0},{"$f":"Calculations!P116","v":1},{"$f":"Calculations!U116","v":0},{"$f":"Calculations!X116","v":0},{"$f":"Calculations!AB116","v":0},0.15]
[{"$f":"Calculations!B117","v":232},{"$f":"Calculations!A117","v":"Balfour Rd Kingswinford"},{"$f":"Calculations!C117","v":0.75},{"$f":"Calculations!G117","v":0},{"$f":"Calculations!O117","v":0.19999999999999998},{"$f":"Calculations!P117","v":0.8},{"$f":"Calculations!U117","v":0},{"$f":"Calculations!X117","v":0},{"$f":"Calculations!AB117","v":6.7603506587466668E-4},0.60000000000000009]
[{"$f":"Calculations!B118","v":233},{"$f":"Calculations!A118","v":"Brompton Drive Brierley Hill"},{"$f":"Calculations!C118","v":3.43},{"$f":"Calculations!G118","v":0},{"$f":"Calculations!O118","v":0},{"$f":"Calculations!P118","v":1},{"$f":"Calculations!U118","v":0},{"$f":"Calculations!X118","v":0},{"$f":"Calculations!AB118","v":1.4839855781267636E-2},3.43]
[{"$f":"Calculations!B119","v":234},{"$f":"Calculations!A119","v":"Woodbury Close, Brielery Hill"},{"$f":"Calculations!C119","v":1.5},{"$f":"Calculations!G119","v":0},{"$f":"Calculations!O119","v":0},{"$f":"Calculations!P119","v":1},{"$f":"Calculations!U119","v":2.4719170693166665E-2},{"$f":"Calculations!X119","v":3.7296671686244669E-2},{"$f":"Calculations!AB119","v":8.9823054594805329E-2},1.5]
[{"$f":"Calculations!B120","v":235},{"$f":"Calculations!A120","v":"Bryce Road, Pernsnett"},{"$f":"Calculations!C120","v":4.7300000000000004},{"$f":"Calculations!G120","v":0},{"$f":"Calculations!O120","v":0},{"$f":"Calculations!P120","v":1},{"$f":"Calculations!U120","v":"<1%"},{"$f":"Calculations!X120","v":5.8409313901841434E-3},{"$f":"Calculations!AB120","v":0.12593897275719132},4.7300000000000004]
[{"$f":"Calculations!B121","v":236},{"$f":"Calculations!A121","v":"Enville Street Stourbridge"},{"$f":"Calculations!C121","v":0.42},{"$f":"Calculations!G121","v":0},{"$f":"Calculations!O121","v":0},{"$f":"Calculations!P121","v":1},{"$f":"Calculations!U121","v":0},{"$f":"Calculations!X121","v":0},{"$f":"Calculations!AB121","v":0},0.42]
[{"$f":"Calculations!B122","v":237},{"$f":"Calculations!A122","v":" Kingswinford Youth Centre, High Street, Kingswinford"},{"$f":"Calculations!C122","v":4.68},{"$f":"Calculations!G122","v":0},{"$f":"Calculations!O122","v":0},{"$f":"Calculations!P122","v":1},{"$f":"Calculations!U122","v":"<1%"},{"$f":"Calculations!X122","v":1.4502195995776495E-2},{"$f":"Calculations!AB122","v":6.6964610708990388E-2},4.68]
[{"$f":"Calculations!B123","v":239},{"$f":"Calculations!A123","v":"Land off Back Lane, Walsall"},{"$f":"Calculations!C123","v":18.100000000000001},{"$f":"Calculations!G123","v":0},{"$f":"Calculations!O123","v":0},{"$f":"Calculations!P123","v":1},{"$f":"Calculations!U123","v":0},{"$f":"Calculations!X123","v":0},{"$f":"Calculations!AB123","v":0},18.100000000000001]
[{"$f":"Calculations!B124","v":240},{"$f":"Calculations!A124","v":"Located off Elan Road, Sedgley"},{"$f":"Calculations!C124","v":3.46},{"$f":"Calculations!G124","v":0},{"$f":"Calculations!O124","v":0},{"$f":"Calculations!P124","v":1},{"$f":"Calculations!U124","v":4.6200766027571678E-2},{"$f":"Calculations!X124","v":7.73140718037445E-2},{"$f":"Calculations!AB124","v":0.19233218581633527},3.46]
[{"$f":"Calculations!B125","v":241},{"$f":"Calculations!A125","v":"Land adjacent to Anvil Crescent, Cannon Drive and Poole Crescent, Coseley"},{"$f":"Calculations!C125","v":3.34},{"$f":"Calculations!G125","v":0},{"$f":"Calculations!O125","v":0},{"$f":"Calculations!P125","v":1},{"$f":"Calculations!U125","v":"<1%"},{"$f":"Calculations!X125","v":1.0223299577447007E-2},{"$f":"Calculations!AB125","v":7.070754487776916E-2},3.34]
[{"$f":"Calculations!B126","v":242},{"$f":"Calculations!A126","v":"Land located off Higgins Avenue, Harding Street, Coseley"},{"$f":"Calculations!C126","v":1.37},{"$f":"Calculations!G126","v":0},{"$f":"Calculations!O126","v":0},{"$f":"Calculations!P126","v":1},{"$f":"Calculations!U126","v":1.2415424302657662E-2},{"$f":"Calculations!X126","v":2.4835436418064235E-2},{"$f":"Calculations!AB126","v":9.0105132931667137E-2},1.37]
[{"$f":"Calculations!B127","v":243},{"$f":"Calculations!A127","v":"Green space land off Downfield Road, Gornal."},{"$f":"Calculations!C127","v":3.37},{"$f":"Calculations!G127","v":0},{"$f":"Calculations!O127","v":0},{"$f":"Calculations!P127","v":1},{"$f":"Calculations!U127","v":2.9967290494506822E-2},{"$f":"Calculations!X127","v":5.3883828015267358E-2},{"$f":"Calculations!AB127","v":0.15449916687459495},3.37]
[{"$f":"Calculations!B128","v":245},{"$f":"Calculations!A128","v":"Grazing Land Wollaston Farm, Wollaston, Stourbridge"},{"$f":"Calculations!C128","v":3.77},{"$f":"Calculations!G128","v":0},{"$f":"Calculations!O128","v":0},{"$f":"Calculations!P128","v":1},{"$f":"Calculations!U128","v":8.9291002553111398E-2},{"$f":"Calculations!X128","v":0.11363753113961195},{"$f":"Calculations!AB128","v":0.16211934730607161},3.77]
[{"$f":"Calculations!B129","v":246},{"$f":"Calculations!A129","v":"Lower Gornal STW, Lower Gornal"},{"$f":"Calculations!C129","v":10.67},{"$f":"Calculations!G129","v":2.8116213683223993E-3},{"$f":"Calculations!O129","v":"<1%"},{"$f":"Calculations!P129","v":0.99718837863167764},{"$f":"Calculations!U129","v":2.0115116938652297E-2},{"$f":"Calculations!X129","v":3.5135583741278731E-2},{"$f":"Calculations!AB129","v":9.9980645602796625E-2},10.64]
[{"$f":"Calculations!B130","v":247},{"$f":"Calculations!A130","v":"Guys Lane, Lower Gornal"},{"$f":"Calculations!C130","v":1.05},{"$f":"Calculations!G130","v":0},{"$f":"Calculations!O130","v":0},{"$f":"Calculations!P130","v":1},{"$f":"Calculations!U130","v":5.3044257137470477E-2},{"$f":"Calculations!X130","v":8.7197074847794279E-2},{"$f":"Calculations!AB130","v":0.14440712226414476},{"$f":"C139*F139","v":1.05}]
[{"$f":"Calculations!B131","v":248},{"$f":"Calculations!A131","v":"Land off Tenacre Lane, Lower Gornal, DY3 1XH"},{"$f":"Calculations!C131","v":1.56},{"$f":"Calculations!G131","v":0},{"$f":"Calculations!O131","v":0},{"$f":"Calculations!P131","v":1},{"$f":"Calculations!U131","v":3.2514919770782691E-2},{"$f":"Calculations!X131","v":6.8053853313217949E-2},{"$f":"Calculations!AB131","v":0.19975099072427177},1.56]
[{"$f":"Calculations!B132","v":249},{"$f":"Calculations!A132","v":"Furber Place, Kingswinford, DY6 8DE"},{"$f":"Calculations!C132","v":2.52},{"$f":"Calculations!G132","v":0},{"$f":"Calculations!O132","v":0},{"$f":"Calculations!P132","v":1},{"$f":"Calculations!U132","v":0},{"$f":"Calculations!X132","v":5.7142857142857143E-3},{"$f":"Calculations!AB132","v":2.9225163887233334E-2},2.52]
[{"$f":"Calculations!B133","v":250},{"$f":"Calculations!A133","v":"Severn Drive, Pensnett, DY5 4QS"},{"$f":"Calculations!C133","v":0.95},{"$f":"Calculations!G133","v":0},{"$f":"Calculations!O133","v":0},{"$f":"Calculations!P133","v":1},{"$f":"Calculations!U133","v":0},{"$f":"Calculations!X133","v":0},{"$f":"Calculations!AB133","v":4.3666066993030529E-2},0.95]
[{"$f":"Calculations!B134","v":251},{"$f":"Calculations!A134","v":"Pensnett Road, Pensnett, DY5 4NE"},{"$f":"Calculations!C134","v":1.42},{"$f":"Calculations!G134","v":0},{"$f":"Calculations!O134","v":0},{"$f":"Calculations!P134","v":1},{"$f":"Calculations!U134","v":6.9752168759546485E-2},{"$f":"Calculations!X134","v":0.1869147086994655},{"$f":"Calculations!AB134","v":0.49401909718658665},1.42]
[{"$f":"Calculations!B135","v":252},{"$f":"Calculations!A135","v":"Vicarage Lane, Pensnett"},{"$f":"Calculations!C135","v":2.4900000000000002},{"$f":"Calculations!G135","v":0},{"$f":"Calculations!O135","v":0},{"$f":"Calculations!P135","v":1},{"$f":"Calculations!U135","v":2.5019645426891564E-2},{"$f":"Calculations!X135","v":4.275310372523413E-2},{"$f":"Calculations!AB135","v":6.6710516367148989E-2},2.4900000000000002]
[{"$f":"Calculations!B136","v":253},{"$f":"Calculations!A136","v":"Park Head Locks, Off Holly Hall Road, Dudley, DY2 0UN"},{"$f":"Calculations!C136","v":2.67},{"$f":"Calculations!G136","v":0},{"$f":"Calculations!O136","v":0},{"$f":"Calculations!P136","v":1},{"$f":"Calculations!U136","v":0},{"$f":"Calculations!X136","v":0},{"$f":"Calculations!AB136","v":4.4649634497058055E-2},2.67]
[{"$f":"Calculations!B137","v":254},{"$f":"Calculations!A137","v":"Elizabeth Grove, Tansley Hill, Dudley, DY2 7TG"},{"$f":"Calculations!C137","v":1.04},{"$f":"Calculations!G137","v":0},{"$f":"Calculations!O137","v":0},{"$f":"Calculations!P137","v":1},{"$f":"Calculations!U137","v":0},{"$f":"Calculations!X137","v":0},{"$f":"Calculations!AB137","v":0},1.04]
[{"$f":"Calculations!B138","v":255},{"$f":"Calculations!A138","v":"Brierley Hill Road/Cooper Avenue, Brierley Hill, DY5 3PB"},{"$f":"Calculations!C138","v":4.7300000000000004},{"$f":"Calculations!G138","v":0},{"$f":"Calculations!O138","v":0},{"$f":"Calculations!P138","v":1},{"$f":"Calculations!U138","v":8.0002383774164902E-3},{"$f":"Calculations!X138","v":4.0086917244491115E-2},{"$f":"Calculations!AB138","v":0.11859603442406003},4.7300000000000004]
[{"$f":"Calculations!B139","v":256},{"$f":"Calculations!A139","v":"Lodge Crescent/Highbridge Road, Netherton, DY2 0HF"},{"$f":"Calculations!C139","v":1.63},{"$f":"Calculations!G139","v":0},{"$f":"Calculations!O139","v":0},{"$f":"Calculations!P139","v":1},{"$f":"Calculations!U139","v":0},{"$f":"Calculations!X139","v":0},{"$f":"Calculations!AB139","v":3.0158489029674846E-2},1.63]
[{"$f":"Calculations!B140","v":257},{"$f":"Calculations!A140","v":"Copse Road, Netherton, DY2 0AJ"},{"$f":"Calculations!C140","v":0.76},{"$f":"Calculations!G140","v":0},{"$f":"Calculations!O140","v":0},{"$f":"Calculations!P140","v":1},{"$f":"Calculations!U140","v":0},{"$f":"Calculations!X140","v":0},{"$f":"Calculations!AB140","v":3.197839667801447E-2},0.76]
[{"$f":"Calculations!B141","v":258},{"$f":"Calculations!A141","v":"Saltwells Road, Netherton, DY2  9RR"},{"$f":"Calculations!C141","v":1.23},{"$f":"Calculations!G141","v":0},{"$f":"Calculations!O141","v":0},{"$f":"Calculations!P141","v":1},{"$f":"Calculations!U141","v":"<1%"},{"$f":"Calculations!X141","v":1.8005326997544717E-3},{"$f":"Calculations!AB141","v":7.8930623240105705E-2},1.23]
[{"$f":"Calculations!B142","v":259},{"$f":"Calculations!A142","v":"Charles Road, Quarry Bank., DY5 1AG"},{"$f":"Calculations!C142","v":0.72},{"$f":"Calculations!G142","v":0},{"$f":"Calculations!O142","v":0},{"$f":"Calculations!P142","v":1},{"$f":"Calculations!U142","v":"<1%"},{"$f":"Calculations!X142","v":8.4511558567638891E-3},{"$f":"Calculations!AB142","v":3.2883080016597226E-2},0.72]
[{"$f":"Calculations!B143","v":263},{"$f":"Calculations!A143","v":"Charlemont Community Centre, Beaconview Road, West Bromwich"},{"$f":"Calculations!C143","v":0.05},{"$f":"Calculations!G143","v":0},{"$f":"Calculations!O143","v":0},{"$f":"Calculations!P143","v":1},{"$f":"Calculations!U143","v":0},{"$f":"Calculations!X143","v":0},{"$f":"Calculations!AB143","v":0},0.05]
[{"$f":"Calculations!B144","v":264},{"$f":"Calculations!A144","v":"Three Fields, Dunsley Road, Norton, Stourbridge, DY8 3LR"},{"$f":"Calculations!C144","v":4.59},{"$f":"Calculations!G144","v":0},{"$f":"Calculations!O144","v":0},{"$f":"Calculations!P144","v":1},{"$f":"Calculations!U144","v":0},{"$f":"Calculations!X144","v":0},{"$f":"Calculations!AB144","v":0},4.59]
[{"$f":"Calculations!B145","v":265},{"$f":"Calculations!A145","v":"Portway Close, Kingswinford, DY6 8HD"},{"$f":"Calculations!C145","v":1.54},{"$f":"Calculations!G145","v":0},{"$f":"Calculations!O145","v":0},{"$f":"Calculations!P145","v":1},{"$f":"Calculations!U145","v":0},{"$f":"Calculations!X145","v":0},{"$f":"Calculations!AB145","v":0},1.54]
[{"$f":"Calculations!B146","v":266},{"$f":"Calculations!A146","v":"Mob Lane, Pelsall, Walsall"},{"$f":"Calculations!C146","v":40.11},{"$f":"Calculations!G146","v":0},{"$f":"Calculations!O146","v":0},{"$f":"Calculations!P146","v":1},{"$f":"Calculations!U146","v":"<1%"},{"$f":"Calculations!X146","v":2.6133124107778608E-5},{"$f":"Calculations!AB146","v":2.8340729092373473E-3},40.11]
[{"$f":"Calculations!B147","v":267},{"$f":"Calculations!A147","v":"Tenacre Lane, Eve lane, Dudley, DY1 2TU"},{"$f":"Calculations!C147","v":3.96},{"$f":"Calculations!G147","v":0},{"$f":"Calculations!O147","v":0},{"$f":"Calculations!P147","v":1},{"$f":"Calculations!U147","v":2.5583748937646211E-2},{"$f":"Calculations!X147","v":4.9994243052497223E-2},{"$f":"Calculations!AB147","v":8.9608402451489891E-2},3.96]
[{"$f":"Calculations!B148","v":269},{"$f":"Calculations!A148","v":"Land to the South of Bentley Lane, Willenhall, Walsall"},{"$f":"Calculations!C148","v":11.31},{"$f":"Calculations!G148","v":0},{"$f":"Calculations!O148","v":0},{"$f":"Calculations!P148","v":1},{"$f":"Calculations!U148","v":1.0540827230146595E-2},{"$f":"Calculations!X148","v":1.5169767555990274E-2},{"$f":"Calculations!AB148","v":2.6189583987874798E-2},11.31]
[{"$f":"Calculations!B149","v":271},{"$f":"Calculations!A149","v":"Land off Wynall Lane South, Wollescote, DY9 9AJ"},{"$f":"Calculations!C149","v":0.88},{"$f":"Calculations!G149","v":0},{"$f":"Calculations!O149","v":0},{"$f":"Calculations!P149","v":1},{"$f":"Calculations!U149","v":0},{"$f":"Calculations!X149","v":2.528805885125E-4},{"$f":"Calculations!AB149","v":1.9090447464102272E-3},0.88]
[{"$f":"Calculations!B150","v":270},{"$f":"Calculations!A150","v":"Oxley Park Golf Club land adjacent to 1A Ribbesford Avenue, Wolverhampton, WV10 6DU"},{"$f":"Calculations!C150","v":0.06},{"$f":"Calculations!G150","v":0},{"$f":"Calculations!O150","v":0},{"$f":"Calculations!P150","v":1},{"$f":"Calculations!U150","v":0},{"$f":"Calculations!X150","v":0},{"$f":"Calculations!AB150","v":0},0.06]
[{"$f":"Calculations!B151","v":273},{"$f":"Calculations!A151","v":"Land off Timmis Road, Lye"},{"$f":"Calculations!C151","v":0.63},{"$f":"Calculations!G151","v":0},{"$f":"Calculations!O151","v":0},{"$f":"Calculations!P151","v":1},{"$f":"Calculations!U151","v":1.4694285880590477E-2},{"$f":"Calculations!X151","v":6.5665174462388898E-2},{"$f":"Calculations!AB151","v":0.97358194937209053},0.63]
[{"$f":"Calculations!B152","v":274},{"$f":"Calculations!A152","v":"Ketley Farm, Dudley Road, Kingswinford"},{"$f":"Calculations!C152","v":1.1499999999999999},{"$f":"Calculations!G152","v":0},{"$f":"Calculations!O152","v":0},{"$f":"Calculations!P152","v":1},{"$f":"Calculations!U152","v":0},{"$f":"Calculations!X152","v":1.2173913043478262E-2},{"$f":"Calculations!AB152","v":4.2684045242466086E-2},1.1499999999999999]
[{"$f":"Calculations!B153","v":275},{"$f":"Calculations!A153","v":"Land off Cradley Road, DY2 9SW"},{"$f":"Calculations!C153","v":0.39},{"$f":"Calculations!G153","v":0},{"$f":"Calculations!O153","v":0},{"$f":"Calculations!P153","v":1},{"$f":"Calculations!U153","v":0},{"$f":"Calculations!X153","v":0.80162728812348205},{"$f":"Calculations!AB153","v":0.99132402383663842},0.39]
[{"$f":"Calculations!B154","v":277},{"$f":"Calculations!A154","v":"Land at Greenwood Road and Lazy Hill Road, Aldridge, Walsall"},{"$f":"Calculations!C154","v":2.65},{"$f":"Calculations!G154","v":0},{"$f":"Calculations!O154","v":0},{"$f":"Calculations!P154","v":1},{"$f":"Calculations!U154","v":0},{"$f":"Calculations!X154","v":0},{"$f":"Calculations!AB154","v":1.1668433377358491E-5},2.65]
[{"$f":"Calculations!B155","v":278},{"$f":"Calculations!A155","v":"Open Space at Grassy Lane, Wolverhampton"},{"$f":"Calculations!C155","v":3.2},{"$f":"Calculations!G155","v":0},{"$f":"Calculations!O155","v":0},{"$f":"Calculations!P155","v":1},{"$f":"Calculations!U155","v":0},{"$f":"Calculations!X155","v":3.3736300091840934E-2},{"$f":"Calculations!AB155","v":0.12106992975882312},3.2]
[{"$f":"Calculations!B156","v":280},{"$f":"Calculations!A156","v":"Clent View Road, Stourbridge"},{"$f":"Calculations!C156","v":21.52},{"$f":"Calculations!G156","v":0},{"$f":"Calculations!O156","v":0},{"$f":"Calculations!P156","v":1},{"$f":"Calculations!U156","v":0},{"$f":"Calculations!X156","v":0},{"$f":"Calculations!AB156","v":3.1850844632973509E-3},21.52]
[{"$f":"Calculations!B157","v":281},{"$f":"Calculations!A157","v":" Aldridge School and land to the south of Bosty Lane"},{"$f":"Calculations!C157","v":64.44},{"$f":"Calculations!G157","v":0},{"$f":"Calculations!O157","v":0},{"$f":"Calculations!P157","v":1},{"$f":"Calculations!U157","v":9.3661974929136419E-3},{"$f":"Calculations!X157","v":1.5034754701616622E-2},{"$f":"Calculations!AB157","v":5.1073420097622592E-2},64.44]
[{"$f":"Calculations!B158","v":282},{"$f":"Calculations!A158","v":"Northwood Park Road, Wolverhampton"},{"$f":"Calculations!C158","v":7.3},{"$f":"Calculations!G158","v":0},{"$f":"Calculations!O158","v":0},{"$f":"Calculations!P158","v":1},{"$f":"Calculations!U158","v":0},{"$f":"Calculations!X158","v":0},{"$f":"Calculations!AB158","v":0},7.3]
[{"$f":"Calculations!B159","v":283},{"$f":"Calculations!A159","v":"Colton Hills Community School (part of) Playing Field, Wolverhampton"},{"$f":"Calculations!C159","v":5.25},{"$f":"Calculations!G159","v":0},{"$f":"Calculations!O159","v":0},{"$f":"Calculations!P159","v":1},{"$f":"Calculations!U159","v":0},{"$f":"Calculations!X159","v":4.7238095238095234E-3},{"$f":"Calculations!AB159","v":6.434605339727334E-2},5.25]
[{"$f":"Calculations!B160","v":284},{"$f":"Calculations!A160","v":" Land at Former Bushbury Swimming Baths, Sandy Lane, Wolverhampton"},{"$f":"Calculations!C160","v":0.83},{"$f":"Calculations!G160","v":0},{"$f":"Calculations!O160","v":0},{"$f":"Calculations!P160","v":1},{"$f":"Calculations!U160","v":0},{"$f":"Calculations!X160","v":0},{"$f":"Calculations!AB160","v":2.3608301204842169E-2},0.83]
[{"$f":"Calculations!B161","v":286},{"$f":"Calculations!A161","v":"Land at Druids Heath Golf Club, Stonnall Road, Walsall"},{"$f":"Calculations!C161","v":0.99},{"$f":"Calculations!G161","v":0},{"$f":"Calculations!O161","v":0},{"$f":"Calculations!P161","v":1},{"$f":"Calculations!U161","v":0},{"$f":"Calculations!X161","v":0},{"$f":"Calculations!AB161","v":0},0.99]
[{"$f":"Calculations!B162","v":289},{"$f":"Calculations!A162","v":" Land North of Showmen's Caravan Site, Goscote Lane, Pelsall"},{"$f":"Calculations!C162","v":0.23},{"$f":"Calculations!G162","v":0},{"$f":"Calculations!O162","v":0},{"$f":"Calculations!P162","v":1},{"$f":"Calculations!U162","v":0},{"$f":"Calculations!X162","v":1.3038000021739129E-5},{"$f":"Calculations!AB162","v":0.10921700844469565},{"$f":"C171*F171","v":0.23}]
[{"$f":"Calculations!B163","v":285},{"$f":"Calculations!A163","v":"Land south of Castle Road,,,,, Walsall Wood"},{"$f":"Calculations!C163","v":1.01},{"$f":"Calculations!G163","v":0},{"$f":"Calculations!O163","v":0},{"$f":"Calculations!P163","v":1},{"$f":"Calculations!U163","v":0},{"$f":"Calculations!X163","v":0},{"$f":"Calculations!AB163","v":0},1.01]
[{"$f":"Calculations!B164","v":292},{"$f":"Calculations!A164","v":"Land adj. 74 Perton Road, Wightwick, Wolverhampton"},{"$f":"Calculations!C164","v":0},{"$f":"Calculations!G164","v":0},{"$f":"Calculations!O164","v":0},{"$f":"Calculations!P164","v":0},0,{"$f":"Calculations!X164","v":0},{"$f":"Calculations!AB164","v":0},0]
[{"$f":"Calculations!B165","v":279},{"$f":"Calculations!A165","v":"Land at Vicarage Road / Coronation Road, High Heath, Walsall"},{"$f":"Calculations!C165","v":40.11},{"$f":"Calculations!G165","v":7.9780603340812769E-3},{"$f":"Calculations!O165","v":8.3271004736973325E-2},{"$f":"Calculations!P165","v":0.91672899526302665},{"$f":"Calculations!U165","v":8.0454648424733224E-3},{"$f":"Calculations!X165","v":1.6302659256827674E-2},{"$f":"Calculations!AB165","v":6.8203840602864621E-2},36.769999999999996]
[{"$f":"Calculations!B166","v":296},{"$f":"Calculations!A166","v":"Land at Park Lane, Cradley"},{"$f":"Calculations!C166","v":2.81},{"$f":"Calculations!G166","v":0},{"$f":"Calculations!O166","v":0},{"$f":"Calculations!P166","v":1},{"$f":"Calculations!U166","v":1.1103145907437367E-2},{"$f":"Calculations!X166","v":1.7806366403706763E-2},{"$f":"Calculations!AB166","v":5.8119294711256583E-2},2.81]
[{"$f":"Calculations!B167","v":295},{"$f":"Calculations!A167","v":"Foxcote Farm, Oldnall Road, Wollescote"},{"$f":"Calculations!C167","v":64.19},{"$f":"Calculations!G167","v":0},{"$f":"Calculations!O167","v":0},{"$f":"Calculations!P167","v":1},{"$f":"Calculations!U167","v":6.1195627044686712E-3},{"$f":"Calculations!X167","v":9.0385747356994083E-3},{"$f":"Calculations!AB167","v":3.066855070102633E-2},64.19]
[{"$f":"Calculations!B168","v":299},{"$f":"Calculations!A168","v":"Oxley Park Golf Club land adjacent to 21 Oxley Links Road"},{"$f":"Calculations!C168","v":0.14000000000000001},{"$f":"Calculations!G168","v":0},{"$f":"Calculations!O168","v":0},{"$f":"Calculations!P168","v":1},{"$f":"Calculations!U168","v":0},{"$f":"Calculations!X168","v":0},{"$f":"Calculations!AB168","v":0},0.14000000000000001]
[{"$f":"Calculations!B169","v":298},{"$f":"Calculations!A169","v":"Oxley Park Golf Club land adjacent to 139 Oxley Moor Road"},{"$f":"Calculations!C169","v":0.125},{"$f":"Calculations!G169","v":0},{"$f":"Calculations!O169","v":0},{"$f":"Calculations!P169","v":1},{"$f":"Calculations!U169","v":0},{"$f":"Calculations!X169","v":7.1415541869447999E-2},{"$f":"Calculations!AB169","v":0.100621431830616},0.125]
[{"$f":"Calculations!B170","v":297},{"$f":"Calculations!A170","v":"land at Albutts Road, Brownhills"},{"$f":"Calculations!C170","v":2.2000000000000002},{"$f":"Calculations!G170","v":0},{"$f":"Calculations!O170","v":0},{"$f":"Calculations!P170","v":1},{"$f":"Calculations!U170","v":"<1%"},{"$f":"Calculations!X170","v":5.8285366327627272E-3},{"$f":"Calculations!AB170","v":5.9264229179924993E-2},2.2000000000000002]
[{"$f":"Calculations!B171","v":300},{"$f":"Calculations!A171","v":"Oxely Golf Club Clubhouse"},{"$f":"Calculations!C171","v":0.75},{"$f":"Calculations!G171","v":0},{"$f":"Calculations!O171","v":0},{"$f":"Calculations!P171","v":1},{"$f":"Calculations!U171","v":0},{"$f":"Calculations!X171","v":0},{"$f":"Calculations!AB171","v":0},0.75]
[{"$f":"Calculations!B172","v":301},{"$f":"Calculations!A172","v":"Oxley Golf Club"},{"$f":"Calculations!C172","v":1.75},{"$f":"Calculations!G172","v":0},{"$f":"Calculations!O172","v":0},{"$f":"Calculations!P172","v":1},{"$f":"Calculations!U172","v":4.3599359999384003E-2},{"$f":"Calculations!X172","v":6.589329237865714E-2},{"$f":"Calculations!AB172","v":0.23308605507464569},1.75]
[{"$f":"Calculations!B173","v":303},{"$f":"Calculations!A173","v":"Groundkeepers Compound, Oxley Park Golf Club"},{"$f":"Calculations!C173","v":0.1},{"$f":"Calculations!G173","v":0},{"$f":"Calculations!O173","v":0},{"$f":"Calculations!P173","v":1},{"$f":"Calculations!U173","v":0},{"$f":"Calculations!X173","v":0},{"$f":"Calculations!AB173","v":0},0.1]
[{"$f":"Calculations!B174","v":304},{"$f":"Calculations!A174","v":"Land at Queslett Raod, Great Barr"},{"$f":"Calculations!C174","v":0.56000000000000005},{"$f":"Calculations!G174","v":0},{"$f":"Calculations!O174","v":0},{"$f":"Calculations!P174","v":1},{"$f":"Calculations!U174","v":0},{"$f":"Calculations!X174","v":0},{"$f":"Calculations!AB174","v":3.7513910807996424E-2},0.56000000000000005]
[{"$f":"Calculations!B175","v":158},{"$f":"Calculations!A175","v":"Roway Lane, Oldbury"},{"$f":"Calculations!C175","v":3.43},{"$f":"Calculations!G175","v":0},{"$f":"Calculations!O175","v":0},{"$f":"Calculations!P175","v":1},{"$f":"Calculations!U175","v":7.3922872256650136E-3},{"$f":"Calculations!X175","v":1.1166868041027112E-2},{"$f":"Calculations!AB175","v":8.2434024212940812E-2},3.43]
[{"$f":"Calculations!B176","v":159},{"$f":"Calculations!A176","v":"Walsall Wood"},{"$f":"Calculations!C176","v":3.11},{"$f":"Calculations!G176","v":0},{"$f":"Calculations!O176","v":0},{"$f":"Calculations!P176","v":1},{"$f":"Calculations!U176","v":1.151803337999357E-2},{"$f":"Calculations!X176","v":1.5688247392284246E-2},{"$f":"Calculations!AB176","v":5.3617458872658841E-2},3.11]
[{"$f":"Calculations!B177","v":156},{"$f":"Calculations!A177","v":"Goscote Lodge C, Walsall"},{"$f":"Calculations!C177","v":14.63},{"$f":"Calculations!G177","v":3.007518796992481E-2},{"$f":"Calculations!O177","v":4.3062200956937795E-2},{"$f":"Calculations!P177","v":0.9569377990430622},{"$f":"Calculations!U177","v":4.1284068806435405E-2},{"$f":"Calculations!X177","v":7.3976844864222138E-2},{"$f":"Calculations!AB177","v":0.17041594848903416},14]
[{"$f":"Calculations!B178","v":0},{"$f":"Calculations!A178","v":"SHLAA"},{"$f":"Calculations!C178","v":0},{"$f":"Calculations!G178","v":0},{"$f":"Calculations!O178","v":0},{"$f":"Calculations!P178","v":0},{"$f":"Calculations!U178","v":0},0,0,{"$f":"C187*F187","v":0}]
[{"$f":"Calculations!B179","v":39540},{"$f":"Calculations!A179","v":"55-77 Lichfield Street, Wolverhampton City Centre"},{"$f":"Calculations!C179","v":0.121801374999},{"$f":"Calculations!G179","v":0},{"$f":"Calculations!O179","v":0},{"$f":"Calculations!P179","v":1},{"$f":"Calculations!U179","v":0},{"$f":"Calculations!X179","v":0},{"$f":"Calculations!AB179","v":0},0.121801374999]
[{"$f":"Calculations!B180","v":39520},{"$f":"Calculations!A180","v":"Springvale Sports and SOther Commitmential Club, Millfields Road"},{"$f":"Calculations!C180","v":2.8573877021},{"$f":"Calculations!G180","v":0},{"$f":"Calculations!O180","v":0},{"$f":"Calculations!P180","v":1},{"$f":"Calculations!U180","v":0},{"$f":"Calculations!X180","v":7.2231451261552976E-2},{"$f":"Calculations!AC180","v":0.30639504300270604},2.8573877021]
[{"$f":"Calculations!B181","v":39360},{"$f":"Calculations!A181","v":"TeleCompleted During 2017/18 House, Church Street, Wolverhampton City Centre"},{"$f":"Calculations!C181","v":0.5810826161},{"$f":"Calculations!G181","v":0},{"$f":"Calculations!O181","v":0},{"$f":"Calculations!P181","v":1},{"$f":"Calculations!U181","v":0},{"$f":"Calculations!X181","v":0},{"$f":"Calculations!AC181","v":7.0902138282019758E-2},0.5810826161]
[{"$f":"Calculations!B182","v":39350},{"$f":"Calculations!A182","v":"Former Wednesfield High School Playing Fields"},{"$f":"Calculations!C182","v":7.5725582478},{"$f":"Calculations!G182","v":0},{"$f":"Calculations!O182","v":0},{"$f":"Calculations!P182","v":1},{"$f":"Calculations!U182","v":1.9550559352822572E-2},{"$f":"Calculations!X182","v":3.3944860442239141E-2},{"$f":"Calculations!AC182","v":7.0311186681813728E-2},7.5725582478]
[{"$f":"Calculations!B183","v":39340},{"$f":"Calculations!A183","v":"Land at Sweetbriar Road / Pump Street"},{"$f":"Calculations!C183","v":0.16245438500000001},{"$f":"Calculations!G183","v":0},{"$f":"Calculations!O183","v":0},{"$f":"Calculations!P183","v":1},{"$f":"Calculations!U183","v":0},{"$f":"Calculations!X183","v":0},{"$f":"Calculations!AC183","v":0},0.16245438500000001]
[{"$f":"Calculations!B184","v":39330},{"$f":"Calculations!A184","v":"Fmr Ettingshall Primary School, Herbert Street"},{"$f":"Calculations!C184","v":0.82427375344999998},{"$f":"Calculations!G184","v":0},{"$f":"Calculations!O184","v":0},{"$f":"Calculations!P184","v":1},{"$f":"Calculations!U184","v":0},{"$f":"Calculations!X184","v":1.6637676436863382E-4},{"$f":"Calculations!AC184","v":"<1%"},0.82427375344999998]
[{"$f":"Calculations!B185","v":39320},{"$f":"Calculations!A185","v":"Fmr Bilston Leisure Centre, Prouds Lane, Bilston"},{"$f":"Calculations!C185","v":0.90179846435},{"$f":"Calculations!G185","v":0},{"$f":"Calculations!O185","v":0},{"$f":"Calculations!P185","v":1},{"$f":"Calculations!U185","v":2.4839231437530227E-2},{"$f":"Calculations!X185","v":4.3414138147498608E-2},{"$f":"Calculations!AC185","v":0.17838646751591467},0.90179846435]
[{"$f":"Calculations!B186","v":39310},{"$f":"Calculations!A186","v":"The Manse, Leacroft Avenue"},{"$f":"Calculations!C186","v":0.33530188500000002},{"$f":"Calculations!G186","v":0},{"$f":"Calculations!O186","v":0},{"$f":"Calculations!P186","v":1},{"$f":"Calculations!U186","v":0},{"$f":"Calculations!X186","v":0},{"$f":"Calculations!AC186","v":0},0.33530188500000002]
[{"$f":"Calculations!B187","v":39300},{"$f":"Calculations!A187","v":"Land Adjacent To Halfway House 115 Tettenhall Road Wolverhampton West Midlands"},{"$f":"Calculations!C187","v":0.42291393760000001},{"$f":"Calculations!G187","v":0},{"$f":"Calculations!O187","v":0},{"$f":"Calculations!P187","v":1},{"$f":"Calculations!U187","v":0},{"$f":"Calculations!X187","v":0},{"$f":"Calculations!AC187","v":0},0.42291393760000001]
[{"$f":"Calculations!B188","v":39290},{"$f":"Calculations!A188","v":"Land Adjacent To 37 Bowdler Road Wolverhampton West Midlands WV2 1EN"},{"$f":"Calculations!C188","v":2.0369136449999999E-2},{"$f":"Calculations!G188","v":0},{"$f":"Calculations!O188","v":0},{"$f":"Calculations!P188","v":1},{"$f":"Calculations!U188","v":0},{"$f":"Calculations!X188","v":0},{"$f":"Calculations!AC188","v":0},2.0369136449999999E-2]
[{"$f":"Calculations!B189","v":39280},{"$f":"Calculations!A189","v":"Garage Site Behind 23 To 33 Beach Avenue Wolverhampton West Midlands"},{"$f":"Calculations!C189","v":9.8589074999899995E-2},{"$f":"Calculations!G189","v":0},{"$f":"Calculations!O189","v":0},{"$f":"Calculations!P189","v":1},{"$f":"Calculations!U189","v":0},{"$f":"Calculations!X189","v":0},{"$f":"Calculations!AC189","v":0},9.8589074999899995E-2]
[{"$f":"Calculations!B190","v":39270},{"$f":"Calculations!A190","v":"87 Rayleigh Road Wolverhampton West Midlands WV3 0AX"},{"$f":"Calculations!C190","v":2.1877209049899999E-2},{"$f":"Calculations!G190","v":0},{"$f":"Calculations!O190","v":0},{"$f":"Calculations!P190","v":1},{"$f":"Calculations!U190","v":0},{"$f":"Calculations!X190","v":0},{"$f":"Calculations!AC190","v":0},2.1877209049899999E-2]
[{"$f":"Calculations!B191","v":39260},{"$f":"Calculations!A191","v":"Land Formerly 37 - 39 Brooklands Parade Wolverhampton West Midlands WV1 2ND"},{"$f":"Calculations!C191","v":7.5156575000000003E-2},{"$f":"Calculations!G191","v":0},{"$f":"Calculations!O191","v":0},{"$f":"Calculations!P191","v":1},{"$f":"Calculations!U191","v":0},{"$f":"Calculations!X191","v":0},{"$f":"Calculations!AC191","v":0},7.5156575000000003E-2]
[{"$f":"Calculations!B192","v":39250},{"$f":"Calculations!A192","v":"1 Wem Gardens Wolverhampton West Midlands WV11 3HU"},{"$f":"Calculations!C192","v":3.1660279E-2},{"$f":"Calculations!G192","v":0},{"$f":"Calculations!O192","v":0},{"$f":"Calculations!P192","v":1},{"$f":"Calculations!U192","v":0},{"$f":"Calculations!X192","v":0},{"$f":"Calculations!AC192","v":"<1%"},3.1660279E-2]
[{"$f":"Calculations!B193","v":39240},{"$f":"Calculations!A193","v":"Land North East Of 36 Lord Street Bradley Wolverhampton West Midlands"},{"$f":"Calculations!C193","v":0.209850175},{"$f":"Calculations!G193","v":0},{"$f":"Calculations!O193","v":0},{"$f":"Calculations!P193","v":1},{"$f":"Calculations!U193","v":0},{"$f":"Calculations!X193","v":0},{"$f":"Calculations!AC193","v":2.1448164099348497E-2},0.209850175]
[{"$f":"Calculations!B194","v":39230},{"$f":"Calculations!A194","v":"Medical Massage 37 Thornley Street Wolverhampton West Midlands WV1 1JP"},{"$f":"Calculations!C194","v":6.2877681500199999E-3},{"$f":"Calculations!G194","v":0},{"$f":"Calculations!O194","v":0},{"$f":"Calculations!P194","v":1},{"$f":"Calculations!U194","v":0},{"$f":"Calculations!X194","v":0},{"$f":"Calculations!AC194","v":0},6.2877681500199999E-3]
[{"$f":"Calculations!B195","v":39220},{"$f":"Calculations!A195","v":"651 Stafford Road Wolverhampton West Midlands WV10 6QG"},{"$f":"Calculations!C195","v":3.4771429999900003E-2},{"$f":"Calculations!G195","v":0},{"$f":"Calculations!O195","v":0},{"$f":"Calculations!P195","v":1},{"$f":"Calculations!U195","v":0},{"$f":"Calculations!X195","v":0},{"$f":"Calculations!AC195","v":0},3.4771429999900003E-2]
[{"$f":"Calculations!B196","v":39200},{"$f":"Calculations!A196","v":"National Childrens Home 83 Completed During 2017/18pton Road Wolverhampton West Midlands WV3 9QH"},{"$f":"Calculations!C196","v":0.19797902000000001},{"$f":"Calculations!G196","v":0},{"$f":"Calculations!O196","v":0},{"$f":"Calculations!P196","v":1},{"$f":"Calculations!U196","v":1.7019439198224136E-2},{"$f":"Calculations!X196","v":4.9614672123233054E-2},{"$f":"Calculations!AC196","v":0.13346433538765873},0.19797902000000001]
[{"$f":"Calculations!B197","v":39190},{"$f":"Calculations!A197","v":"Land Adjacent To 38 Maple Road Wolverhampton West Midlands WV3 7JD"},{"$f":"Calculations!C197","v":1.090136955E-2},{"$f":"Calculations!G197","v":0},{"$f":"Calculations!O197","v":0},{"$f":"Calculations!P197","v":1},{"$f":"Calculations!U197","v":0},{"$f":"Calculations!X197","v":0},{"$f":"Calculations!AC197","v":5.5695479133628673E-3},1.090136955E-2]
[{"$f":"Calculations!B198","v":39180},{"$f":"Calculations!A198","v":"92 Swan Bank Wolverhampton West Midlands WV4 5PZ"},{"$f":"Calculations!C198","v":3.5166712750000002E-2},{"$f":"Calculations!G198","v":0},{"$f":"Calculations!O198","v":0},{"$f":"Calculations!P198","v":1},{"$f":"Calculations!U198","v":0},{"$f":"Calculations!X198","v":0},{"$f":"Calculations!AC198","v":0},3.5166712750000002E-2]
[{"$f":"Calculations!B199","v":39170},{"$f":"Calculations!A199","v":"73 Bellamy Lane Wolverhampton WV11 1LH"},{"$f":"Calculations!C199","v":3.9883426800000003E-2},{"$f":"Calculations!G199","v":0},{"$f":"Calculations!O199","v":0},{"$f":"Calculations!P199","v":1},{"$f":"Calculations!U199","v":0},{"$f":"Calculations!X199","v":0},{"$f":"Calculations!AC199","v":0},3.9883426800000003E-2]
[{"$f":"Calculations!B200","v":39160},{"$f":"Calculations!A200","v":"1 Kingsway Road Wolverhampton West Midlands WV10 0SD"},{"$f":"Calculations!C200","v":2.2258282250000001E-2},{"$f":"Calculations!G200","v":0},{"$f":"Calculations!O200","v":0},{"$f":"Calculations!P200","v":1},{"$f":"Calculations!U200","v":0},{"$f":"Calculations!X200","v":9.1766177164367663E-2},{"$f":"Calculations!AC200","v":0.21242011372279188},2.2258282250000001E-2]
[{"$f":"Calculations!B201","v":39150},{"$f":"Calculations!A201","v":"Land Rear Of 88 And 90 Trysull Road (Bamber Close) Wolverhampton West Midlands WV3 7JF"},{"$f":"Calculations!C201","v":4.7018511700099998E-2},{"$f":"Calculations!G201","v":0},{"$f":"Calculations!O201","v":0},{"$f":"Calculations!P201","v":1},{"$f":"Calculations!U201","v":0},{"$f":"Calculations!X201","v":0.59112135479054073},{"$f":"Calculations!AC201","v":0.40599394509061848},4.7018511700099998E-2]
[{"$f":"Calculations!B202","v":39140},{"$f":"Calculations!A202","v":"Primeco Limited 66 - 70 Lichfield Street City Centre Wolverhampton West Midlands WV1 1DB"},{"$f":"Calculations!C202","v":5.2450684800099998E-2},{"$f":"Calculations!G202","v":0},{"$f":"Calculations!O202","v":0},{"$f":"Calculations!P202","v":1},{"$f":"Calculations!U202","v":0},{"$f":"Calculations!X202","v":0},{"$f":"Calculations!AC202","v":0},5.2450684800099998E-2]
[{"$f":"Calculations!B203","v":39130},{"$f":"Calculations!A203","v":"Land Adjacent 186 Mount Road Penn Wolverhampton West Midlands WV4 5RU"},{"$f":"Calculations!C203","v":2.8907289799999999E-2},{"$f":"Calculations!G203","v":0},{"$f":"Calculations!O203","v":0},{"$f":"Calculations!P203","v":1},{"$f":"Calculations!U203","v":0},{"$f":"Calculations!X203","v":0},{"$f":"Calculations!AC203","v":0},2.8907289799999999E-2]
[{"$f":"Calculations!B204","v":39120},{"$f":"Calculations!A204","v":"Land Rear Of 22 Manor Road Penn Wolverhampton West Midlands WV4 5PY"},{"$f":"Calculations!C204","v":0.15396544130000001},{"$f":"Calculations!G204","v":0},{"$f":"Calculations!O204","v":0},{"$f":"Calculations!P204","v":1},{"$f":"Calculations!U204","v":"<1%"},{"$f":"Calculations!X204","v":5.9016453468249826E-4},{"$f":"Calculations!AC204","v":"<1%"},0.15396544130000001]
[{"$f":"Calculations!B205","v":39110},{"$f":"Calculations!A205","v":"138 Penn Road Wolverhampton WV3 0DZ"},{"$f":"Calculations!C205","v":3.2285124999999998E-2},{"$f":"Calculations!G205","v":0},{"$f":"Calculations!O205","v":0},{"$f":"Calculations!P205","v":1},{"$f":"Calculations!U205","v":0},{"$f":"Calculations!X205","v":0},{"$f":"Calculations!AC205","v":0},3.2285124999999998E-2]
[{"$f":"Calculations!B206","v":39100},{"$f":"Calculations!A206","v":"Land Between 79A Harrowby Road And Harrowby Road Allotment Site Fordhouses WV10 6EP"},{"$f":"Calculations!C206","v":0.1050669674},{"$f":"Calculations!G206","v":0},{"$f":"Calculations!O206","v":0},{"$f":"Calculations!P206","v":1},{"$f":"Calculations!U206","v":0},{"$f":"Calculations!X206","v":0},{"$f":"Calculations!AC206","v":0},0.1050669674]
[{"$f":"Calculations!B207","v":39090},{"$f":"Calculations!A207","v":"Land Between 28A And 54 - 56 Clare Crescent Wolverhampton West Midlands"},{"$f":"Calculations!C207","v":0.16114225765000001},{"$f":"Calculations!G207","v":0},{"$f":"Calculations!O207","v":0},{"$f":"Calculations!P207","v":1},{"$f":"Calculations!U207","v":0},{"$f":"Calculations!X207","v":0},{"$f":"Calculations!AC207","v":"<1%"},0.16114225765000001]
[{"$f":"Calculations!B208","v":39080},{"$f":"Calculations!A208","v":"113 Blackhalve Lane Wolverhampton West Midlands WV11 1AZ"},{"$f":"Calculations!C208","v":4.7957792200000002E-2},{"$f":"Calculations!G208","v":0},{"$f":"Calculations!O208","v":0},{"$f":"Calculations!P208","v":1},{"$f":"Calculations!U208","v":0},{"$f":"Calculations!X208","v":0},{"$f":"Calculations!AC208","v":0},4.7957792200000002E-2]
[{"$f":"Calculations!B209","v":39070},{"$f":"Calculations!A209","v":"Little Orchard Perton Road Wolverhampton West Midlands WV6 8DP"},{"$f":"Calculations!C209","v":0.37226865999999997},{"$f":"Calculations!G209","v":0},{"$f":"Calculations!O209","v":0},{"$f":"Calculations!P209","v":1},{"$f":"Calculations!U209","v":0},{"$f":"Calculations!X209","v":0},{"$f":"Calculations!AC209","v":0},0.37226865999999997]
[{"$f":"Calculations!B210","v":39060},{"$f":"Calculations!A210","v":"Land Adjacent 35 East Croft Road Wolverhampton West Midlands WV4 4NL"},{"$f":"Calculations!C210","v":2.34566968499E-2},{"$f":"Calculations!G210","v":0},{"$f":"Calculations!O210","v":0},{"$f":"Calculations!P210","v":1},{"$f":"Calculations!U210","v":0},{"$f":"Calculations!X210","v":0},{"$f":"Calculations!AC210","v":0},2.34566968499E-2]
[{"$f":"Calculations!B211","v":39050},{"$f":"Calculations!A211","v":"10 Lever Street Wolverhampton West Midlands WV2 1AL"},{"$f":"Calculations!C211","v":1.20238095E-2},{"$f":"Calculations!G211","v":0},{"$f":"Calculations!O211","v":0},{"$f":"Calculations!P211","v":1},{"$f":"Calculations!U211","v":0},{"$f":"Calculations!X211","v":0},{"$f":"Calculations!AC211","v":0},1.20238095E-2]
[{"$f":"Calculations!B212","v":39040},{"$f":"Calculations!A212","v":"143-145 Aldersley Road Wolverhampton West Midlands WV6 9NF"},{"$f":"Calculations!C212","v":5.1599460700000002E-2},{"$f":"Calculations!G212","v":0},{"$f":"Calculations!O212","v":0},{"$f":"Calculations!P212","v":1},{"$f":"Calculations!U212","v":0},{"$f":"Calculations!X212","v":0},{"$f":"Calculations!AC212","v":0},5.1599460700000002E-2]
[{"$f":"Calculations!B213","v":39030},{"$f":"Calculations!A213","v":"38 Rupert Street Wolverhampton West Midlands WV3 9NS"},{"$f":"Calculations!C213","v":5.695602365E-2},{"$f":"Calculations!G213","v":0},{"$f":"Calculations!O213","v":0},{"$f":"Calculations!P213","v":1},{"$f":"Calculations!U213","v":0},{"$f":"Calculations!X213","v":0},{"$f":"Calculations!AC213","v":0},5.695602365E-2]
[{"$f":"Calculations!B214","v":39020},{"$f":"Calculations!A214","v":"Flat 1 110 Hurst Road Lanesfield Wolverhampton West Midlands WV14 9EU"},{"$f":"Calculations!C214","v":2.96242E-2},{"$f":"Calculations!G214","v":0},{"$f":"Calculations!O214","v":0},{"$f":"Calculations!P214","v":1},{"$f":"Calculations!U214","v":0},{"$f":"Calculations!X214","v":0},{"$f":"Calculations!AC214","v":0},2.96242E-2]
[{"$f":"Calculations!B215","v":39010},{"$f":"Calculations!A215","v":"Bramerton Childrens Residential Home 17 Bramerton Close Wolverhampton West Midlands WV11 1RT"},{"$f":"Calculations!C215","v":4.5252252899999998E-2},{"$f":"Calculations!G215","v":0},{"$f":"Calculations!O215","v":0},{"$f":"Calculations!P215","v":1},{"$f":"Calculations!U215","v":0},{"$f":"Calculations!X215","v":0},{"$f":"Calculations!AC215","v":0},4.5252252899999998E-2]
[{"$f":"Calculations!B216","v":39000},{"$f":"Calculations!A216","v":"The Former British Legion Club Penn Road Wolverhampton West Midlands WV4 5LZ"},{"$f":"Calculations!C216","v":0.40787887989999999},{"$f":"Calculations!G216","v":0},{"$f":"Calculations!O216","v":0},{"$f":"Calculations!P216","v":1},{"$f":"Calculations!U216","v":0},{"$f":"Calculations!X216","v":0},{"$f":"Calculations!AC216","v":0},0.40787887989999999]
[{"$f":"Calculations!B217","v":38990},{"$f":"Calculations!A217","v":"The Otter And Vixen Old Fallings Lane Wolverhampton West Midlands WV10 8BN"},{"$f":"Calculations!C217","v":0.38018288365000003},{"$f":"Calculations!G217","v":0},{"$f":"Calculations!O217","v":0},{"$f":"Calculations!P217","v":1},{"$f":"Calculations!U217","v":0},{"$f":"Calculations!X217","v":0},{"$f":"Calculations!AC217","v":0.11758484647129905},0.38018288365000003]
[{"$f":"Calculations!B218","v":38980},{"$f":"Calculations!A218","v":"120 Stubby Lane Wolverhampton West Midlands WV11 3NJ"},{"$f":"Calculations!C218","v":9.9206950699900001E-2},{"$f":"Calculations!G218","v":0},{"$f":"Calculations!O218","v":0},{"$f":"Calculations!P218","v":1},{"$f":"Calculations!U218","v":0},{"$f":"Calculations!X218","v":0},{"$f":"Calculations!AC218","v":0},9.9206950699900001E-2]
[{"$f":"Calculations!B219","v":38970},{"$f":"Calculations!A219","v":"Land adj 12 Lloyd Hill, Lower Penn"},{"$f":"Calculations!C219","v":0.10512982564999999},{"$f":"Calculations!G219","v":0},{"$f":"Calculations!O219","v":0},{"$f":"Calculations!P219","v":1},{"$f":"Calculations!U219","v":0},{"$f":"Calculations!X219","v":0},{"$f":"Calculations!AC219","v":"<1%"},0.10512982564999999]
[{"$f":"Calculations!B220","v":38960},{"$f":"Calculations!A220","v":"Northwood Park Lodge Northwood Park Road Wolverhampton West Midlands WV10 8EU"},{"$f":"Calculations!C220","v":4.8057282600000001E-2},{"$f":"Calculations!G220","v":0},{"$f":"Calculations!O220","v":0},{"$f":"Calculations!P220","v":1},{"$f":"Calculations!U220","v":0},{"$f":"Calculations!X220","v":0},{"$f":"Calculations!AC220","v":0},4.8057282600000001E-2]
[{"$f":"Calculations!B221","v":38950},{"$f":"Calculations!A221","v":"133 Park Street South Wolverhampton West Midlands WV2 3JF"},{"$f":"Calculations!C221","v":2.1299624999899999E-2},{"$f":"Calculations!G221","v":0},{"$f":"Calculations!O221","v":0},{"$f":"Calculations!P221","v":1},{"$f":"Calculations!U221","v":0},{"$f":"Calculations!X221","v":0},{"$f":"Calculations!AC221","v":0},2.1299624999899999E-2]
[{"$f":"Calculations!B222","v":38940},{"$f":"Calculations!A222","v":"368 - 370 Dudley Road Wolverhampton WV2 3AY"},{"$f":"Calculations!C222","v":4.3654869899999997E-2},{"$f":"Calculations!G222","v":0},{"$f":"Calculations!O222","v":0},{"$f":"Calculations!P222","v":1},{"$f":"Calculations!U222","v":0},{"$f":"Calculations!X222","v":0},{"$f":"Calculations!AC222","v":0.28355865415106873},4.3654869899999997E-2]
[{"$f":"Calculations!B223","v":38930},{"$f":"Calculations!A223","v":"Upper Floors 27 And 28 Market Street Wolverhampton West Midlands WV1 3AG"},{"$f":"Calculations!C223","v":2.1077498599900001E-2},{"$f":"Calculations!G223","v":0},{"$f":"Calculations!O223","v":0},{"$f":"Calculations!P223","v":1},{"$f":"Calculations!U223","v":0},{"$f":"Calculations!X223","v":0},{"$f":"Calculations!AC223","v":0},2.1077498599900001E-2]
[{"$f":"Calculations!B224","v":38920},{"$f":"Calculations!A224","v":"23 Chetwynd Road Wolverhampton West Midlands WV2 4NZ"},{"$f":"Calculations!C224","v":2.2796849750000001E-2},{"$f":"Calculations!G224","v":0},{"$f":"Calculations!O224","v":0},{"$f":"Calculations!P224","v":1},{"$f":"Calculations!U224","v":0},{"$f":"Calculations!X224","v":0},{"$f":"Calculations!AC224","v":0},2.2796849750000001E-2]
[{"$f":"Calculations!B225","v":38910},{"$f":"Calculations!A225","v":"Woodend Post Office 80 Lower Prestwood Road Wolverhampton West Midlands WV11 1JP"},{"$f":"Calculations!C225","v":2.1168820000000001E-2},{"$f":"Calculations!G225","v":0},{"$f":"Calculations!O225","v":0},{"$f":"Calculations!P225","v":1},{"$f":"Calculations!U225","v":0},{"$f":"Calculations!X225","v":0},{"$f":"Calculations!AC225","v":0.43100764574496825},2.1168820000000001E-2]
[{"$f":"Calculations!B226","v":38900},{"$f":"Calculations!A226","v":"Hotel rear of The Old White Rose PH, 20 Lichfield St, Bilston WV14 0EB"},{"$f":"Calculations!C226","v":3.52257942E-2},{"$f":"Calculations!G226","v":0},{"$f":"Calculations!O226","v":0},{"$f":"Calculations!P226","v":1},{"$f":"Calculations!U226","v":0},{"$f":"Calculations!X226","v":0},{"$f":"Calculations!AC226","v":0},3.52257942E-2]
[{"$f":"Calculations!B227","v":38890},{"$f":"Calculations!A227","v":"1-3 St Johns Street Wolverhampton WV1 3NS"},{"$f":"Calculations!C227","v":1.8644337350000002E-2},{"$f":"Calculations!G227","v":0},{"$f":"Calculations!O227","v":0},{"$f":"Calculations!P227","v":1},{"$f":"Calculations!U227","v":0},{"$f":"Calculations!X227","v":0},{"$f":"Calculations!AC227","v":0},1.8644337350000002E-2]
[{"$f":"Calculations!B228","v":38880},{"$f":"Calculations!A228","v":"Land North And South Of Lane Street, Bradley WV14 8UP"},{"$f":"Calculations!C228","v":0.39641814356900001},{"$f":"Calculations!G228","v":0},{"$f":"Calculations!O228","v":0},{"$f":"Calculations!P228","v":1},{"$f":"Calculations!U228","v":0},{"$f":"Calculations!X228","v":0},{"$f":"Calculations!AC228","v":"<1%"},0.39641814356900001]
[{"$f":"Calculations!B229","v":38870},{"$f":"Calculations!A229","v":"19 Raynor Road Wolverhampton West Midlands WV10 9QY"},{"$f":"Calculations!C229","v":5.5125857700000003E-2},{"$f":"Calculations!G229","v":0},{"$f":"Calculations!O229","v":0},{"$f":"Calculations!P229","v":1},{"$f":"Calculations!U229","v":0},{"$f":"Calculations!X229","v":0},{"$f":"Calculations!AC229","v":0},5.5125857700000003E-2]
[{"$f":"Calculations!B230","v":38860},{"$f":"Calculations!A230","v":"13 - 15 Connaught Road Stowlawn Wolverhampton West Midlands WV14 6NU"},{"$f":"Calculations!C230","v":5.0456770650000003E-2},{"$f":"Calculations!G230","v":0},{"$f":"Calculations!O230","v":0},{"$f":"Calculations!P230","v":1},{"$f":"Calculations!U230","v":0},{"$f":"Calculations!X230","v":0},{"$f":"Calculations!AC230","v":0},5.0456770650000003E-2]
[{"$f":"Calculations!B231","v":38850},{"$f":"Calculations!A231","v":"15 Riley Crescent Wolverhampton West Midlands WV3 7DR"},{"$f":"Calculations!C231","v":4.5667289350000001E-2},{"$f":"Calculations!G231","v":0},{"$f":"Calculations!O231","v":0},{"$f":"Calculations!P231","v":1},{"$f":"Calculations!U231","v":0},{"$f":"Calculations!X231","v":0},{"$f":"Calculations!AC231","v":0},4.5667289350000001E-2]
[{"$f":"Calculations!B232","v":38840},{"$f":"Calculations!A232","v":"95 Cranmere Avenue Wolverhampton West Midlands WV6 8TR"},{"$f":"Calculations!C232","v":0.1269958803},{"$f":"Calculations!G232","v":0},{"$f":"Calculations!O232","v":0},{"$f":"Calculations!P232","v":1},{"$f":"Calculations!U232","v":0},{"$f":"Calculations!X232","v":0},{"$f":"Calculations!AC232","v":0},0.1269958803]
[{"$f":"Calculations!B233","v":38830},{"$f":"Calculations!A233","v":"Land North West Of Bilston Urban Village Medical Centre Bankfield Road Wolverhampton West Midlands"},{"$f":"Calculations!C233","v":0.4499486197},{"$f":"Calculations!G233","v":0},{"$f":"Calculations!O233","v":0},{"$f":"Calculations!P233","v":1},{"$f":"Calculations!U233","v":0},{"$f":"Calculations!X233","v":0},{"$f":"Calculations!AC233","v":0},0.4499486197]
[{"$f":"Calculations!B234","v":38820},{"$f":"Calculations!A234","v":"187 Leicester Street Wolverhampton West Midlands WV6 0PP"},{"$f":"Calculations!C234","v":1.7397870999999999E-2},{"$f":"Calculations!G234","v":0},{"$f":"Calculations!O234","v":0},{"$f":"Calculations!P234","v":1},{"$f":"Calculations!U234","v":0},{"$f":"Calculations!X234","v":1.1319933054912294E-2},{"$f":"Calculations!AC234","v":1.5553825441630188E-2},1.7397870999999999E-2]
[{"$f":"Calculations!B235","v":38810},{"$f":"Calculations!A235","v":"436 Lichfield Road Wolverhampton West Midlands WV11 3HF"},{"$f":"Calculations!C235","v":5.4247329849999998E-2},{"$f":"Calculations!G235","v":0},{"$f":"Calculations!O235","v":0},{"$f":"Calculations!P235","v":1},{"$f":"Calculations!U235","v":0.12410822262049089},{"$f":"Calculations!X235","v":0.2135299068502263},{"$f":"Calculations!AC235","v":0.32633482902593042},5.4247329849999998E-2]
[{"$f":"Calculations!B236","v":38500},{"$f":"Calculations!A236","v":"Mount Court, Mount Road"},{"$f":"Calculations!C236","v":0.1105176501},{"$f":"Calculations!G236","v":0},{"$f":"Calculations!O236","v":0},{"$f":"Calculations!P236","v":1},{"$f":"Calculations!U236","v":0},{"$f":"Calculations!X236","v":0},{"$f":"Calculations!AC236","v":0},0.1105176501]
[{"$f":"Calculations!B237","v":38800},{"$f":"Calculations!A237","v":"5 Waterloo Road Wolverhampton  WV1 4DJ"},{"$f":"Calculations!C237","v":3.0243346800000001E-2},{"$f":"Calculations!G237","v":0},{"$f":"Calculations!O237","v":0},{"$f":"Calculations!P237","v":1},{"$f":"Calculations!U237","v":0},{"$f":"Calculations!X237","v":0},{"$f":"Calculations!AC237","v":0.28120167179662137},3.0243346800000001E-2]
[{"$f":"Calculations!B238","v":38790},{"$f":"Calculations!A238","v":"Former Wood Hayes Pub Land North Of 434 Wood End Road Wolverhampton WV11 1YG"},{"$f":"Calculations!C238","v":0.12233000735000001},{"$f":"Calculations!G238","v":0},{"$f":"Calculations!O238","v":0},{"$f":"Calculations!P238","v":1},{"$f":"Calculations!U238","v":0},{"$f":"Calculations!X238","v":0},{"$f":"Calculations!AC238","v":0},0.12233000735000001]
[{"$f":"Calculations!B239","v":38780},{"$f":"Calculations!A239","v":"76 Finchfield Road West Wolverhampton West Midlands WV3 8BA"},{"$f":"Calculations!C239","v":0.25963567679999999},{"$f":"Calculations!G239","v":0},{"$f":"Calculations!O239","v":0},{"$f":"Calculations!P239","v":1},{"$f":"Calculations!U239","v":0},{"$f":"Calculations!X239","v":0},{"$f":"Calculations!AC239","v":0},0.25963567679999999]
[{"$f":"Calculations!B240","v":38770},{"$f":"Calculations!A240","v":"Land Behind 77 To 91 D'Urberville Road Wolverhampton West Midlands"},{"$f":"Calculations!C240","v":0.22791957765000001},{"$f":"Calculations!G240","v":0},{"$f":"Calculations!O240","v":0},{"$f":"Calculations!P240","v":1},{"$f":"Calculations!U240","v":0},{"$f":"Calculations!X240","v":0},{"$f":"Calculations!AC240","v":8.4123878354251599E-2},0.22791957765000001]
[{"$f":"Calculations!B241","v":38760},{"$f":"Calculations!A241","v":"5 Grove Lane Wolverhampton West Midlands WV6 8NH"},{"$f":"Calculations!C241","v":8.0554745750000004E-2},{"$f":"Calculations!G241","v":0},{"$f":"Calculations!O241","v":0},{"$f":"Calculations!P241","v":1},{"$f":"Calculations!U241","v":0},{"$f":"Calculations!X241","v":0},{"$f":"Calculations!AC241","v":0},8.0554745750000004E-2]
[{"$f":"Calculations!B242","v":38752},{"$f":"Calculations!A242","v":"Samson And Lion (land), Newbolt Road Wolverhampton West Midlands WV14 7NP"},{"$f":"Calculations!C242","v":0.16446787500000001},{"$f":"Calculations!G242","v":0},{"$f":"Calculations!O242","v":0},{"$f":"Calculations!P242","v":1},{"$f":"Calculations!U242","v":0},{"$f":"Calculations!X242","v":0},{"$f":"Calculations!AC242","v":"<1%"},{"$f":"C251*F251","v":0.16446787500000001}]
[{"$f":"Calculations!B243","v":38740},{"$f":"Calculations!A243","v":"466 Dudley Road Wolverhampton West Midlands WV2 3AF"},{"$f":"Calculations!C243","v":9.0669355500099993E-3},{"$f":"Calculations!G243","v":0},{"$f":"Calculations!O243","v":0},{"$f":"Calculations!P243","v":1},{"$f":"Calculations!U243","v":0},{"$f":"Calculations!X243","v":0},{"$f":"Calculations!AC243","v":0},9.0669355500099993E-3]
[{"$f":"Calculations!B244","v":38720},{"$f":"Calculations!A244","v":"Building Behind 50 Lichfield Street Wheelers Fold Wolverhampton West Midlands"},{"$f":"Calculations!C244","v":9.1268825999700001E-3},{"$f":"Calculations!G244","v":0},{"$f":"Calculations!O244","v":0},{"$f":"Calculations!P244","v":1},{"$f":"Calculations!U244","v":0},{"$f":"Calculations!X244","v":0},{"$f":"Calculations!AC244","v":"<1%"},9.1268825999700001E-3]
[{"$f":"Calculations!B245","v":38710},{"$f":"Calculations!A245","v":"The Angel Car Park, High Street, Wednesfield"},{"$f":"Calculations!C245","v":5.0558771500000002E-2},{"$f":"Calculations!G245","v":0},{"$f":"Calculations!O245","v":0},{"$f":"Calculations!P245","v":1},{"$f":"Calculations!U245","v":0},{"$f":"Calculations!X245","v":0},{"$f":"Calculations!AC245","v":0},5.0558771500000002E-2]
[{"$f":"Calculations!B246","v":38700},{"$f":"Calculations!A246","v":"Land To The Rear Of 32 And 33 Quail Green / Tinacre Hill"},{"$f":"Calculations!C246","v":0.28670450749999998},{"$f":"Calculations!G246","v":0},{"$f":"Calculations!O246","v":0},{"$f":"Calculations!P246","v":1},{"$f":"Calculations!U246","v":0},{"$f":"Calculations!X246","v":0},{"$f":"Calculations!AC246","v":0},0.28670450749999998]
[{"$f":"Calculations!B247","v":38690},{"$f":"Calculations!A247","v":"88A Great Brickkiln Street Wolverhampton WV3 0PU"},{"$f":"Calculations!C247","v":2.0384888050000001E-2},{"$f":"Calculations!G247","v":0},{"$f":"Calculations!O247","v":0},{"$f":"Calculations!P247","v":1},{"$f":"Calculations!U247","v":0},{"$f":"Calculations!X247","v":0},{"$f":"Calculations!AC247","v":0},2.0384888050000001E-2]
[{"$f":"Calculations!B248","v":38680},{"$f":"Calculations!A248","v":"Martin And Co 11 Waterloo Road Wolverhampton West Midlands WV1 4DJ"},{"$f":"Calculations!C248","v":6.3468299950000001E-2},{"$f":"Calculations!G248","v":0},{"$f":"Calculations!O248","v":0},{"$f":"Calculations!P248","v":1},{"$f":"Calculations!U248","v":0},{"$f":"Calculations!X248","v":0},{"$f":"Calculations!AC248","v":0},6.3468299950000001E-2]
[{"$f":"Calculations!B249","v":38670},{"$f":"Calculations!A249","v":"29 Vicarage Road All Saints Wolverhampton WV2 1BZ"},{"$f":"Calculations!C249","v":6.2609201000299996E-3},{"$f":"Calculations!G249","v":0},{"$f":"Calculations!O249","v":0},{"$f":"Calculations!P249","v":1},{"$f":"Calculations!U249","v":0},{"$f":"Calculations!X249","v":0},{"$f":"Calculations!AC249","v":0},6.2609201000299996E-3]
[{"$f":"Calculations!B250","v":38660},{"$f":"Calculations!A250","v":"Coniston House Chapel Ash Wolverhampton WV3 0UD"},{"$f":"Calculations!C250","v":0.15879255014999999},{"$f":"Calculations!G250","v":0},{"$f":"Calculations!O250","v":0},{"$f":"Calculations!P250","v":1},{"$f":"Calculations!U250","v":0},{"$f":"Calculations!X250","v":0},{"$f":"Calculations!AC250","v":0},0.15879255014999999]
[{"$f":"Calculations!B251","v":38650},{"$f":"Calculations!A251","v":"25 Waterloo Road Wolverhampton WV1 4DJ"},{"$f":"Calculations!C251","v":2.71582555999E-2},{"$f":"Calculations!G251","v":0},{"$f":"Calculations!O251","v":0},{"$f":"Calculations!P251","v":1},{"$f":"Calculations!U251","v":0},{"$f":"Calculations!X251","v":0},{"$f":"Calculations!AC251","v":0},2.71582555999E-2]
[{"$f":"Calculations!B252","v":38640},{"$f":"Calculations!A252","v":"Whiteheads Building  26A Snow Hill Wolverhampton"},{"$f":"Calculations!C252","v":3.0925664700000001E-2},{"$f":"Calculations!G252","v":0},{"$f":"Calculations!O252","v":0},{"$f":"Calculations!P252","v":1},{"$f":"Calculations!U252","v":0},{"$f":"Calculations!X252","v":0},{"$f":"Calculations!AC252","v":1.2023356447436358E-2},3.0925664700000001E-2]
[{"$f":"Calculations!B253","v":38630},{"$f":"Calculations!A253","v":"5 StOther Commitmentkwell Road"},{"$f":"Calculations!C253","v":0.43505941069999998},{"$f":"Calculations!G253","v":0},{"$f":"Calculations!O253","v":0},{"$f":"Calculations!P253","v":1},{"$f":"Calculations!U253","v":0},{"$f":"Calculations!X253","v":0},{"$f":"Calculations!AC253","v":0},0.43505941069999998]
[{"$f":"Calculations!B254","v":38620},{"$f":"Calculations!A254","v":"Land rear of 45 Rookery Road"},{"$f":"Calculations!C254","v":0.470717},{"$f":"Calculations!G254","v":0},{"$f":"Calculations!O254","v":0},{"$f":"Calculations!P254","v":1},{"$f":"Calculations!U254","v":0},{"$f":"Calculations!X254","v":0},{"$f":"Calculations!AC254","v":1.0563109575396683E-2},0.470717]
[{"$f":"Calculations!B255","v":38602},{"$f":"Calculations!A255","v":"Former Danesmore Park Primary School, Russell Close (playing field)"},{"$f":"Calculations!C255","v":1.4768397875999999},{"$f":"Calculations!G255","v":0},{"$f":"Calculations!O255","v":0},{"$f":"Calculations!P255","v":1},{"$f":"Calculations!U255","v":0},{"$f":"Calculations!X255","v":0},{"$f":"Calculations!AC255","v":2.5945841496611506E-2},1.4768397875999999]
[{"$f":"Calculations!B256","v":38590},{"$f":"Calculations!A256","v":"31 Lichfield Street, Bilston"},{"$f":"Calculations!C256","v":3.0933749999999999E-2},{"$f":"Calculations!G256","v":0},{"$f":"Calculations!O256","v":0},{"$f":"Calculations!P256","v":1},{"$f":"Calculations!U256","v":0},{"$f":"Calculations!X256","v":0},{"$f":"Calculations!AC256","v":0.21281288574495497},3.0933749999999999E-2]
[{"$f":"Calculations!B257","v":38570},{"$f":"Calculations!A257","v":"125 Parkfield Road"},{"$f":"Calculations!C257","v":8.4244103900000006E-2},{"$f":"Calculations!G257","v":0},{"$f":"Calculations!O257","v":0},{"$f":"Calculations!P257","v":1},{"$f":"Calculations!U257","v":0},{"$f":"Calculations!X257","v":5.4370570630047381E-3},{"$f":"Calculations!AC257","v":0.60204145413572374},8.4244103900000006E-2]
[{"$f":"Calculations!B258","v":38560},{"$f":"Calculations!A258","v":"Land adj 31 Coalway Road"},{"$f":"Calculations!C258","v":0.25203995150000003},{"$f":"Calculations!G258","v":0},{"$f":"Calculations!O258","v":0},{"$f":"Calculations!P258","v":1},{"$f":"Calculations!U258","v":0},{"$f":"Calculations!X258","v":4.5652682965502001E-3},{"$f":"Calculations!AC258","v":2.3542821720805636E-2},0.25203995150000003]
[{"$f":"Calculations!B259","v":38550},{"$f":"Calculations!A259","v":"109 Warstones Road"},{"$f":"Calculations!C259","v":2.0672125E-2},{"$f":"Calculations!G259","v":0},{"$f":"Calculations!O259","v":0},{"$f":"Calculations!P259","v":1},{"$f":"Calculations!U259","v":0},{"$f":"Calculations!X259","v":0},{"$f":"Calculations!AC259","v":0.19950516697040097},2.0672125E-2]
[{"$f":"Calculations!B260","v":38540},{"$f":"Calculations!A260","v":"3 Waterloo Road"},{"$f":"Calculations!C260","v":1.3862318E-2},{"$f":"Calculations!G260","v":0},{"$f":"Calculations!O260","v":0},{"$f":"Calculations!P260","v":1},{"$f":"Calculations!U260","v":0},{"$f":"Calculations!X260","v":0},{"$f":"Calculations!AC260","v":0.11787418143920807},1.3862318E-2]
[{"$f":"Calculations!B261","v":38610},{"$f":"Calculations!A261","v":"Land corner of Stafford St and Bone Mill Lane WV1 1NT"},{"$f":"Calculations!C261","v":0.60738343859999999},{"$f":"Calculations!G261","v":0},{"$f":"Calculations!O261","v":0},{"$f":"Calculations!P261","v":1},{"$f":"Calculations!U261","v":3.6220941503952296E-2},{"$f":"Calculations!X261","v":0.16766086648595033},{"$f":"Calculations!AC261","v":0.21922045547054203},0.60738343859999999]
[{"$f":"Calculations!B262","v":38580},{"$f":"Calculations!A262","v":"Corpus Christi RC Church, Griffiths Drive"},{"$f":"Calculations!C262","v":0.38047933500499997},{"$f":"Calculations!G262","v":0},{"$f":"Calculations!O262","v":0},{"$f":"Calculations!P262","v":1},{"$f":"Calculations!U262","v":0},{"$f":"Calculations!X262","v":0},{"$f":"Calculations!AC262","v":0},0.38047933500499997]
[{"$f":"Calculations!B263","v":38510},{"$f":"Calculations!A263","v":"6-7 Victoria Passage"},{"$f":"Calculations!C263","v":1.45207499981E-2},{"$f":"Calculations!G263","v":0},{"$f":"Calculations!O263","v":0},{"$f":"Calculations!P263","v":1},{"$f":"Calculations!U263","v":0},{"$f":"Calculations!X263","v":0},{"$f":"Calculations!AC263","v":0},1.45207499981E-2]
[{"$f":"Calculations!B264","v":38520},{"$f":"Calculations!A264","v":"43 Lichfield Road, Wednesfield"},{"$f":"Calculations!C264","v":6.49199263062E-3},{"$f":"Calculations!G264","v":0},{"$f":"Calculations!O264","v":0},{"$f":"Calculations!P264","v":1},{"$f":"Calculations!U264","v":0},{"$f":"Calculations!X264","v":0},{"$f":"Calculations!AC264","v":0},6.49199263062E-3]
[{"$f":"Calculations!B265","v":"D80"},{"$f":"Calculations!A265","v":"Oxley Moor House and Oxley Day Centre, Probert Road, WV10 6UF"},{"$f":"Calculations!C265","v":0.83191316501199997},{"$f":"Calculations!G265","v":0},{"$f":"Calculations!O265","v":0},{"$f":"Calculations!P265","v":1},{"$f":"Calculations!U265","v":0},{"$f":"Calculations!X265","v":0},{"$f":"Calculations!AC265","v":5.6276388767404213E-2},0.83191316501199997]
[{"$f":"Calculations!B266","v":"D79"},{"$f":"Calculations!A266","v":"Land to rear Stowheath Day Centre, Stowheath Lane, WV1 2TW"},{"$f":"Calculations!C266","v":0.38759097499799999},{"$f":"Calculations!G266","v":0},{"$f":"Calculations!O266","v":2.564102564102564E-2},{"$f":"Calculations!P266","v":0.97435897435897434},{"$f":"Calculations!U266","v":0},{"$f":"Calculations!X266","v":5.8718615522761947E-5},{"$f":"Calculations!AC266","v":0.23395096815352809},0.37765274486984612]
[{"$f":"Calculations!B267","v":"D78"},{"$f":"Calculations!A267","v":"Stowheath Day/Childrens Centres, Stowheath Lane, WV1 2TW"},{"$f":"Calculations!C267","v":1.137714275},{"$f":"Calculations!G267","v":4.3859649122807022E-2},{"$f":"Calculations!O267","v":0.17543859649122809},{"$f":"Calculations!P267","v":0.82456140350877194},{"$f":"Calculations!U267","v":"<1%"},{"$f":"Calculations!X267","v":3.5208155640145233E-2},{"$f":"Calculations!AC267","v":0.53956833814335947},0.93811527938596495]
[{"$f":"Calculations!B268","v":"D77"},{"$f":"Calculations!A268","v":"Fmr Slim Avenue Allotments, WV14 8RY"},{"$f":"Calculations!C268","v":0.19522988999800001},{"$f":"Calculations!G268","v":0},{"$f":"Calculations!O268","v":0},{"$f":"Calculations!P268","v":1},{"$f":"Calculations!U268","v":5.6495698715667937E-3},{"$f":"Calculations!X268","v":0.16896257668099862},{"$f":"Calculations!AC268","v":0.46318218408099476},0.19522988999800001]
[{"$f":"Calculations!B269","v":"D42"},{"$f":"Calculations!A269","v":"Reedham Gardens Open Space, WV4 4HE"},{"$f":"Calculations!C269","v":0.51639553000100002},{"$f":"Calculations!G269","v":0},{"$f":"Calculations!O269","v":0},{"$f":"Calculations!P269","v":1},{"$f":"Calculations!U269","v":0},{"$f":"Calculations!X269","v":0},{"$f":"Calculations!AC269","v":3.5418733550190838E-2},0.51639553000100002]
[{"$f":"Calculations!B270","v":"D76"},{"$f":"Calculations!A270","v":"Fmr Warstones Resource Centre, Warstones Drive, WV4 4PG"},{"$f":"Calculations!C270","v":0.42548013500100001},{"$f":"Calculations!G270","v":0},{"$f":"Calculations!O270","v":0},{"$f":"Calculations!P270","v":1},{"$f":"Calculations!U270","v":0},{"$f":"Calculations!X270","v":0},{"$f":"Calculations!AC270","v":"<1%"},0.42548013500100001]
[{"$f":"Calculations!B271","v":"D75"},{"$f":"Calculations!A271","v":"Fmr Merry Hill House, Langley Road, WV4 4YT"},{"$f":"Calculations!C271","v":0.36285093499900001},{"$f":"Calculations!G271","v":0},{"$f":"Calculations!O271","v":0},{"$f":"Calculations!P271","v":1},{"$f":"Calculations!U271","v":0},{"$f":"Calculations!X271","v":4.0168837866795546E-3},{"$f":"Calculations!AC271","v":1.946283093589786E-2},0.36285093499900001]
[{"$f":"Calculations!B272","v":"D74"},{"$f":"Calculations!A272","v":"Fmr Nelson Mandela House, Whitburn Close"},{"$f":"Calculations!C272","v":0.60085389000099998},{"$f":"Calculations!G272","v":0.46666666666666673},{"$f":"Calculations!O272","v":0.6166666666666667},{"$f":"Calculations!P272","v":0.3833333333333333},{"$f":"Calculations!U272","v":0},{"$f":"Calculations!X272","v":0},{"$f":"Calculations!AC272","v":0},0.23032732450038332]
[{"$f":"Calculations!B273","v":"D73"},{"$f":"Calculations!A273","v":"Fmr Woden Community Resource Centre, Vicarage Road"},{"$f":"Calculations!C273","v":0.463764879997},{"$f":"Calculations!G273","v":0},{"$f":"Calculations!O273","v":0},{"$f":"Calculations!P273","v":1},{"$f":"Calculations!U273","v":0},{"$f":"Calculations!X273","v":0},{"$f":"Calculations!AC273","v":0.16215113141056833},0.463764879997]
[{"$f":"Calculations!B274","v":"D72"},{"$f":"Calculations!A274","v":"Garage Site Behind 17-23 School Road, Tettenhall Wood"},{"$f":"Calculations!C274","v":0.15700045500000001},{"$f":"Calculations!G274","v":0},{"$f":"Calculations!O274","v":0},{"$f":"Calculations!P274","v":1},{"$f":"Calculations!U274","v":0},{"$f":"Calculations!X274","v":0},{"$f":"Calculations!AC274","v":0},0.15700045500000001]
[{"$f":"Calculations!B275","v":"D71"},{"$f":"Calculations!A275","v":"Garage Site 2-14 Pointon Close"},{"$f":"Calculations!C275","v":0.19365367101299999},{"$f":"Calculations!G275","v":0},{"$f":"Calculations!O275","v":0},{"$f":"Calculations!P275","v":1},{"$f":"Calculations!U275","v":0},{"$f":"Calculations!X275","v":0},{"$f":"Calculations!AC275","v":0},0.19365367101299999]
[{"$f":"Calculations!B276","v":"D70"},{"$f":"Calculations!A276","v":"Garage Site 1-7 Townson Road"},{"$f":"Calculations!C276","v":6.8066649998499998E-2},{"$f":"Calculations!G276","v":0},{"$f":"Calculations!O276","v":0},{"$f":"Calculations!P276","v":1},{"$f":"Calculations!U276","v":0},{"$f":"Calculations!X276","v":0},{"$f":"Calculations!AC276","v":"<1%"},6.8066649998499998E-2]
[{"$f":"Calculations!B277","v":"D69"},{"$f":"Calculations!A277","v":"Garage Site 94-96 Batmans Hill Road"},{"$f":"Calculations!C277","v":5.9979524999799999E-2},{"$f":"Calculations!G277","v":0},{"$f":"Calculations!O277","v":0},{"$f":"Calculations!P277","v":1},{"$f":"Calculations!U277","v":0},{"$f":"Calculations!X277","v":0},{"$f":"Calculations!AC277","v":2.1141027961028836E-2},5.9979524999799999E-2]
[{"$f":"Calculations!B278","v":"D68"},{"$f":"Calculations!A278","v":"17 Ryan Avenue"},{"$f":"Calculations!C278","v":4.4925555179200001E-2},{"$f":"Calculations!G278","v":0},{"$f":"Calculations!O278","v":0},{"$f":"Calculations!P278","v":1},{"$f":"Calculations!U278","v":0},{"$f":"Calculations!X278","v":0},{"$f":"Calculations!AC278","v":0.55401642223717118},4.4925555179200001E-2]
[{"$f":"Calculations!B279","v":"D67"},{"$f":"Calculations!A279","v":"Land rear of 31-37 Cavendish Road"},{"$f":"Calculations!C279","v":0.120117260001},{"$f":"Calculations!G279","v":0},{"$f":"Calculations!O279","v":0},{"$f":"Calculations!P279","v":1},{"$f":"Calculations!U279","v":0},{"$f":"Calculations!X279","v":2.6061467002943115E-5},{"$f":"Calculations!AC279","v":1.4985529602098938E-2},0.120117260001]
[{"$f":"Calculations!B280","v":"D66"},{"$f":"Calculations!A280","v":"Garage Site Behind 5-7 Arnhem Close"},{"$f":"Calculations!C280","v":0.112845159376},{"$f":"Calculations!G280","v":0},{"$f":"Calculations!O280","v":0},{"$f":"Calculations!P280","v":1},{"$f":"Calculations!U280","v":0.11322373126732779},{"$f":"Calculations!X280","v":0.28433497133044983},{"$f":"Calculations!AC280","v":0.48521519135692026},0.112845159376]
[{"$f":"Calculations!B281","v":"D65"},{"$f":"Calculations!A281","v":"Garage Site Behind 19 and 21 Central Avenue"},{"$f":"Calculations!C281","v":0.101858605001},{"$f":"Calculations!G281","v":0},{"$f":"Calculations!O281","v":0},{"$f":"Calculations!P281","v":1},{"$f":"Calculations!U281","v":0},{"$f":"Calculations!X281","v":0},{"$f":"Calculations!AC281","v":0},0.101858605001]
[{"$f":"Calculations!B282","v":"D64"},{"$f":"Calculations!A282","v":"Waddensbrook Lane"},{"$f":"Calculations!C282","v":0.26547078500100002},{"$f":"Calculations!G282","v":0.29629629629629628},{"$f":"Calculations!O282","v":0.33333333333333331},{"$f":"Calculations!P282","v":0.66666666666666674},{"$f":"Calculations!U282","v":0},{"$f":"Calculations!X282","v":0.17822983968641132},{"$f":"Calculations!AC282","v":0.58284174236282205},0.17698052333400002]
[{"$f":"Calculations!B283","v":"D63"},{"$f":"Calculations!A283","v":"Bradley Road"},{"$f":"Calculations!C283","v":6.3564620001099997E-2},{"$f":"Calculations!G283","v":0},{"$f":"Calculations!O283","v":0},{"$f":"Calculations!P283","v":1},{"$f":"Calculations!U283","v":0},{"$f":"Calculations!X283","v":0},{"$f":"Calculations!AC283","v":0},6.3564620001099997E-2]
[{"$f":"Calculations!B284","v":39470},{"$f":"Calculations!A284","v":"Hylstone Crescent"},{"$f":"Calculations!C284","v":0.17165168},{"$f":"Calculations!G284","v":0},{"$f":"Calculations!O284","v":0},{"$f":"Calculations!P284","v":1},{"$f":"Calculations!U284","v":0},{"$f":"Calculations!X284","v":0},{"$f":"Calculations!AC284","v":0},0.17165168]
[{"$f":"Calculations!B285","v":39390},{"$f":"Calculations!A285","v":"Fmr Garages rear 52-64 Foster Road"},{"$f":"Calculations!C285","v":0.17962241393299999},{"$f":"Calculations!G285","v":0},{"$f":"Calculations!O285","v":0},{"$f":"Calculations!P285","v":1},{"$f":"Calculations!U285","v":0},{"$f":"Calculations!X285","v":0},{"$f":"Calculations!AC285","v":6.6785034174368665E-2},0.17962241393299999]
[{"$f":"Calculations!B286","v":39450},{"$f":"Calculations!A286","v":"Garages behind 23-33 Dereham Walk, Wilkinson Avenue"},{"$f":"Calculations!C286","v":5.3250425000800003E-2},{"$f":"Calculations!G286","v":0},{"$f":"Calculations!O286","v":0},{"$f":"Calculations!P286","v":1},{"$f":"Calculations!U286","v":0},{"$f":"Calculations!X286","v":0},{"$f":"Calculations!AC286","v":0},5.3250425000800003E-2]
[{"$f":"Calculations!B287","v":"D59"},{"$f":"Calculations!A287","v":"Park View Road"},{"$f":"Calculations!C287","v":9.5297846103100006E-2},{"$f":"Calculations!G287","v":0},{"$f":"Calculations!O287","v":"<1%"},{"$f":"Calculations!P287","v":1},{"$f":"Calculations!U287","v":0},{"$f":"Calculations!X287","v":0},{"$f":"Calculations!AC287","v":9.1589112110541954E-3},9.5297846103100006E-2]
[{"$f":"Calculations!B288","v":"D58"},{"$f":"Calculations!A288","v":"Fairway Green Site B"},{"$f":"Calculations!C288","v":4.9253404996799997E-2},{"$f":"Calculations!G288","v":0},{"$f":"Calculations!O288","v":0},{"$f":"Calculations!P288","v":1},{"$f":"Calculations!U288","v":0},{"$f":"Calculations!X288","v":0},{"$f":"Calculations!AC288","v":0},4.9253404996799997E-2]
[{"$f":"Calculations!B289","v":39410},{"$f":"Calculations!A289","v":"Garages 64-65 Fairway Green (Site A)"},{"$f":"Calculations!C289","v":4.7810999999500003E-2},{"$f":"Calculations!G289","v":0},{"$f":"Calculations!O289","v":0},{"$f":"Calculations!P289","v":1},{"$f":"Calculations!U289","v":0},{"$f":"Calculations!X289","v":0},{"$f":"Calculations!AC289","v":0},4.7810999999500003E-2]
[{"$f":"Calculations!B290","v":39460},{"$f":"Calculations!A290","v":"Garage r/o 23 Whiston Avenue"},{"$f":"Calculations!C290","v":9.7286360002500002E-2},{"$f":"Calculations!G290","v":0},{"$f":"Calculations!O290","v":0},{"$f":"Calculations!P290","v":1},{"$f":"Calculations!U290","v":0},{"$f":"Calculations!X290","v":0},{"$f":"Calculations!AC290","v":0},9.7286360002500002E-2]
[{"$f":"Calculations!B291","v":39400},{"$f":"Calculations!A291","v":"Land adj 17 Moat Green Avenue"},{"$f":"Calculations!C291","v":0.15643271000200001},{"$f":"Calculations!G291","v":0},{"$f":"Calculations!O291","v":0},{"$f":"Calculations!P291","v":1},{"$f":"Calculations!U291","v":0},{"$f":"Calculations!X291","v":0},{"$f":"Calculations!AC291","v":1.0782414240707298E-2},0.15643271000200001]
[{"$f":"Calculations!B292","v":"D54"},{"$f":"Calculations!A292","v":"84-94 Pond Lane"},{"$f":"Calculations!C292","v":9.2263791358000002E-2},{"$f":"Calculations!G292","v":0},{"$f":"Calculations!O292","v":0},{"$f":"Calculations!P292","v":1},{"$f":"Calculations!U292","v":0},{"$f":"Calculations!X292","v":0},{"$f":"Calculations!AC292","v":"<1%"},9.2263791358000002E-2]
[{"$f":"Calculations!B293","v":"D53"},{"$f":"Calculations!A293","v":"Bradley Lane"},{"$f":"Calculations!C293","v":8.6728234949899993E-2},{"$f":"Calculations!G293","v":0},{"$f":"Calculations!O293","v":0},{"$f":"Calculations!P293","v":1},{"$f":"Calculations!U293","v":0},{"$f":"Calculations!X293","v":0.2093051077199275},{"$f":"Calculations!AC293","v":0.41458538826951485},8.6728234949899993E-2]
[{"$f":"Calculations!B294","v":39380},{"$f":"Calculations!A294","v":"Fmr Garages rear 3-9 Abingdon Road (Site B) WV1 2PP"},{"$f":"Calculations!C294","v":6.65100050005E-2},{"$f":"Calculations!G294","v":0},{"$f":"Calculations!O294","v":0},{"$f":"Calculations!P294","v":1},{"$f":"Calculations!U294","v":0},{"$f":"Calculations!X294","v":0},{"$f":"Calculations!AC294","v":0},6.65100050005E-2]
[{"$f":"Calculations!B295","v":"D51"},{"$f":"Calculations!A295","v":"Abingdon Road Site A (Garage site r/o 19-21)"},{"$f":"Calculations!C295","v":8.9903699999799996E-2},{"$f":"Calculations!G295","v":0},{"$f":"Calculations!O295","v":0},{"$f":"Calculations!P295","v":1},{"$f":"Calculations!U295","v":0},{"$f":"Calculations!X295","v":0},{"$f":"Calculations!AC295","v":0.27673121399336564},8.9903699999799996E-2]
[{"$f":"Calculations!B296","v":39510},{"$f":"Calculations!A296","v":"Land adj Westcroft Avenue WV10 8NH"},{"$f":"Calculations!C296","v":0.31109057499800002},{"$f":"Calculations!G296","v":0},{"$f":"Calculations!O296","v":0},{"$f":"Calculations!P296","v":1},{"$f":"Calculations!U296","v":0},{"$f":"Calculations!X296","v":0},{"$f":"Calculations!AC296","v":3.483921041350313E-2},0.31109057499800002]
[{"$f":"Calculations!B297","v":"D49"},{"$f":"Calculations!A297","v":"Land at Marchant Road"},{"$f":"Calculations!C297","v":0.10688910499900001},{"$f":"Calculations!G297","v":0},{"$f":"Calculations!O297","v":0},{"$f":"Calculations!P297","v":1},{"$f":"Calculations!U297","v":7.0171787843393129E-3},{"$f":"Calculations!X297","v":3.695474819358769E-2},{"$f":"Calculations!AC297","v":0.15630171458370151},0.10688910499900001]
[{"$f":"Calculations!B298","v":39490},{"$f":"Calculations!A298","v":"Land at 625-661 CannOther Commitmentk Road, Springfield WV10 8PH"},{"$f":"Calculations!C298","v":0.11490783500100001},{"$f":"Calculations!G298","v":0},{"$f":"Calculations!O298","v":0},{"$f":"Calculations!P298","v":1},{"$f":"Calculations!U298","v":0},{"$f":"Calculations!X298","v":0},{"$f":"Calculations!AC298","v":"<1%"},0.11490783500100001]
[{"$f":"Calculations!B299","v":39500},{"$f":"Calculations!A299","v":"Garages adj 12 Anslow Gardens WV11 2LL"},{"$f":"Calculations!C299","v":0.10347009612499999},{"$f":"Calculations!G299","v":0},{"$f":"Calculations!O299","v":0},{"$f":"Calculations!P299","v":1},{"$f":"Calculations!U299","v":0},{"$f":"Calculations!X299","v":0},{"$f":"Calculations!AC299","v":0},0.10347009612499999]
[{"$f":"Calculations!B300","v":39480},{"$f":"Calculations!A300","v":"Land adj 40 Wolverhampton Road"},{"$f":"Calculations!C300","v":0.19562019999499999},{"$f":"Calculations!G300","v":0},{"$f":"Calculations!O300","v":0},{"$f":"Calculations!P300","v":1},{"$f":"Calculations!U300","v":0},{"$f":"Calculations!X300","v":8.6087290884276964E-3},{"$f":"Calculations!AC300","v":0.28086110549943877},0.19562019999499999]
[{"$f":"Calculations!B301","v":39430},{"$f":"Calculations!A301","v":"Land adj 18-20 Peach Road"},{"$f":"Calculations!C301","v":3.6779825040599998E-2},{"$f":"Calculations!G301","v":0},{"$f":"Calculations!O301","v":0},{"$f":"Calculations!P301","v":1},{"$f":"Calculations!U301","v":0},{"$f":"Calculations!X301","v":8.9043160109784328E-4},{"$f":"Calculations!AC301","v":0.39686551394309949},3.6779825040599998E-2]
[{"$f":"Calculations!B302","v":39420},{"$f":"Calculations!A302","v":"Land rear 56-58 Peach Road"},{"$f":"Calculations!C302","v":0.121651197556},{"$f":"Calculations!G302","v":0},{"$f":"Calculations!O302","v":0},{"$f":"Calculations!P302","v":1},{"$f":"Calculations!U302","v":0},{"$f":"Calculations!X302","v":2.9417273288597366E-3},{"$f":"Calculations!AC302","v":3.5831128813848763E-2},0.121651197556]
[{"$f":"Calculations!B303","v":"D41"},{"$f":"Calculations!A303","v":"Fmr Daisy Bank Community Centre"},{"$f":"Calculations!C303","v":0.477942335},{"$f":"Calculations!G303","v":0},{"$f":"Calculations!O303","v":0},{"$f":"Calculations!P303","v":1},{"$f":"Calculations!U303","v":0},{"$f":"Calculations!X303","v":0},{"$f":"Calculations!AC303","v":2.553885518414685E-2},0.477942335]
[{"$f":"Calculations!B304","v":"D40"},{"$f":"Calculations!A304","v":"Land adj 9 Ettingshall Road / junction Sweetbriar Road"},{"$f":"Calculations!C304","v":0.29612025999800001},{"$f":"Calculations!G304","v":0},{"$f":"Calculations!O304","v":0},{"$f":"Calculations!P304","v":1},{"$f":"Calculations!U304","v":0},{"$f":"Calculations!X304","v":8.1742722254274265E-3},{"$f":"Calculations!AC304","v":0.65044667038897597},0.29612025999800001]
[{"$f":"Calculations!B305","v":"D39"},{"$f":"Calculations!A305","v":"Fmr Bilston Tennis Club, Villiers Avenue"},{"$f":"Calculations!C305","v":0.27585633000199999},{"$f":"Calculations!G305","v":0},{"$f":"Calculations!O305","v":0},{"$f":"Calculations!P305","v":1},{"$f":"Calculations!U305","v":0},{"$f":"Calculations!X305","v":0},{"$f":"Calculations!AC305","v":6.5822534546618357E-3},0.27585633000199999]
[{"$f":"Calculations!B306","v":"D36"},{"$f":"Calculations!A306","v":"Harrowby Court, Chetton Green"},{"$f":"Calculations!C306","v":3.0592778716899999E-2},{"$f":"Calculations!G306","v":0},{"$f":"Calculations!O306","v":0},{"$f":"Calculations!P306","v":1},{"$f":"Calculations!U306","v":0},{"$f":"Calculations!X306","v":0},{"$f":"Calculations!AC306","v":0},{"$f":"C315*F315","v":3.0592778716899999E-2}]
[{"$f":"Calculations!B307","v":"D37"},{"$f":"Calculations!A307","v":"Patshull Court, Chetton Green"},{"$f":"Calculations!C307","v":3.1595240001899998E-2},{"$f":"Calculations!G307","v":0},{"$f":"Calculations!O307","v":0},{"$f":"Calculations!P307","v":1},{"$f":"Calculations!U307","v":0},{"$f":"Calculations!X307","v":0},{"$f":"Calculations!AC307","v":0},3.1595240001899998E-2]
[{"$f":"Calculations!B308","v":"D38"},{"$f":"Calculations!A308","v":"Wobaston Court, Chetton Green"},{"$f":"Calculations!C308","v":2.9676204996099999E-2},{"$f":"Calculations!G308","v":0},{"$f":"Calculations!O308","v":0},{"$f":"Calculations!P308","v":1},{"$f":"Calculations!U308","v":0},{"$f":"Calculations!X308","v":0},{"$f":"Calculations!AC308","v":0},2.9676204996099999E-2]
[{"$f":"Calculations!B309","v":39370},{"$f":"Calculations!A309","v":"Chetton Green District Office, 134-137 Chetton Green, WV10 6ER"},{"$f":"Calculations!C309","v":1.91592081808E-2},{"$f":"Calculations!G309","v":0},{"$f":"Calculations!O309","v":0},{"$f":"Calculations!P309","v":1},{"$f":"Calculations!U309","v":0},{"$f":"Calculations!X309","v":0},{"$f":"Calculations!AC309","v":0},1.91592081808E-2]
[{"$f":"Calculations!B310","v":38751},{"$f":"Calculations!A310","v":"Samson And Lion (buildings), Newbolt Road WV14 7NP"},{"$f":"Calculations!C310","v":0.16446787500000001},{"$f":"Calculations!G310","v":0},{"$f":"Calculations!O310","v":0},{"$f":"Calculations!P310","v":1},{"$f":"Calculations!U310","v":0},{"$f":"Calculations!X310","v":0},{"$f":"Calculations!AC310","v":"<1%"},0.16446787500000001]
[{"$f":"Calculations!B311","v":38601},{"$f":"Calculations!A311","v":"Former Danesmore Park Primary School, Russell Close (school buildings)"},{"$f":"Calculations!C311","v":1.4768397875999999},{"$f":"Calculations!G311","v":0},{"$f":"Calculations!O311","v":0},{"$f":"Calculations!P311","v":1},{"$f":"Calculations!U311","v":0},{"$f":"Calculations!X311","v":0},{"$f":"Calculations!AC311","v":2.5945841496611506E-2},1.4768397875999999]
[{"$f":"Calculations!B312","v":"D5a"},{"$f":"Calculations!A312","v":"Northicote Secondary School, Northwood Park Road, WV10 8ER"},{"$f":"Calculations!C312","v":4.7634367400100004},{"$f":"Calculations!G312","v":0},{"$f":"Calculations!O312","v":0},{"$f":"Calculations!P312","v":1},{"$f":"Calculations!U312","v":7.473595629177026E-3},{"$f":"Calculations!X312","v":1.8222137657656345E-2},{"$f":"Calculations!AC312","v":7.1364406700132083E-2},4.7634367400100004]
[{"$f":"Calculations!B313","v":"D20"},{"$f":"Calculations!A313","v":"Beckminster House, Beckminster Road"},{"$f":"Calculations!C313","v":0.86295566000299995},{"$f":"Calculations!G313","v":0},{"$f":"Calculations!O313","v":0},{"$f":"Calculations!P313","v":1},{"$f":"Calculations!U313","v":0},{"$f":"Calculations!X313","v":0},{"$f":"Calculations!AC313","v":"<1%"},0.86295566000299995]
[{"$f":"Calculations!B314","v":"D33"},{"$f":"Calculations!A314","v":"Former Wolverhampton Environment Centre, Westacre Crescent"},{"$f":"Calculations!C314","v":0.95335190950600002},{"$f":"Calculations!G314","v":0},{"$f":"Calculations!O314","v":0},{"$f":"Calculations!P314","v":1},{"$f":"Calculations!U314","v":0},{"$f":"Calculations!X314","v":0},{"$f":"Calculations!AC314","v":1.5518574460446799E-2},0.95335190950600002]
[{"$f":"Calculations!B315","v":30430},{"$f":"Calculations!A315","v":"Ackleton Gardens Rear of Nos 47-49 Church Road Bradmore Wolverhampton"},{"$f":"Calculations!C315","v":0.19807274460099999},{"$f":"Calculations!G315","v":0},{"$f":"Calculations!O315","v":0},{"$f":"Calculations!P315","v":1},{"$f":"Calculations!U315","v":0},{"$f":"Calculations!X315","v":0},{"$f":"Calculations!AC315","v":0},0.19807274460099999]
[{"$f":"Calculations!B316","v":30690},{"$f":"Calculations!A316","v":"Land adjacent to 32 Maple Road"},{"$f":"Calculations!C316","v":1.44831171997E-2},{"$f":"Calculations!G316","v":0},{"$f":"Calculations!O316","v":0},{"$f":"Calculations!P316","v":1},{"$f":"Calculations!U316","v":0},{"$f":"Calculations!X316","v":0},{"$f":"Calculations!AC316","v":0},1.44831171997E-2]
[{"$f":"Calculations!B317","v":40170},{"$f":"Calculations!A317","v":"Land at the rear of 58A Hollybush Lane, Penn"},{"$f":"Calculations!C317","v":6.1422230000699997E-2},{"$f":"Calculations!G317","v":0},{"$f":"Calculations!O317","v":0},{"$f":"Calculations!P317","v":1},{"$f":"Calculations!U317","v":0},{"$f":"Calculations!X317","v":0},{"$f":"Calculations!AC317","v":0},6.1422230000699997E-2]
[{"$f":"Calculations!B318","v":29880},{"$f":"Calculations!A318","v":"Land between 53 & 55 Leason Lane, The Scotlands"},{"$f":"Calculations!C318","v":5.9884060501499997E-2},{"$f":"Calculations!G318","v":0},{"$f":"Calculations!O318","v":0},{"$f":"Calculations!P318","v":1},{"$f":"Calculations!U318","v":0},{"$f":"Calculations!X318","v":0},{"$f":"Calculations!AC318","v":2.1779844221156818E-2},5.9884060501499997E-2]
[{"$f":"Calculations!B319","v":40160},{"$f":"Calculations!A319","v":"32A Laburnum Road, Stowheath."},{"$f":"Calculations!C319","v":3.2871114998800001E-2},{"$f":"Calculations!G319","v":0},{"$f":"Calculations!O319","v":"<1%"},{"$f":"Calculations!P319","v":1},{"$f":"Calculations!U319","v":0},{"$f":"Calculations!X319","v":0},{"$f":"Calculations!AC319","v":0},3.2871114998800001E-2]
[{"$f":"Calculations!B320","v":31230},{"$f":"Calculations!A320","v":"62 & 64 Villiers Avenue"},{"$f":"Calculations!C320","v":5.26637556002E-2},{"$f":"Calculations!G320","v":0},{"$f":"Calculations!O320","v":0},{"$f":"Calculations!P320","v":1},{"$f":"Calculations!U320","v":0},{"$f":"Calculations!X320","v":0},{"$f":"Calculations!AC320","v":0},5.26637556002E-2]
[{"$f":"Calculations!B321","v":31460},{"$f":"Calculations!A321","v":"Land adjoining 1 Norfolk Road, Pennfields"},{"$f":"Calculations!C321","v":4.6720835199199999E-2},{"$f":"Calculations!G321","v":0},{"$f":"Calculations!O321","v":0},{"$f":"Calculations!P321","v":1},{"$f":"Calculations!U321","v":0},{"$f":"Calculations!X321","v":0},{"$f":"Calculations!AC321","v":0},4.6720835199199999E-2]
[{"$f":"Calculations!B322","v":31730},{"$f":"Calculations!A322","v":"62/63 Worcester Street, Wolverhampton"},{"$f":"Calculations!C322","v":1.5779874999499999E-2},{"$f":"Calculations!G322","v":0},{"$f":"Calculations!O322","v":0},{"$f":"Calculations!P322","v":1},{"$f":"Calculations!U322","v":0},{"$f":"Calculations!X322","v":0},{"$f":"Calculations!AC322","v":0},1.5779874999499999E-2]
[{"$f":"Calculations!B323","v":32450},{"$f":"Calculations!A323","v":"Land Adjacent To 162 Newhampton Road West Wolverhampton West Midlands WV6 0RR"},{"$f":"Calculations!C323","v":1.4406836000100001E-2},{"$f":"Calculations!G323","v":0},{"$f":"Calculations!O323","v":0},{"$f":"Calculations!P323","v":1},{"$f":"Calculations!U323","v":0},{"$f":"Calculations!X323","v":0},{"$f":"Calculations!AC323","v":0},1.4406836000100001E-2]
[{"$f":"Calculations!B324","v":33040},{"$f":"Calculations!A324","v":"61 Wrottesley Road Wolverhampton West Midlands WV6 8SG"},{"$f":"Calculations!C324","v":0.10511597200099999},{"$f":"Calculations!G324","v":0},{"$f":"Calculations!O324","v":0},{"$f":"Calculations!P324","v":1},{"$f":"Calculations!U324","v":0},{"$f":"Calculations!X324","v":0},{"$f":"Calculations!AC324","v":0},0.10511597200099999]
[{"$f":"Calculations!B325","v":40140},{"$f":"Calculations!A325","v":"25 Shaw Road, Blakenhall"},{"$f":"Calculations!C325","v":7.0381250001100001E-2},{"$f":"Calculations!G325","v":0},{"$f":"Calculations!O325","v":0},{"$f":"Calculations!P325","v":1},{"$f":"Calculations!U325","v":0},{"$f":"Calculations!X325","v":0},{"$f":"Calculations!AC325","v":0},7.0381250001100001E-2]
[{"$f":"Calculations!B326","v":40180},{"$f":"Calculations!A326","v":"Blunts Shoeshop, 5-15 Broad Street, Wolverhampton"},{"$f":"Calculations!C326","v":3.8363272998700002E-2},{"$f":"Calculations!G326","v":0},{"$f":"Calculations!O326","v":0},{"$f":"Calculations!P326","v":1},{"$f":"Calculations!U326","v":0},{"$f":"Calculations!X326","v":0},{"$f":"Calculations!AC326","v":0},3.8363272998700002E-2]
[{"$f":"Calculations!B327","v":30790},{"$f":"Calculations!A327","v":"102 Napier Road"},{"$f":"Calculations!C327","v":5.9278119499599997E-2},{"$f":"Calculations!G327","v":0},{"$f":"Calculations!O327","v":0},{"$f":"Calculations!P327","v":1},{"$f":"Calculations!U327","v":0},{"$f":"Calculations!X327","v":0},{"$f":"Calculations!AC327","v":"<1%"},5.9278119499599997E-2]
[{"$f":"Calculations!B328","v":40150},{"$f":"Calculations!A328","v":"Land adjacent to 50 Jeremy Road Goldthorn Park."},{"$f":"Calculations!C328","v":2.1890625E-2},{"$f":"Calculations!G328","v":0},{"$f":"Calculations!O328","v":0},{"$f":"Calculations!P328","v":1},{"$f":"Calculations!U328","v":0},{"$f":"Calculations!X328","v":0},{"$f":"Calculations!AC328","v":0},2.1890625E-2]
[{"$f":"Calculations!B329","v":32730},{"$f":"Calculations!A329","v":"Culwell Industrial Estate"},{"$f":"Calculations!C329","v":4.2055100713},{"$f":"Calculations!G329","v":0},{"$f":"Calculations!O329","v":0},{"$f":"Calculations!P329","v":1},{"$f":"Calculations!U329","v":0},{"$f":"Calculations!X329","v":9.2330102216400308E-3},{"$f":"Calculations!AC329","v":6.4826563615032196E-2},4.2055100713]
[{"$f":"Calculations!B330","v":31850},{"$f":"Calculations!A330","v":"Cornerstone Veterinary Centre, Northwood Park Road, Bushbury"},{"$f":"Calculations!C330","v":9.2465345000499993E-2},{"$f":"Calculations!G330","v":0},{"$f":"Calculations!O330","v":0},{"$f":"Calculations!P330","v":1},{"$f":"Calculations!U330","v":0},{"$f":"Calculations!X330","v":0},{"$f":"Calculations!AC330","v":0},9.2465345000499993E-2]
[{"$f":"Calculations!B331","v":32860},{"$f":"Calculations!A331","v":"Garage Site Rear Of 104 And 106 Mount Road Lanesfield Wolverhampton West Midlands"},{"$f":"Calculations!C331","v":5.4385523249100003E-2},{"$f":"Calculations!G331","v":0},{"$f":"Calculations!O331","v":0},{"$f":"Calculations!P331","v":1},{"$f":"Calculations!U331","v":0},{"$f":"Calculations!X331","v":0},{"$f":"Calculations!AC331","v":0},5.4385523249100003E-2]
[{"$f":"Calculations!B332","v":27430},{"$f":"Calculations!A332","v":"Goldthorn Hill Pumping Station and Allotments"},{"$f":"Calculations!C332","v":0.46382787499900002},{"$f":"Calculations!G332","v":0},{"$f":"Calculations!O332","v":0},{"$f":"Calculations!P332","v":1},{"$f":"Calculations!U332","v":0},{"$f":"Calculations!X332","v":0},{"$f":"Calculations!AC332","v":0},0.46382787499900002]
[{"$f":"Calculations!B333","v":37610},{"$f":"Calculations!A333","v":"85 Northwood Park Road Wolverhampton West Midlands WV10 8EX"},{"$f":"Calculations!C333","v":2.8896677601399998E-2},{"$f":"Calculations!G333","v":0},{"$f":"Calculations!O333","v":0},{"$f":"Calculations!P333","v":1},{"$f":"Calculations!U333","v":0},{"$f":"Calculations!X333","v":0},{"$f":"Calculations!AC333","v":0.26912931774185067},2.8896677601399998E-2]
[{"$f":"Calculations!B334","v":32700},{"$f":"Calculations!A334","v":"Former Dale House, Showell Circus"},{"$f":"Calculations!C334","v":0.356851810002},{"$f":"Calculations!G334","v":0},{"$f":"Calculations!O334","v":0},{"$f":"Calculations!P334","v":1},{"$f":"Calculations!U334","v":0},{"$f":"Calculations!X334","v":0},{"$f":"Calculations!AC334","v":"<1%"},0.356851810002]
[{"$f":"Calculations!B335","v":32870},{"$f":"Calculations!A335","v":"76 Wrottesley Road Wolverhampton West Midlands WV6 8SH"},{"$f":"Calculations!C335","v":6.8723914450899995E-2},{"$f":"Calculations!G335","v":0},{"$f":"Calculations!O335","v":0},{"$f":"Calculations!P335","v":1},{"$f":"Calculations!U335","v":0},{"$f":"Calculations!X335","v":0},{"$f":"Calculations!AC335","v":0},6.8723914450899995E-2]
[{"$f":"Calculations!B336","v":33530},{"$f":"Calculations!A336","v":"20 Lawley Road Wolverhampton West Midlands WV14 0NB"},{"$f":"Calculations!C336","v":0.113725874999},{"$f":"Calculations!G336","v":0},{"$f":"Calculations!O336","v":0},{"$f":"Calculations!P336","v":1},{"$f":"Calculations!U336","v":0},{"$f":"Calculations!X336","v":0},{"$f":"Calculations!AC336","v":"<1%"},0.113725874999]
[{"$f":"Calculations!B337","v":33680},{"$f":"Calculations!A337","v":"152 Dunstall Road Wolverhampton West Midlands WV6 0NL"},{"$f":"Calculations!C337","v":5.2057469999499999E-2},{"$f":"Calculations!G337","v":0},{"$f":"Calculations!O337","v":0},{"$f":"Calculations!P337","v":1},{"$f":"Calculations!U337","v":0},{"$f":"Calculations!X337","v":0},{"$f":"Calculations!AC337","v":0.11745500880332309},5.2057469999499999E-2]
[{"$f":"Calculations!B338","v":32710},{"$f":"Calculations!A338","v":"New Cross Hospital, Wolverhampton Road"},{"$f":"Calculations!C338","v":23.636769529199899},{"$f":"Calculations!G338","v":0},{"$f":"Calculations!O338","v":0},{"$f":"Calculations!P338","v":1},{"$f":"Calculations!U338","v":"<1%"},{"$f":"Calculations!X338","v":1.8195042109428135E-2},{"$f":"Calculations!AC338","v":6.9391375967052818E-2},23.636769529199899]
[{"$f":"Calculations!B339","v":33320},{"$f":"Calculations!A339","v":"Land Adjacent To 1 Howard Road Britannia Road Wolverhampton West Midlands"},{"$f":"Calculations!C339","v":6.4414661351999997E-2},{"$f":"Calculations!G339","v":0},{"$f":"Calculations!O339","v":0},{"$f":"Calculations!P339","v":1},{"$f":"Calculations!U339","v":0},{"$f":"Calculations!X339","v":0},{"$f":"Calculations!AC339","v":0},6.4414661351999997E-2]
[{"$f":"Calculations!B340","v":33500},{"$f":"Calculations!A340","v":"50-52 Willenhall Road Bilston Wolverhampton West Midlands WV14 6NW"},{"$f":"Calculations!C340","v":0.127117615001},{"$f":"Calculations!G340","v":0},{"$f":"Calculations!O340","v":0},{"$f":"Calculations!P340","v":1},{"$f":"Calculations!U340","v":0},{"$f":"Calculations!X340","v":0},{"$f":"Calculations!AC340","v":0},0.127117615001]
[{"$f":"Calculations!B341","v":32950},{"$f":"Calculations!A341","v":"Store Adjacent 35 Claremont Road Wolverhampton West Midlands WV3 0EA"},{"$f":"Calculations!C341","v":1.8826798000900001E-2},{"$f":"Calculations!G341","v":0},{"$f":"Calculations!O341","v":0},{"$f":"Calculations!P341","v":1},{"$f":"Calculations!U341","v":0},{"$f":"Calculations!X341","v":0},{"$f":"Calculations!AC341","v":0},1.8826798000900001E-2]
[{"$f":"Calculations!B342","v":29850},{"$f":"Calculations!A342","v":"Land between 66 & 68 Redcotts Close, The Scotlands"},{"$f":"Calculations!C342","v":4.3255919548800002E-2},{"$f":"Calculations!G342","v":0},{"$f":"Calculations!O342","v":0},{"$f":"Calculations!P342","v":1},{"$f":"Calculations!U342","v":0},{"$f":"Calculations!X342","v":0},{"$f":"Calculations!AC342","v":0},4.3255919548800002E-2]
[{"$f":"Calculations!B343","v":31930},{"$f":"Calculations!A343","v":"99 Wellington Road Bilston"},{"$f":"Calculations!C343","v":0.40287917099999998},{"$f":"Calculations!G343","v":0},{"$f":"Calculations!O343","v":0},{"$f":"Calculations!P343","v":1},{"$f":"Calculations!U343","v":2.8792751859589186E-2},{"$f":"Calculations!X343","v":0.16878602309027044},{"$f":"Calculations!AC343","v":0.47515291391125802},0.40287917099999998]
[{"$f":"Calculations!B344","v":32470},{"$f":"Calculations!A344","v":"127 Canterbury Road Wolverhampton West Midlands WV4 4EQ"},{"$f":"Calculations!C344","v":3.0305927500299999E-2},{"$f":"Calculations!G344","v":0},{"$f":"Calculations!O344","v":0},{"$f":"Calculations!P344","v":1},{"$f":"Calculations!U344","v":0},{"$f":"Calculations!X344","v":0},{"$f":"Calculations!AC344","v":0},3.0305927500299999E-2]
[{"$f":"Calculations!B345","v":32230},{"$f":"Calculations!A345","v":"21 Lichfield Street Bilston Wolverhampton West Midlands WV14 0AG"},{"$f":"Calculations!C345","v":3.3107967500499998E-2},{"$f":"Calculations!G345","v":0},{"$f":"Calculations!O345","v":0},{"$f":"Calculations!P345","v":1},{"$f":"Calculations!U345","v":0},{"$f":"Calculations!X345","v":0},{"$f":"Calculations!AC345","v":0},3.3107967500499998E-2]
[{"$f":"Calculations!B346","v":34470},{"$f":"Calculations!A346","v":"1 Princess Street, City Centre WV1 1HQ"},{"$f":"Calculations!C346","v":2.02296249981E-2},{"$f":"Calculations!G346","v":0},{"$f":"Calculations!O346","v":0},{"$f":"Calculations!P346","v":1},{"$f":"Calculations!U346","v":0},{"$f":"Calculations!X346","v":0},{"$f":"Calculations!AC346","v":0},2.02296249981E-2]
[{"$f":"Calculations!B347","v":34390},{"$f":"Calculations!A347","v":"Old Vine PH, Lower Vauxhall"},{"$f":"Calculations!C347","v":9.5575999998200004E-2},{"$f":"Calculations!G347","v":0},{"$f":"Calculations!O347","v":0},{"$f":"Calculations!P347","v":1},{"$f":"Calculations!U347","v":0},{"$f":"Calculations!X347","v":0},{"$f":"Calculations!AC347","v":"<1%"},9.5575999998200004E-2]
[{"$f":"Calculations!B348","v":34770},{"$f":"Calculations!A348","v":"Former Sons Of Rest, Hackett Close WV14 9SD"},{"$f":"Calculations!C348","v":9.8542512499400006E-2},{"$f":"Calculations!G348","v":0},{"$f":"Calculations!O348","v":0},{"$f":"Calculations!P348","v":1},{"$f":"Calculations!U348","v":0},{"$f":"Calculations!X348","v":0},{"$f":"Calculations!AC348","v":0},9.8542512499400006E-2]
[{"$f":"Calculations!B349","v":34670},{"$f":"Calculations!A349","v":"1-3 Hinchliffe Avenue WV14 9PQ"},{"$f":"Calculations!C349","v":0.16984646249999999},{"$f":"Calculations!G349","v":0},{"$f":"Calculations!O349","v":0},{"$f":"Calculations!P349","v":1},{"$f":"Calculations!U349","v":0},{"$f":"Calculations!X349","v":1.7888564229649473E-3},{"$f":"Calculations!AC349","v":0.13169554605557948},0.16984646249999999]
[{"$f":"Calculations!B350","v":40130},{"$f":"Calculations!A350","v":"Land rear of 28/30 Beccles Drive"},{"$f":"Calculations!C350","v":0.11305282305},{"$f":"Calculations!G350","v":0},{"$f":"Calculations!O350","v":0},{"$f":"Calculations!P350","v":1},{"$f":"Calculations!U350","v":0},{"$f":"Calculations!X350","v":0},{"$f":"Calculations!AC350","v":0},0.11305282305]
[{"$f":"Calculations!B351","v":33760},{"$f":"Calculations!A351","v":"48 Bolton Road Wolverhampton West Midlands WV11 1UA"},{"$f":"Calculations!C351","v":3.7939150000199998E-2},{"$f":"Calculations!G351","v":0},{"$f":"Calculations!O351","v":0},{"$f":"Calculations!P351","v":1},{"$f":"Calculations!U351","v":0},{"$f":"Calculations!X351","v":0},{"$f":"Calculations!AC351","v":0},3.7939150000199998E-2]
[{"$f":"Calculations!B352","v":34190},{"$f":"Calculations!A352","v":"1-3 Hunter Street"},{"$f":"Calculations!C352","v":3.8242127500900003E-2},{"$f":"Calculations!G352","v":0},{"$f":"Calculations!O352","v":0},{"$f":"Calculations!P352","v":1},{"$f":"Calculations!U352","v":0},{"$f":"Calculations!X352","v":0},{"$f":"Calculations!AC352","v":0.47240971223920086},3.8242127500900003E-2]
[{"$f":"Calculations!B353","v":35620},{"$f":"Calculations!A353","v":"Land adjacent to and rear of 6 Bridgnorth Road, Wolverhampton, West Midlands"},{"$f":"Calculations!C353","v":0.28569695610399998},{"$f":"Calculations!G353","v":0},{"$f":"Calculations!O353","v":0.20689655172413793},{"$f":"Calculations!P353","v":0.7931034482758621},{"$f":"Calculations!U353","v":0},{"$f":"Calculations!X353","v":2.4692161351134646E-2},{"$f":"Calculations!AC353","v":0.88367097414578422},0.22658724104799999]
[{"$f":"Calculations!B354","v":35170},{"$f":"Calculations!A354","v":"106 Rosemary Crescent West, Wolverhampton, West Midlands, WV4 5AN"},{"$f":"Calculations!C354","v":6.5175249998400006E-2},{"$f":"Calculations!G354","v":0},{"$f":"Calculations!O354","v":0},{"$f":"Calculations!P354","v":1},{"$f":"Calculations!U354","v":0},{"$f":"Calculations!X354","v":0},{"$f":"Calculations!AC354","v":0.11930956602004433},6.5175249998400006E-2]
[{"$f":"Calculations!B355","v":35640},{"$f":"Calculations!A355","v":"60 Avondale Road, Wolverhampton, West Midlands, WV6 0AJ"},{"$f":"Calculations!C355","v":2.1484030001E-2},{"$f":"Calculations!G355","v":0},{"$f":"Calculations!O355","v":0},{"$f":"Calculations!P355","v":1},{"$f":"Calculations!U355","v":0},{"$f":"Calculations!X355","v":0.11072689807439634},{"$f":"Calculations!AC355","v":9.4927465373073533E-2},2.1484030001E-2]
[{"$f":"Calculations!B356","v":35440},{"$f":"Calculations!A356","v":"Land adjacent to 26 Rooker Crescent, Wolverhampton, West Midlands, WV2 2DU"},{"$f":"Calculations!C356","v":4.9350625000299998E-2},{"$f":"Calculations!G356","v":0},{"$f":"Calculations!O356","v":0},{"$f":"Calculations!P356","v":1},{"$f":"Calculations!U356","v":0},{"$f":"Calculations!X356","v":0},{"$f":"Calculations!AC356","v":0},4.9350625000299998E-2]
[{"$f":"Calculations!B357","v":34510},{"$f":"Calculations!A357","v":"Oriel Lodge, 796 Stafford Road WV10 6NT"},{"$f":"Calculations!C357","v":0.17109885985100001},{"$f":"Calculations!G357","v":0},{"$f":"Calculations!O357","v":0},{"$f":"Calculations!P357","v":1},{"$f":"Calculations!U357","v":0},{"$f":"Calculations!X357","v":0},{"$f":"Calculations!AC357","v":0},0.17109885985100001]
[{"$f":"Calculations!B358","v":33690},{"$f":"Calculations!A358","v":"176 Newhampton Road East Wolverhampton West Midlands WV1 4PQ"},{"$f":"Calculations!C358","v":3.7585934996999998E-2},{"$f":"Calculations!G358","v":0},{"$f":"Calculations!O358","v":0},{"$f":"Calculations!P358","v":1},{"$f":"Calculations!U358","v":0},{"$f":"Calculations!X358","v":1.0411938089985945E-2},{"$f":"Calculations!AC358","v":0.63846369504465939},3.7585934996999998E-2]
[{"$f":"Calculations!B359","v":35120},{"$f":"Calculations!A359","v":"57 Wellington Road, Wolverhampton, West Midlands, WV14 6AQ"},{"$f":"Calculations!C359","v":3.2035207500299999E-2},{"$f":"Calculations!G359","v":0},{"$f":"Calculations!O359","v":0},{"$f":"Calculations!P359","v":1},{"$f":"Calculations!U359","v":0},{"$f":"Calculations!X359","v":0},{"$f":"Calculations!AC359","v":"<1%"},3.2035207500299999E-2]
[{"$f":"Calculations!B360","v":33490},{"$f":"Calculations!A360","v":"Slade Hill Riches Street Wolverhampton West Midlands WV6 0EJ"},{"$f":"Calculations!C360","v":0.34457305999999999},{"$f":"Calculations!G360","v":0},{"$f":"Calculations!O360","v":0},{"$f":"Calculations!P360","v":1},{"$f":"Calculations!U360","v":0},{"$f":"Calculations!X360","v":0},{"$f":"Calculations!AC360","v":0},0.34457305999999999]
[{"$f":"Calculations!B361","v":35530},{"$f":"Calculations!A361","v":"187 Tettenhall Road, Wolverhampton, West Midlands, WV6 0BZ"},{"$f":"Calculations!C361","v":0.106197150001},{"$f":"Calculations!G361","v":0},{"$f":"Calculations!O361","v":0},{"$f":"Calculations!P361","v":1},{"$f":"Calculations!U361","v":0},{"$f":"Calculations!X361","v":0},{"$f":"Calculations!AC361","v":0},0.106197150001]
[{"$f":"Calculations!B362","v":35450},{"$f":"Calculations!A362","v":"122B Castlecroft Road, Castlecroft, Wolverhampton, West Midlands, WV3 8LU"},{"$f":"Calculations!C362","v":5.35617140028E-3},{"$f":"Calculations!G362","v":0},{"$f":"Calculations!O362","v":0},{"$f":"Calculations!P362","v":1},{"$f":"Calculations!U362","v":0},{"$f":"Calculations!X362","v":0},{"$f":"Calculations!AC362","v":0},5.35617140028E-3]
[{"$f":"Calculations!B363","v":34260},{"$f":"Calculations!A363","v":"1 Wolseley Road"},{"$f":"Calculations!C363","v":5.26212499985E-2},{"$f":"Calculations!G363","v":0},{"$f":"Calculations!O363","v":0},{"$f":"Calculations!P363","v":1},{"$f":"Calculations!U363","v":0},{"$f":"Calculations!X363","v":0},{"$f":"Calculations!AC363","v":0.35354410150426524},5.26212499985E-2]
[{"$f":"Calculations!B364","v":31220},{"$f":"Calculations!A364","v":"Land adj 22 Marchant Road, Stowlawn"},{"$f":"Calculations!C364","v":0.10735894999999999},{"$f":"Calculations!G364","v":0},{"$f":"Calculations!O364","v":0},{"$f":"Calculations!P364","v":1},{"$f":"Calculations!U364","v":0},{"$f":"Calculations!X364","v":0},{"$f":"Calculations!AC364","v":0},0.10735894999999999]
[{"$f":"Calculations!B365","v":37650},{"$f":"Calculations!A365","v":"First Floor 1 - 13 Mount Pleasant Bilston WV14 7LJ"},{"$f":"Calculations!C365","v":3.62393324956E-3},{"$f":"Calculations!G365","v":0},{"$f":"Calculations!O365","v":0},{"$f":"Calculations!P365","v":1},{"$f":"Calculations!U365","v":0},{"$f":"Calculations!X365","v":0},{"$f":"Calculations!AC365","v":0},3.62393324956E-3]
[{"$f":"Calculations!B366","v":35220},{"$f":"Calculations!A366","v":"64 Green Lanes, Wolverhampton, WV14 6DA"},{"$f":"Calculations!C366","v":6.0015624996200001E-2},{"$f":"Calculations!G366","v":0},{"$f":"Calculations!O366","v":0},{"$f":"Calculations!P366","v":1},{"$f":"Calculations!U366","v":0},{"$f":"Calculations!X366","v":9.7441291019968165E-5},{"$f":"Calculations!AC366","v":1.1892278052993544E-2},6.0015624996200001E-2]
[{"$f":"Calculations!B367","v":34680},{"$f":"Calculations!A367","v":"15-18 Queen Street, City Centre WV1 3JW"},{"$f":"Calculations!C367","v":1.5493320000199999E-2},{"$f":"Calculations!G367","v":0},{"$f":"Calculations!O367","v":0},{"$f":"Calculations!P367","v":1},{"$f":"Calculations!U367","v":0},{"$f":"Calculations!X367","v":0},{"$f":"Calculations!AC367","v":0},1.5493320000199999E-2]
[{"$f":"Calculations!B368","v":34700},{"$f":"Calculations!A368","v":"203 Trysull Road WV3 7JP"},{"$f":"Calculations!C368","v":6.68543500002E-2},{"$f":"Calculations!G368","v":0},{"$f":"Calculations!O368","v":0},{"$f":"Calculations!P368","v":1},{"$f":"Calculations!U368","v":0},{"$f":"Calculations!X368","v":0},{"$f":"Calculations!AC368","v":0},6.68543500002E-2]
[{"$f":"Calculations!B369","v":33660},{"$f":"Calculations!A369","v":"149 Merridale Street West Wolverhampton West Midlands WV3 0RW"},{"$f":"Calculations!C369","v":3.6340223497499997E-2},{"$f":"Calculations!G369","v":0},{"$f":"Calculations!O369","v":0},{"$f":"Calculations!P369","v":1},{"$f":"Calculations!U369","v":1.3895362807984339E-2},{"$f":"Calculations!X369","v":1.9228571617152312E-2},{"$f":"Calculations!AC369","v":2.4164901549529882E-2},3.6340223497499997E-2]
[{"$f":"Calculations!B370","v":34200},{"$f":"Calculations!A370","v":"4-6 Broad Street"},{"$f":"Calculations!C370","v":1.39409999999E-2},{"$f":"Calculations!G370","v":0},{"$f":"Calculations!O370","v":0},{"$f":"Calculations!P370","v":1},{"$f":"Calculations!U370","v":0},{"$f":"Calculations!X370","v":0},{"$f":"Calculations!AC370","v":0},{"$f":"C379*F379","v":1.39409999999E-2}]
[{"$f":"Calculations!B371","v":34690},{"$f":"Calculations!A371","v":"85 Prestwood Road West WV11 1HT"},{"$f":"Calculations!C371","v":7.2884469500099996E-2},{"$f":"Calculations!G371","v":0},{"$f":"Calculations!O371","v":0},{"$f":"Calculations!P371","v":1},{"$f":"Calculations!U371","v":0},{"$f":"Calculations!X371","v":0},{"$f":"Calculations!AC371","v":0},7.2884469500099996E-2]
[{"$f":"Calculations!B372","v":34730},{"$f":"Calculations!A372","v":"Plot Adjoining 40 Bilston Road, Portobello WV13 2JL"},{"$f":"Calculations!C372","v":1.32256058001E-2},{"$f":"Calculations!G372","v":0},{"$f":"Calculations!O372","v":0},{"$f":"Calculations!P372","v":1},{"$f":"Calculations!U372","v":0},{"$f":"Calculations!X372","v":0},{"$f":"Calculations!AC372","v":0},1.32256058001E-2]
[{"$f":"Calculations!B373","v":34740},{"$f":"Calculations!A373","v":"94 Completed During 2017/18pton Road WV3 9PS"},{"$f":"Calculations!C373","v":8.6032500005299994E-3},{"$f":"Calculations!G373","v":0},{"$f":"Calculations!O373","v":0},{"$f":"Calculations!P373","v":1},{"$f":"Calculations!U373","v":0},{"$f":"Calculations!X373","v":0},{"$f":"Calculations!AC373","v":0},8.6032500005299994E-3]
[{"$f":"Calculations!B374","v":34720},{"$f":"Calculations!A374","v":"132 CannOther Commitmentk Road WV10 8PW"},{"$f":"Calculations!C374","v":2.9780935000000001E-2},{"$f":"Calculations!G374","v":0},{"$f":"Calculations!O374","v":0},{"$f":"Calculations!P374","v":1},{"$f":"Calculations!U374","v":0},{"$f":"Calculations!X374","v":0},{"$f":"Calculations!AC374","v":0},2.9780935000000001E-2]
[{"$f":"Calculations!B375","v":35300},{"$f":"Calculations!A375","v":"The Meat Shop, 28 Victoria Street, Wolverhampton, West Midlands, WV1 3PW"},{"$f":"Calculations!C375","v":1.4681374999099999E-2},{"$f":"Calculations!G375","v":0},{"$f":"Calculations!O375","v":0},{"$f":"Calculations!P375","v":1},{"$f":"Calculations!U375","v":0},{"$f":"Calculations!X375","v":0},{"$f":"Calculations!AC375","v":0},1.4681374999099999E-2]
[{"$f":"Calculations!B376","v":35100},{"$f":"Calculations!A376","v":"169 Caledonia Road, Wolverhampton, West Midlands, WV2 1JA"},{"$f":"Calculations!C376","v":0.109415936802},{"$f":"Calculations!G376","v":0},{"$f":"Calculations!O376","v":0},{"$f":"Calculations!P376","v":1},{"$f":"Calculations!U376","v":0},{"$f":"Calculations!X376","v":0},{"$f":"Calculations!AC376","v":"<1%"},0.109415936802]
[{"$f":"Calculations!B377","v":33870},{"$f":"Calculations!A377","v":"Garage Site Rear Of 44 To 62 Cheviot Road Wolverhampton West Midlands"},{"$f":"Calculations!C377","v":0.184197043},{"$f":"Calculations!G377","v":0},{"$f":"Calculations!O377","v":0},{"$f":"Calculations!P377","v":1},{"$f":"Calculations!U377","v":0},{"$f":"Calculations!X377","v":0},{"$f":"Calculations!AC377","v":0},0.184197043]
[{"$f":"Calculations!B378","v":27370},{"$f":"Calculations!A378","v":"Royal Hospital Development Area (City Centre)"},{"$f":"Calculations!C378","v":5.0164572945000003},{"$f":"Calculations!G378","v":0},{"$f":"Calculations!O378","v":0},{"$f":"Calculations!P378","v":1},{"$f":"Calculations!U378","v":"<1%"},{"$f":"Calculations!X378","v":2.3171951152217467E-2},{"$f":"Calculations!AC378","v":0.11905326404775517},5.0164572945000003]
[{"$f":"Calculations!B379","v":35190},{"$f":"Calculations!A379","v":"49 & 50 Bridge Street, Portobello, Wolverhampton, West Midlands, WV13 3EQ"},{"$f":"Calculations!C379","v":6.1263965001200002E-2},{"$f":"Calculations!G379","v":0},{"$f":"Calculations!O379","v":"<1%"},{"$f":"Calculations!P379","v":1},{"$f":"Calculations!U379","v":0},{"$f":"Calculations!X379","v":5.2774571011501958E-2},{"$f":"Calculations!AC379","v":0.42049399618334216},6.1263965001200002E-2]
[{"$f":"Calculations!B380","v":34500},{"$f":"Calculations!A380","v":"Land To The Side Of 17 Regent Street WV14 6AP"},{"$f":"Calculations!C380","v":3.3181749999199997E-2},{"$f":"Calculations!G380","v":0},{"$f":"Calculations!O380","v":0},{"$f":"Calculations!P380","v":1},{"$f":"Calculations!U380","v":0},{"$f":"Calculations!X380","v":0},{"$f":"Calculations!AC380","v":0},3.3181749999199997E-2]
[{"$f":"Calculations!B381","v":34590},{"$f":"Calculations!A381","v":"Garage Site Adjacent 42 To 44 Elizabeth Avenue, Bradley WV14 8DY"},{"$f":"Calculations!C381","v":8.2406643999899998E-2},{"$f":"Calculations!G381","v":0},{"$f":"Calculations!O381","v":0},{"$f":"Calculations!P381","v":1},{"$f":"Calculations!U381","v":0},{"$f":"Calculations!X381","v":0},{"$f":"Calculations!AC381","v":5.8684409600102978E-3},8.2406643999899998E-2]
[{"$f":"Calculations!B382","v":35110},{"$f":"Calculations!A382","v":"85 Northwood Park Road, Wolverhampton, West Midlands, WV10 8EX"},{"$f":"Calculations!C382","v":7.5079197501300002E-2},{"$f":"Calculations!G382","v":0},{"$f":"Calculations!O382","v":0},{"$f":"Calculations!P382","v":1},{"$f":"Calculations!U382","v":0},{"$f":"Calculations!X382","v":0},{"$f":"Calculations!AC382","v":0.30785195117608699},7.5079197501300002E-2]
[{"$f":"Calculations!B383","v":35430},{"$f":"Calculations!A383","v":"26 Clarendon Street, Wolverhampton, West Midlands, WV3 9PP"},{"$f":"Calculations!C383","v":7.8197941101599999E-2},{"$f":"Calculations!G383","v":0},{"$f":"Calculations!O383","v":0},{"$f":"Calculations!P383","v":1},{"$f":"Calculations!U383","v":0},{"$f":"Calculations!X383","v":0},{"$f":"Calculations!AC383","v":0},7.8197941101599999E-2]
[{"$f":"Calculations!B384","v":34360},{"$f":"Calculations!A384","v":"Garage Site adj 142 Prosser St, Heath Town"},{"$f":"Calculations!C384","v":4.47822649987E-2},{"$f":"Calculations!G384","v":0},{"$f":"Calculations!O384","v":0},{"$f":"Calculations!P384","v":1},{"$f":"Calculations!U384","v":0},{"$f":"Calculations!X384","v":0},{"$f":"Calculations!AC384","v":0},4.47822649987E-2]
[{"$f":"Calculations!B385","v":34860},{"$f":"Calculations!A385","v":"323 Tettenhall Road WV6 0JZ"},{"$f":"Calculations!C385","v":6.6897845001000003E-2},{"$f":"Calculations!G385","v":0},{"$f":"Calculations!O385","v":0},{"$f":"Calculations!P385","v":1},{"$f":"Calculations!U385","v":0},{"$f":"Calculations!X385","v":4.0971244995396022E-4},{"$f":"Calculations!AC385","v":0.14250234064349152},6.6897845001000003E-2]
[{"$f":"Calculations!B386","v":35350},{"$f":"Calculations!A386","v":"Garage site to rear of 2 To 6, Wolmer Road, Wolverhampton, West Midlands"},{"$f":"Calculations!C386","v":0.107516224997},{"$f":"Calculations!G386","v":0},{"$f":"Calculations!O386","v":0},{"$f":"Calculations!P386","v":1},{"$f":"Calculations!U386","v":0},{"$f":"Calculations!X386","v":0},{"$f":"Calculations!AC386","v":0},0.107516224997]
[{"$f":"Calculations!B387","v":35990},{"$f":"Calculations!A387","v":"Land Behind 28 To 40 Bradley Road Wolverhampton West Midlands"},{"$f":"Calculations!C387","v":0.16931062499999999},{"$f":"Calculations!G387","v":0},{"$f":"Calculations!O387","v":0},{"$f":"Calculations!P387","v":1},{"$f":"Calculations!U387","v":0},{"$f":"Calculations!X387","v":0},{"$f":"Calculations!AC387","v":0},0.16931062499999999]
[{"$f":"Calculations!B388","v":35040},{"$f":"Calculations!A388","v":"8 Newhampton Road East, Wolverhampton, West Midlands, WV1 4AJ"},{"$f":"Calculations!C388","v":2.75048774973E-2},{"$f":"Calculations!G388","v":0},{"$f":"Calculations!O388","v":0},{"$f":"Calculations!P388","v":1},{"$f":"Calculations!U388","v":0},{"$f":"Calculations!X388","v":0},{"$f":"Calculations!AC388","v":0},2.75048774973E-2]
[{"$f":"Calculations!B389","v":33700},{"$f":"Calculations!A389","v":"223 Broad Lanes Bilston WV14 0RY"},{"$f":"Calculations!C389","v":6.9658450000899999E-2},{"$f":"Calculations!G389","v":0},{"$f":"Calculations!O389","v":0.7142857142857143},{"$f":"Calculations!P389","v":0.2857142857142857},{"$f":"Calculations!U389","v":0},{"$f":"Calculations!X389","v":0.1239122122214818},{"$f":"Calculations!AC389","v":0.49900017761167387},1.9902414285971427E-2]
[{"$f":"Calculations!B390","v":33650},{"$f":"Calculations!A390","v":"Land adj 123 Gorsebrook Road Wolverhampton West Midlands WV6 0PE"},{"$f":"Calculations!C390","v":2.1986680000600001E-2},{"$f":"Calculations!G390","v":0},{"$f":"Calculations!O390","v":0},{"$f":"Calculations!P390","v":1},{"$f":"Calculations!U390","v":0},{"$f":"Calculations!X390","v":0},{"$f":"Calculations!AC390","v":0},2.1986680000600001E-2]
[{"$f":"Calculations!B391","v":33710},{"$f":"Calculations!A391","v":"25 Grove Lane Wolverhampton West Midlands WV6 8NJ"},{"$f":"Calculations!C391","v":0.25447175999900001},{"$f":"Calculations!G391","v":0},{"$f":"Calculations!O391","v":0},{"$f":"Calculations!P391","v":1},{"$f":"Calculations!U391","v":0},{"$f":"Calculations!X391","v":0},{"$f":"Calculations!AC391","v":0},0.25447175999900001]
[{"$f":"Calculations!B392","v":34940},{"$f":"Calculations!A392","v":"25 Tettenhall Road WV3 9NB"},{"$f":"Calculations!C392","v":1.2274500001200001E-2},{"$f":"Calculations!G392","v":0},{"$f":"Calculations!O392","v":0},{"$f":"Calculations!P392","v":1},{"$f":"Calculations!U392","v":0},{"$f":"Calculations!X392","v":0},{"$f":"Calculations!AC392","v":0},1.2274500001200001E-2]
[{"$f":"Calculations!B393","v":34520},{"$f":"Calculations!A393","v":"7 Foley Avenue WV6 8LT"},{"$f":"Calculations!C393","v":5.83874997011E-2},{"$f":"Calculations!G393","v":0},{"$f":"Calculations!O393","v":0},{"$f":"Calculations!P393","v":1},{"$f":"Calculations!U393","v":0},{"$f":"Calculations!X393","v":0},{"$f":"Calculations!AC393","v":0},5.83874997011E-2]
[{"$f":"Calculations!B394","v":35130},{"$f":"Calculations!A394","v":"Land at the rear of 81 Lichfield Street, Wolverhampton, West Midlands, WV1 1EQ"},{"$f":"Calculations!C394","v":1.6577624999799999E-2},{"$f":"Calculations!G394","v":0},{"$f":"Calculations!O394","v":0},{"$f":"Calculations!P394","v":1},{"$f":"Calculations!U394","v":0},{"$f":"Calculations!X394","v":0},{"$f":"Calculations!AC394","v":0},1.6577624999799999E-2]
[{"$f":"Calculations!B395","v":35320},{"$f":"Calculations!A395","v":"241 Steelhouse Lane, Wolverhampton, West Midlands, WV2 2AB"},{"$f":"Calculations!C395","v":6.7244189999199996E-2},{"$f":"Calculations!G395","v":0},{"$f":"Calculations!O395","v":0},{"$f":"Calculations!P395","v":1},{"$f":"Calculations!U395","v":0},{"$f":"Calculations!X395","v":0},{"$f":"Calculations!AC395","v":0},6.7244189999199996E-2]
[{"$f":"Calculations!B396","v":34800},{"$f":"Calculations!A396","v":"Land Adjacent To 251 Moseley Road, Bilston WV14 6HX"},{"$f":"Calculations!C396","v":5.8587849998300003E-2},{"$f":"Calculations!G396","v":0},{"$f":"Calculations!O396","v":0},{"$f":"Calculations!P396","v":1},{"$f":"Calculations!U396","v":0},{"$f":"Calculations!X396","v":0.18433856166958465},{"$f":"Calculations!AC396","v":0.34886151864335468},5.8587849998300003E-2]
[{"$f":"Calculations!B397","v":35240},{"$f":"Calculations!A397","v":"48 Arnhem Road, Wolverhampton, West Midlands, WV13 3TX"},{"$f":"Calculations!C397","v":2.8585000001700001E-2},{"$f":"Calculations!G397","v":0},{"$f":"Calculations!O397","v":0},{"$f":"Calculations!P397","v":1},{"$f":"Calculations!U397","v":0},{"$f":"Calculations!X397","v":0},{"$f":"Calculations!AC397","v":0},2.8585000001700001E-2]
[{"$f":"Calculations!B398","v":35270},{"$f":"Calculations!A398","v":"70 Dudley Road, Wolverhampton,West Midlands, WV2 3BY"},{"$f":"Calculations!C398","v":6.5430900002699998E-3},{"$f":"Calculations!G398","v":0},{"$f":"Calculations!O398","v":0},{"$f":"Calculations!P398","v":1},{"$f":"Calculations!U398","v":0},{"$f":"Calculations!X398","v":0},{"$f":"Calculations!AC398","v":0},6.5430900002699998E-3]
[{"$f":"Calculations!B399","v":32420},{"$f":"Calculations!A399","v":"25 Spring Road Lanesfield Wolverhampton West Midlands WV4 6LQ"},{"$f":"Calculations!C399","v":2.9531999998600001E-2},{"$f":"Calculations!G399","v":0},{"$f":"Calculations!O399","v":0},{"$f":"Calculations!P399","v":1},{"$f":"Calculations!U399","v":0},{"$f":"Calculations!X399","v":0},{"$f":"Calculations!AC399","v":0},2.9531999998600001E-2]
[{"$f":"Calculations!B400","v":33270},{"$f":"Calculations!A400","v":"11 Pineways Drive Wolverhampton West Midlands WV6 0LL"},{"$f":"Calculations!C400","v":8.3255375000400006E-2},{"$f":"Calculations!G400","v":0},{"$f":"Calculations!O400","v":0},{"$f":"Calculations!P400","v":1},{"$f":"Calculations!U400","v":0},{"$f":"Calculations!X400","v":0},{"$f":"Calculations!AC400","v":"<1%"},8.3255375000400006E-2]
[{"$f":"Calculations!B401","v":36440},{"$f":"Calculations!A401","v":"Fmr Rookery Lodge, Woodcross Lane"},{"$f":"Calculations!C401","v":1.0413656600000001},{"$f":"Calculations!G401","v":0},{"$f":"Calculations!O401","v":0},{"$f":"Calculations!P401","v":1},{"$f":"Calculations!U401","v":0},{"$f":"Calculations!X401","v":0},{"$f":"Calculations!AC401","v":2.4187665646737379E-2},1.0413656600000001]
[{"$f":"Calculations!B402","v":35520},{"$f":"Calculations!A402","v":"Land to the rear of 71 Mill Lane, Tettenhall Wood, Wolverhampton, West Midlands, WV6 8HE"},{"$f":"Calculations!C402","v":5.4150167051400001E-2},{"$f":"Calculations!G402","v":0},{"$f":"Calculations!O402","v":0},{"$f":"Calculations!P402","v":1},{"$f":"Calculations!U402","v":0},{"$f":"Calculations!X402","v":0},{"$f":"Calculations!AC402","v":0},5.4150167051400001E-2]
[{"$f":"Calculations!B403","v":34710},{"$f":"Calculations!A403","v":"Land Adjacent To 327 Prestwood Road WV11 1RH"},{"$f":"Calculations!C403","v":4.7348210001E-2},{"$f":"Calculations!G403","v":0},{"$f":"Calculations!O403","v":0},{"$f":"Calculations!P403","v":1},{"$f":"Calculations!U403","v":0},{"$f":"Calculations!X403","v":0},{"$f":"Calculations!AC403","v":"<1%"},4.7348210001E-2]
[{"$f":"Calculations!B404","v":35250},{"$f":"Calculations!A404","v":"Land adjacent to 6 Lawrence Avenue, Heath Town, Wolverhampton, West Midlands, WV10 0QJ"},{"$f":"Calculations!C404","v":3.5718537499200002E-2},{"$f":"Calculations!G404","v":0},{"$f":"Calculations!O404","v":0},{"$f":"Calculations!P404","v":1},{"$f":"Calculations!U404","v":0},{"$f":"Calculations!X404","v":0},{"$f":"Calculations!AC404","v":0},3.5718537499200002E-2]
[{"$f":"Calculations!B405","v":35260},{"$f":"Calculations!A405","v":"Shop South Corner of Bushbury Road, Lawrence Avenue, Heath Town, Wolverhampton, West Midlands"},{"$f":"Calculations!C405","v":3.0646950000299999E-2},{"$f":"Calculations!G405","v":0},{"$f":"Calculations!O405","v":0},{"$f":"Calculations!P405","v":1},{"$f":"Calculations!U405","v":0},{"$f":"Calculations!X405","v":0},{"$f":"Calculations!AC405","v":"<1%"},3.0646950000299999E-2]
[{"$f":"Calculations!B406","v":35380},{"$f":"Calculations!A406","v":"Garage Site to the rear of 30 to 36 Bargery Road, Wolverhampton, West Midlands"},{"$f":"Calculations!C406","v":4.5060982498600001E-2},{"$f":"Calculations!G406","v":0},{"$f":"Calculations!O406","v":0},{"$f":"Calculations!P406","v":1},{"$f":"Calculations!U406","v":0},{"$f":"Calculations!X406","v":0},{"$f":"Calculations!AC406","v":6.3344568666399634E-2},4.5060982498600001E-2]
[{"$f":"Calculations!B407","v":35150},{"$f":"Calculations!A407","v":"10 Finchfield Lane, Wolverhampton, West Midlands, WV3 8EF"},{"$f":"Calculations!C407","v":6.8843750000200002E-2},{"$f":"Calculations!G407","v":0},{"$f":"Calculations!O407","v":0},{"$f":"Calculations!P407","v":1},{"$f":"Calculations!U407","v":0},{"$f":"Calculations!X407","v":0},{"$f":"Calculations!AC407","v":0},6.8843750000200002E-2]
[{"$f":"Calculations!B408","v":35210},{"$f":"Calculations!A408","v":"134 Bridgnorth Road, Wolverhampton, West Midlands, WV6 8BB"},{"$f":"Calculations!C408","v":0.12559574999600001},{"$f":"Calculations!G408","v":0},{"$f":"Calculations!O408","v":0},{"$f":"Calculations!P408","v":1},{"$f":"Calculations!U408","v":0},{"$f":"Calculations!X408","v":0.20318484571776305},{"$f":"Calculations!AC408","v":0.52730832359400071},0.12559574999600001]
[{"$f":"Calculations!B409","v":35280},{"$f":"Calculations!A409","v":"41-45 Spring Road, Wolverhampton, West Midlands, WV4 6LQ"},{"$f":"Calculations!C409","v":5.6601600000400001E-2},{"$f":"Calculations!G409","v":0},{"$f":"Calculations!O409","v":0},{"$f":"Calculations!P409","v":1},{"$f":"Calculations!U409","v":0},{"$f":"Calculations!X409","v":0},{"$f":"Calculations!AC409","v":0},5.6601600000400001E-2]
[{"$f":"Calculations!B410","v":35290},{"$f":"Calculations!A410","v":"88 Richmond Road, Wolverhampton, West Midlands, WV3 9JD"},{"$f":"Calculations!C410","v":0.28423575000200002},{"$f":"Calculations!G410","v":0},{"$f":"Calculations!O410","v":0},{"$f":"Calculations!P410","v":1},{"$f":"Calculations!U410","v":0},{"$f":"Calculations!X410","v":0},{"$f":"Calculations!AC410","v":"<1%"},0.28423575000200002]
[{"$f":"Calculations!B411","v":34890},{"$f":"Calculations!A411","v":"Garage Site To The Rear Of 18 To 24 Chapel Street Bradley"},{"$f":"Calculations!C411","v":0.210922325001},{"$f":"Calculations!G411","v":0},{"$f":"Calculations!O411","v":0},{"$f":"Calculations!P411","v":1},{"$f":"Calculations!U411","v":0},{"$f":"Calculations!X411","v":0},{"$f":"Calculations!AC411","v":"<1%"},0.210922325001]
[{"$f":"Calculations!B412","v":30660},{"$f":"Calculations!A412","v":"1 - 21 Finchfield Road West"},{"$f":"Calculations!C412","v":0.30121862150099998},{"$f":"Calculations!G412","v":0},{"$f":"Calculations!O412","v":0},{"$f":"Calculations!P412","v":1},{"$f":"Calculations!U412","v":0},{"$f":"Calculations!X412","v":0},{"$f":"Calculations!AC412","v":0},0.30121862150099998]
[{"$f":"Calculations!B413","v":35850},{"$f":"Calculations!A413","v":"Supermarket 5 Warstones Drive Wolverhampton West Midlands WV4 4PP"},{"$f":"Calculations!C413","v":5.4213099999600001E-2},{"$f":"Calculations!G413","v":0},{"$f":"Calculations!O413","v":0},{"$f":"Calculations!P413","v":1},{"$f":"Calculations!U413","v":0},{"$f":"Calculations!X413","v":0},{"$f":"Calculations!AC413","v":0},5.4213099999600001E-2]
[{"$f":"Calculations!B414","v":33600},{"$f":"Calculations!A414","v":"Former Chubb Site, Wednesfield Road, Heath Town (north)"},{"$f":"Calculations!C414","v":2.5697072649999999},{"$f":"Calculations!G414","v":0},{"$f":"Calculations!O414","v":0},{"$f":"Calculations!P414","v":1},{"$f":"Calculations!U414","v":8.2983138048375718E-2},{"$f":"Calculations!X414","v":0.14858582785904642},{"$f":"Calculations!AC414","v":0.20041385007546031},2.5697072649999999]
[{"$f":"Calculations!B415","v":35480},{"$f":"Calculations!A415","v":"Land adjacent to 39 Stratton Street, Wolverhampton, West Midlands"},{"$f":"Calculations!C415","v":2.92324280487E-2},{"$f":"Calculations!G415","v":0},{"$f":"Calculations!O415","v":0},{"$f":"Calculations!P415","v":1},{"$f":"Calculations!U415","v":0},{"$f":"Calculations!X415","v":0},{"$f":"Calculations!AC415","v":0},2.92324280487E-2]
[{"$f":"Calculations!B416","v":34210},{"$f":"Calculations!A416","v":"124 Wolverhampton Street"},{"$f":"Calculations!C416","v":3.2136750000799998E-2},{"$f":"Calculations!G416","v":0},{"$f":"Calculations!O416","v":0},{"$f":"Calculations!P416","v":1},{"$f":"Calculations!U416","v":"<1%"},{"$f":"Calculations!X416","v":3.3422044901032695E-4},{"$f":"Calculations!AC416","v":0.43947507183104767},3.2136750000799998E-2]
[{"$f":"Calculations!B417","v":36190},{"$f":"Calculations!A417","v":"1 Cherrington Gardens Wolverhampton West Midlands WV6 8AJ"},{"$f":"Calculations!C417","v":6.1734675000299999E-2},{"$f":"Calculations!G417","v":0},{"$f":"Calculations!O417","v":0},{"$f":"Calculations!P417","v":1},{"$f":"Calculations!U417","v":0},{"$f":"Calculations!X417","v":0},{"$f":"Calculations!AC417","v":0.22383040082264707},6.1734675000299999E-2]
[{"$f":"Calculations!B418","v":27480},{"$f":"Calculations!A418","v":"Portobello Flats, New Street & South Street"},{"$f":"Calculations!C418","v":1.728239375},{"$f":"Calculations!G418","v":0},{"$f":"Calculations!O418","v":0},{"$f":"Calculations!P418","v":1},{"$f":"Calculations!U418","v":"<1%"},{"$f":"Calculations!X418","v":1.9871306681638355E-2},{"$f":"Calculations!AC418","v":5.3040786350359602E-2},1.728239375]
[{"$f":"Calculations!B419","v":35750},{"$f":"Calculations!A419","v":"107 Windsor Avenue Wolverhampton West Midlands WV4 4BJ"},{"$f":"Calculations!C419","v":8.4092749998899999E-2},{"$f":"Calculations!G419","v":0},{"$f":"Calculations!O419","v":0},{"$f":"Calculations!P419","v":1},{"$f":"Calculations!U419","v":0},{"$f":"Calculations!X419","v":0},{"$f":"Calculations!AC419","v":0},8.4092749998899999E-2]
[{"$f":"Calculations!B420","v":35330},{"$f":"Calculations!A420","v":"Staffordshire Volunteer, Collingwood Road (New Build)"},{"$f":"Calculations!C420","v":5.7399160001000003E-2},{"$f":"Calculations!G420","v":0},{"$f":"Calculations!O420","v":0},{"$f":"Calculations!P420","v":1},{"$f":"Calculations!U420","v":0},{"$f":"Calculations!X420","v":0},{"$f":"Calculations!AC420","v":0},5.7399160001000003E-2]
[{"$f":"Calculations!B421","v":36090},{"$f":"Calculations!A421","v":"142 Newhampton Road West Wolverhampton West Midlands WV6 0RR"},{"$f":"Calculations!C421","v":2.6000875000399999E-2},{"$f":"Calculations!G421","v":0},{"$f":"Calculations!O421","v":0},{"$f":"Calculations!P421","v":1},{"$f":"Calculations!U421","v":0},{"$f":"Calculations!X421","v":0},{"$f":"Calculations!AC421","v":0},2.6000875000399999E-2]
[{"$f":"Calculations!B422","v":34570},{"$f":"Calculations!A422","v":"23 Chapel Ash WV3 0TZ"},{"$f":"Calculations!C422","v":2.4710852500500001E-2},{"$f":"Calculations!G422","v":0},{"$f":"Calculations!O422","v":0},{"$f":"Calculations!P422","v":1},{"$f":"Calculations!U422","v":0},{"$f":"Calculations!X422","v":0},{"$f":"Calculations!AC422","v":1.247058546477766E-2},2.4710852500500001E-2]
[{"$f":"Calculations!B423","v":35780},{"$f":"Calculations!A423","v":"Former Substation  169 Wellington Road Wolverhampton West Midlands WV14 6RN"},{"$f":"Calculations!C423","v":6.2427118898800003E-2},{"$f":"Calculations!G423","v":0},{"$f":"Calculations!O423","v":0},{"$f":"Calculations!P423","v":1},{"$f":"Calculations!U423","v":0},{"$f":"Calculations!X423","v":0},{"$f":"Calculations!AC423","v":"<1%"},6.2427118898800003E-2]
[{"$f":"Calculations!B424","v":36060},{"$f":"Calculations!A424","v":"Land Adjacent To 38 King Street Bradley Wolverhampton West Midlands WV14 8PQ"},{"$f":"Calculations!C424","v":4.7706375000699998E-2},{"$f":"Calculations!G424","v":0},{"$f":"Calculations!O424","v":0},{"$f":"Calculations!P424","v":1},{"$f":"Calculations!U424","v":0},{"$f":"Calculations!X424","v":0},{"$f":"Calculations!AC424","v":0},4.7706375000699998E-2]
[{"$f":"Calculations!B425","v":37010},{"$f":"Calculations!A425","v":"29 Lichfield Street, City Centre"},{"$f":"Calculations!C425","v":9.4757600009099992E-3},{"$f":"Calculations!G425","v":0},{"$f":"Calculations!O425","v":0},{"$f":"Calculations!P425","v":1},{"$f":"Calculations!U425","v":0},{"$f":"Calculations!X425","v":0},{"$f":"Calculations!AC425","v":0},9.4757600009099992E-3]
[{"$f":"Calculations!B426","v":36010},{"$f":"Calculations!A426","v":"18 Chapel Ash Wolverhampton West Midlands WV3 0TN"},{"$f":"Calculations!C426","v":1.44709699984E-2},{"$f":"Calculations!G426","v":0},{"$f":"Calculations!O426","v":0},{"$f":"Calculations!P426","v":1},{"$f":"Calculations!U426","v":0},{"$f":"Calculations!X426","v":0},{"$f":"Calculations!AC426","v":0},1.44709699984E-2]
[{"$f":"Calculations!B427","v":36020},{"$f":"Calculations!A427","v":"229 Trysull Road Wolverhampton West Midlands WV3 7JP"},{"$f":"Calculations!C427","v":7.4586685000200006E-2},{"$f":"Calculations!G427","v":0},{"$f":"Calculations!O427","v":0},{"$f":"Calculations!P427","v":1},{"$f":"Calculations!U427","v":0},{"$f":"Calculations!X427","v":0},{"$f":"Calculations!AC427","v":0.49691410135725445},7.4586685000200006E-2]
[{"$f":"Calculations!B428","v":37140},{"$f":"Calculations!A428","v":"Land at Railway Drive, Bilston"},{"$f":"Calculations!C428","v":0.276452855},{"$f":"Calculations!G428","v":0},{"$f":"Calculations!O428","v":0},{"$f":"Calculations!P428","v":1},{"$f":"Calculations!U428","v":0},{"$f":"Calculations!X428","v":0},{"$f":"Calculations!AC428","v":"<1%"},0.276452855]
[{"$f":"Calculations!B429","v":35760},{"$f":"Calculations!A429","v":"The Firs 49 Completed During 2017/18pton Road West Wolverhampton West Midlands WV3 9DU"},{"$f":"Calculations!C429","v":4.5559545000500003E-2},{"$f":"Calculations!G429","v":0},{"$f":"Calculations!O429","v":0},{"$f":"Calculations!P429","v":1},{"$f":"Calculations!U429","v":0},{"$f":"Calculations!X429","v":0},{"$f":"Calculations!AC429","v":0},4.5559545000500003E-2]
[{"$f":"Calculations!B430","v":30870},{"$f":"Calculations!A430","v":"Land Between 5 to 9 Martin Street"},{"$f":"Calculations!C430","v":5.1725000001900001E-2},{"$f":"Calculations!G430","v":0},{"$f":"Calculations!O430","v":0},{"$f":"Calculations!P430","v":1},{"$f":"Calculations!U430","v":0},{"$f":"Calculations!X430","v":0},{"$f":"Calculations!AC430","v":0},5.1725000001900001E-2]
[{"$f":"Calculations!B431","v":33260},{"$f":"Calculations!A431","v":"1 Haden Hill Wolverhampton West Midlands WV3 9PT"},{"$f":"Calculations!C431","v":2.8012553999299999E-2},{"$f":"Calculations!G431","v":0},{"$f":"Calculations!O431","v":0},{"$f":"Calculations!P431","v":1},{"$f":"Calculations!U431","v":0},{"$f":"Calculations!X431","v":0},{"$f":"Calculations!AC431","v":"<1%"},2.8012553999299999E-2]
[{"$f":"Calculations!B432","v":31200},{"$f":"Calculations!A432","v":"Land at 131 - 133 Ashley Street"},{"$f":"Calculations!C432","v":2.16560000015E-2},{"$f":"Calculations!G432","v":0},{"$f":"Calculations!O432","v":0},{"$f":"Calculations!P432","v":1},{"$f":"Calculations!U432","v":0},{"$f":"Calculations!X432","v":0},{"$f":"Calculations!AC432","v":0},2.16560000015E-2]
[{"$f":"Calculations!B433","v":36050},{"$f":"Calculations!A433","v":"32 Upper Villiers Street Wolverhampton West Midlands WV2 4NU"},{"$f":"Calculations!C433","v":2.7798097501499999E-2},{"$f":"Calculations!G433","v":0},{"$f":"Calculations!O433","v":0},{"$f":"Calculations!P433","v":1},{"$f":"Calculations!U433","v":0},{"$f":"Calculations!X433","v":0},{"$f":"Calculations!AC433","v":0},2.7798097501499999E-2]
[{"$f":"Calculations!B434","v":36180},{"$f":"Calculations!A434","v":"Land Outline Planning Permissionosite 14 Sycamore Drive Wolverhampton West Midlands"},{"$f":"Calculations!C434","v":0.15229824599799999},{"$f":"Calculations!G434","v":0},{"$f":"Calculations!O434","v":0},{"$f":"Calculations!P434","v":1},{"$f":"Calculations!U434","v":0},{"$f":"Calculations!X434","v":0},{"$f":"Calculations!AC434","v":0},{"$f":"C443*F443","v":0.15229824599799999}]
[{"$f":"Calculations!B435","v":36170},{"$f":"Calculations!A435","v":"Auxiliary Fire Service, Old Completed During 2017/18rades Club 5C Market Street Wolverhampton West Midlands WV1 3AE"},{"$f":"Calculations!C435","v":3.3434999999700003E-2},{"$f":"Calculations!G435","v":0},{"$f":"Calculations!O435","v":0},{"$f":"Calculations!P435","v":1},{"$f":"Calculations!U435","v":0},{"$f":"Calculations!X435","v":0},{"$f":"Calculations!AC435","v":0},3.3434999999700003E-2]
[{"$f":"Calculations!B436","v":36100},{"$f":"Calculations!A436","v":"Former Joan O Callaghan Completed During 2017/18munity Centre 81 & 83 Guy Avenue  Wolverhampton  West Midlands  WV10 9SB"},{"$f":"Calculations!C436","v":5.9511374998099997E-2},{"$f":"Calculations!G436","v":0},{"$f":"Calculations!O436","v":0},{"$f":"Calculations!P436","v":1},{"$f":"Calculations!U436","v":0},{"$f":"Calculations!X436","v":0},{"$f":"Calculations!AC436","v":0.41060388862924352},5.9511374998099997E-2]
[{"$f":"Calculations!B437","v":35940},{"$f":"Calculations!A437","v":"1-9 Hincks Street Wolverhampton West Midlands WV2 2JZ"},{"$f":"Calculations!C437","v":4.7257499994700003E-3},{"$f":"Calculations!G437","v":0},{"$f":"Calculations!O437","v":0},{"$f":"Calculations!P437","v":1},{"$f":"Calculations!U437","v":0},{"$f":"Calculations!X437","v":0},{"$f":"Calculations!AC437","v":0.9999941282615451},4.7257499994700003E-3]
[{"$f":"Calculations!B438","v":27040},{"$f":"Calculations!A438","v":"Land at Rookery Street"},{"$f":"Calculations!C438","v":0.21340797190300001},{"$f":"Calculations!G438","v":0},{"$f":"Calculations!O438","v":0},{"$f":"Calculations!P438","v":1},{"$f":"Calculations!U438","v":0},{"$f":"Calculations!X438","v":0},{"$f":"Calculations!AC438","v":0},0.21340797190300001]
[{"$f":"Calculations!B439","v":34820},{"$f":"Calculations!A439","v":"93 Bushbury Road WV10 0LZ"},{"$f":"Calculations!C439","v":7.0537610000600007E-2},{"$f":"Calculations!G439","v":0},{"$f":"Calculations!O439","v":0},{"$f":"Calculations!P439","v":1},{"$f":"Calculations!U439","v":0},{"$f":"Calculations!X439","v":0},{"$f":"Calculations!AC439","v":"<1%"},7.0537610000600007E-2]
[{"$f":"Calculations!B440","v":33220},{"$f":"Calculations!A440","v":"Land At Rear Of 2 - 10 Dickinson Avenue Wolverhampton West Midlands WV10 9DJ"},{"$f":"Calculations!C440","v":0.114691388251},{"$f":"Calculations!G440","v":0},{"$f":"Calculations!O440","v":0},{"$f":"Calculations!P440","v":1},{"$f":"Calculations!U440","v":0},{"$f":"Calculations!X440","v":0},{"$f":"Calculations!AC440","v":"<1%"},0.114691388251]
[{"$f":"Calculations!B441","v":33210},{"$f":"Calculations!A441","v":"239 - 241 Prestwood Road Wolverhampton West Midlands"},{"$f":"Calculations!C441","v":2.35116530006E-2},{"$f":"Calculations!G441","v":0},{"$f":"Calculations!O441","v":0},{"$f":"Calculations!P441","v":1},{"$f":"Calculations!U441","v":0},{"$f":"Calculations!X441","v":0},{"$f":"Calculations!AC441","v":0},2.35116530006E-2]
[{"$f":"Calculations!B442","v":34050},{"$f":"Calculations!A442","v":"Polypipe┬áFactory, Chestom┬áRoad, Wolverhampton WV14┬á0RD"},{"$f":"Calculations!C442","v":1.4232546234900001},{"$f":"Calculations!G442","v":0},{"$f":"Calculations!O442","v":0},{"$f":"Calculations!P442","v":1},{"$f":"Calculations!U442","v":"<1%"},{"$f":"Calculations!X442","v":3.1807940211891449E-2},{"$f":"Calculations!AC442","v":7.9639936202276745E-2},1.4232546234900001]
[{"$f":"Calculations!B443","v":34400},{"$f":"Calculations!A443","v":"Former G & P Batteries Site, Grove Street, Heath Town"},{"$f":"Calculations!C443","v":0.62023289250199998},{"$f":"Calculations!G443","v":0},{"$f":"Calculations!O443","v":0},{"$f":"Calculations!P443","v":1},{"$f":"Calculations!U443","v":0},{"$f":"Calculations!X443","v":0},{"$f":"Calculations!AC443","v":5.1245792703332821E-2},0.62023289250199998]
[{"$f":"Calculations!B444","v":34350},{"$f":"Calculations!A444","v":"Garage Site between 10-16 Watson Road, Lanesfield"},{"$f":"Calculations!C444","v":4.17107559989E-2},{"$f":"Calculations!G444","v":0},{"$f":"Calculations!O444","v":0},{"$f":"Calculations!P444","v":1},{"$f":"Calculations!U444","v":0},{"$f":"Calculations!X444","v":0},{"$f":"Calculations!AC444","v":0},4.17107559989E-2]
[{"$f":"Calculations!B445","v":35360},{"$f":"Calculations!A445","v":"Staffordshire Volunteer, Collingwood Road (Conversion)"},{"$f":"Calculations!C445","v":0.29546974000199999},{"$f":"Calculations!G445","v":0},{"$f":"Calculations!O445","v":0},{"$f":"Calculations!P445","v":1},{"$f":"Calculations!U445","v":0},{"$f":"Calculations!X445","v":0},{"$f":"Calculations!AC445","v":"<1%"},0.29546974000199999]
[{"$f":"Calculations!B446","v":34830},{"$f":"Calculations!A446","v":"20 - 24 Broad Street, City Centre WV1 1HP"},{"$f":"Calculations!C446","v":5.8185690000700001E-2},{"$f":"Calculations!G446","v":0},{"$f":"Calculations!O446","v":0},{"$f":"Calculations!P446","v":1},{"$f":"Calculations!U446","v":0},{"$f":"Calculations!X446","v":0},{"$f":"Calculations!AC446","v":0},5.8185690000700001E-2]
[{"$f":"Calculations!B447","v":32320},{"$f":"Calculations!A447","v":"Former Britannia Inn Car Park Hall Green Street Wolverhampton West Midlands WV14 8TH"},{"$f":"Calculations!C447","v":0.106204560251},{"$f":"Calculations!G447","v":0},{"$f":"Calculations!O447","v":0},{"$f":"Calculations!P447","v":1},{"$f":"Calculations!U447","v":0},{"$f":"Calculations!X447","v":0},{"$f":"Calculations!AC447","v":0},0.106204560251]
[{"$f":"Calculations!B448","v":32590},{"$f":"Calculations!A448","v":"The Holly Bush Public House 494 Penn Road Wolverhampton West Midlands WV4 4HU"},{"$f":"Calculations!C448","v":8.4438597750300007E-2},{"$f":"Calculations!G448","v":0},{"$f":"Calculations!O448","v":0},{"$f":"Calculations!P448","v":1},{"$f":"Calculations!U448","v":0},{"$f":"Calculations!X448","v":0},{"$f":"Calculations!AC448","v":"<1%"},8.4438597750300007E-2]
[{"$f":"Calculations!B449","v":26060},{"$f":"Calculations!A449","v":"Land adj 56 Newhampton Road West"},{"$f":"Calculations!C449","v":5.91971800018E-2},{"$f":"Calculations!G449","v":0},{"$f":"Calculations!O449","v":0},{"$f":"Calculations!P449","v":1},{"$f":"Calculations!U449","v":0},{"$f":"Calculations!X449","v":0},{"$f":"Calculations!AC449","v":0.11939629061859174},5.91971800018E-2]
[{"$f":"Calculations!B450","v":35070},{"$f":"Calculations!A450","v":"71 Leicester Street, Wolverhampton, West Midlands, WV6 0PR"},{"$f":"Calculations!C450","v":1.38052224987E-2},{"$f":"Calculations!G450","v":0},{"$f":"Calculations!O450","v":0},{"$f":"Calculations!P450","v":1},{"$f":"Calculations!U450","v":0},{"$f":"Calculations!X450","v":0.13358099285677252},{"$f":"Calculations!AC450","v":0.80355061122597737},1.38052224987E-2]
[{"$f":"Calculations!B451","v":34560},{"$f":"Calculations!A451","v":"21 Kinfare Drive WV6 8JW"},{"$f":"Calculations!C451","v":3.2423749999499998E-2},{"$f":"Calculations!G451","v":0},{"$f":"Calculations!O451","v":0},{"$f":"Calculations!P451","v":1},{"$f":"Calculations!U451","v":0},{"$f":"Calculations!X451","v":0},{"$f":"Calculations!AC451","v":0},3.2423749999499998E-2]
[{"$f":"Calculations!B452","v":33360},{"$f":"Calculations!A452","v":"Garage Site Rear Of 8 To 14 Collingwood Road Wolverhampton West Midlands"},{"$f":"Calculations!C452","v":0.14622691000099999},{"$f":"Calculations!G452","v":0},{"$f":"Calculations!O452","v":0},{"$f":"Calculations!P452","v":1},{"$f":"Calculations!U452","v":0},{"$f":"Calculations!X452","v":0},{"$f":"Calculations!AC452","v":0},0.14622691000099999]
[{"$f":"Calculations!B453","v":35050},{"$f":"Calculations!A453","v":"55 Beechwood Avenue, Wolverhampton, West Midlands, WV11 1DU"},{"$f":"Calculations!C453","v":8.9464650002199997E-2},{"$f":"Calculations!G453","v":0},{"$f":"Calculations!O453","v":0},{"$f":"Calculations!P453","v":1},{"$f":"Calculations!U453","v":0},{"$f":"Calculations!X453","v":0},{"$f":"Calculations!AC453","v":"<1%"},8.9464650002199997E-2]
[{"$f":"Calculations!B454","v":33970},{"$f":"Calculations!A454","v":"Land At Junction With Parry Road Woodside Wolverhampton"},{"$f":"Calculations!C454","v":0.163900069999},{"$f":"Calculations!G454","v":0},{"$f":"Calculations!O454","v":0},{"$f":"Calculations!P454","v":1},{"$f":"Calculations!U454","v":0},{"$f":"Calculations!X454","v":0},{"$f":"Calculations!AC454","v":0},0.163900069999]
[{"$f":"Calculations!B455","v":34920},{"$f":"Calculations!A455","v":"Mount Bungalow, Deans Road WV1 2BH"},{"$f":"Calculations!C455","v":0.14883303000199999},{"$f":"Calculations!G455","v":0},{"$f":"Calculations!O455","v":0},{"$f":"Calculations!P455","v":1},{"$f":"Calculations!U455","v":6.2529502016494196E-2},{"$f":"Calculations!X455","v":7.5631160385431495E-2},{"$f":"Calculations!AC455","v":0.1494678523733009},0.14883303000199999]
[{"$f":"Calculations!B456","v":35090},{"$f":"Calculations!A456","v":"446 Wolverhampton Road East, Wolverhampton, West Midlands, WV4 6AR"},{"$f":"Calculations!C456","v":0.103731},{"$f":"Calculations!G456","v":0},{"$f":"Calculations!O456","v":0},{"$f":"Calculations!P456","v":1},{"$f":"Calculations!U456","v":0},{"$f":"Calculations!X456","v":0},{"$f":"Calculations!AC456","v":0},0.103731]
[{"$f":"Calculations!B457","v":35860},{"$f":"Calculations!A457","v":"8 - 10 Completed During 2017/18pton Road Wolverhampton West Midlands WV3 9PH"},{"$f":"Calculations!C457","v":3.3336672499999997E-2},{"$f":"Calculations!G457","v":0},{"$f":"Calculations!O457","v":0},{"$f":"Calculations!P457","v":1},{"$f":"Calculations!U457","v":0},{"$f":"Calculations!X457","v":0},{"$f":"Calculations!AC457","v":0},3.3336672499999997E-2]
[{"$f":"Calculations!B458","v":35610},{"$f":"Calculations!A458","v":"17 Hughes Road, Wolverhampton, West Midlands, WV14 6QU"},{"$f":"Calculations!C458","v":2.9172375000899999E-2},{"$f":"Calculations!G458","v":0},{"$f":"Calculations!O458","v":0},{"$f":"Calculations!P458","v":1},{"$f":"Calculations!U458","v":0},{"$f":"Calculations!X458","v":3.0063469298366788E-4},{"$f":"Calculations!AC458","v":"<1%"},2.9172375000899999E-2]
[{"$f":"Calculations!B459","v":35810},{"$f":"Calculations!A459","v":"Land To The Rear Of 201 Castlecroft Road Castlecroft Wolverhampton West Midlands WV3 8NA"},{"$f":"Calculations!C459","v":7.8115295100700005E-2},{"$f":"Calculations!G459","v":0},{"$f":"Calculations!O459","v":0},{"$f":"Calculations!P459","v":1},{"$f":"Calculations!U459","v":0},{"$f":"Calculations!X459","v":0},{"$f":"Calculations!AC459","v":0},7.8115295100700005E-2]
[{"$f":"Calculations!B460","v":35730},{"$f":"Calculations!A460","v":"270 Bilston Road Wolverhampton West Midlands WV2 2HU"},{"$f":"Calculations!C460","v":0.117503582498},{"$f":"Calculations!G460","v":0},{"$f":"Calculations!O460","v":0},{"$f":"Calculations!P460","v":1},{"$f":"Calculations!U460","v":0},{"$f":"Calculations!X460","v":0.11574115197918737},{"$f":"Calculations!AC460","v":0.15542485953047303},0.117503582498]
[{"$f":"Calculations!B461","v":37180},{"$f":"Calculations!A461","v":"Niphon Works, Lower Villiers Street"},{"$f":"Calculations!C461","v":0.145957500001},{"$f":"Calculations!G461","v":0},{"$f":"Calculations!O461","v":0},{"$f":"Calculations!P461","v":1},{"$f":"Calculations!U461","v":0},{"$f":"Calculations!X461","v":3.1412488356052878E-3},{"$f":"Calculations!AC461","v":6.2253658840537469E-2},0.145957500001]
[{"$f":"Calculations!B462","v":28940},{"$f":"Calculations!A462","v":"Land rear of 18-32 Turner Avenue, Woodcross"},{"$f":"Calculations!C462","v":0.25603748500000001},{"$f":"Calculations!G462","v":0},{"$f":"Calculations!O462","v":0},{"$f":"Calculations!P462","v":1},{"$f":"Calculations!U462","v":0},{"$f":"Calculations!X462","v":0},{"$f":"Calculations!AC462","v":0},0.25603748500000001]
[{"$f":"Calculations!B463","v":36850},{"$f":"Calculations!A463","v":"Former Sunbeam Factory, Paul Street"},{"$f":"Calculations!C463","v":0.92961036500100003},{"$f":"Calculations!G463","v":0},{"$f":"Calculations!O463","v":0},{"$f":"Calculations!P463","v":1},{"$f":"Calculations!U463","v":"<1%"},{"$f":"Calculations!X463","v":2.3881581065351092E-2},{"$f":"Calculations!AC463","v":6.6042479439300306E-2},0.92961036500100003]
[{"$f":"Calculations!B464","v":34240},{"$f":"Calculations!A464","v":"34 Trysull Road"},{"$f":"Calculations!C464","v":0.109970616452},{"$f":"Calculations!G464","v":0},{"$f":"Calculations!O464","v":0},{"$f":"Calculations!P464","v":1},{"$f":"Calculations!U464","v":0},{"$f":"Calculations!X464","v":0},{"$f":"Calculations!AC464","v":0},0.109970616452]
[{"$f":"Calculations!B465","v":25470},{"$f":"Calculations!A465","v":"Land adj 61 Wergs Road, Tettenhall"},{"$f":"Calculations!C465","v":0.41152977499799998},{"$f":"Calculations!G465","v":0},{"$f":"Calculations!O465","v":0},{"$f":"Calculations!P465","v":1},{"$f":"Calculations!U465","v":0},{"$f":"Calculations!X465","v":0},{"$f":"Calculations!AC465","v":0},0.41152977499799998]
[{"$f":"Calculations!B466","v":36460},{"$f":"Calculations!A466","v":"Thompson Avenue Open Space"},{"$f":"Calculations!C466","v":3.1158795008000002},{"$f":"Calculations!G466","v":0},{"$f":"Calculations!O466","v":0},{"$f":"Calculations!P466","v":1},{"$f":"Calculations!U466","v":5.1402741567797405E-3},{"$f":"Calculations!X466","v":2.5336714347163499E-2},{"$f":"Calculations!AC466","v":7.387859959168129E-2},3.1158795008000002]
[{"$f":"Calculations!B467","v":37850},{"$f":"Calculations!A467","v":"Land Rear Of The Cedars Completed During 2017/18pton Road West Wolverhampton West Midlands WV3 9DX"},{"$f":"Calculations!C467","v":0.78640308500099998},{"$f":"Calculations!G467","v":0},{"$f":"Calculations!O467","v":0},{"$f":"Calculations!P467","v":1},{"$f":"Calculations!U467","v":0},{"$f":"Calculations!X467","v":0},{"$f":"Calculations!AC467","v":0},0.78640308500099998]
[{"$f":"Calculations!B468","v":37040},{"$f":"Calculations!A468","v":"Fmr Long Acres PH, Dilloways Lane"},{"$f":"Calculations!C468","v":0.44736025000099999},{"$f":"Calculations!G468","v":0},{"$f":"Calculations!O468","v":0},{"$f":"Calculations!P468","v":1},{"$f":"Calculations!U468","v":0},{"$f":"Calculations!X468","v":0},{"$f":"Calculations!AC468","v":0},0.44736025000099999]
[{"$f":"Calculations!B469","v":27350},{"$f":"Calculations!A469","v":"St Marks Road, adjoining Sainsbury's"},{"$f":"Calculations!C469","v":7.5231745433999997},{"$f":"Calculations!G469","v":0},{"$f":"Calculations!O469","v":0},{"$f":"Calculations!P469","v":1},{"$f":"Calculations!U469","v":"<1%"},{"$f":"Calculations!X469","v":1.6326798265293057E-3},{"$f":"Calculations!AC469","v":1.0012445662443407E-2},7.5231745433999997]
[{"$f":"Calculations!B470","v":37750},{"$f":"Calculations!A470","v":"Land Adjacent To Sunnyside Taylor Road Wolverhampton West Midlands"},{"$f":"Calculations!C470","v":0.36942012960199999},{"$f":"Calculations!G470","v":0},{"$f":"Calculations!O470","v":0},{"$f":"Calculations!P470","v":1},{"$f":"Calculations!U470","v":2.9235006797370608E-2},{"$f":"Calculations!X470","v":3.6823782863938323E-2},{"$f":"Calculations!AC470","v":7.1678451570855173E-2},0.36942012960199999]
[{"$f":"Calculations!B471","v":36070},{"$f":"Calculations!A471","v":"57 Albert Road Wolverhampton West Midlands WV6 0AG"},{"$f":"Calculations!C471","v":0.218268962501},{"$f":"Calculations!G471","v":0},{"$f":"Calculations!O471","v":0},{"$f":"Calculations!P471","v":1},{"$f":"Calculations!U471","v":0},{"$f":"Calculations!X471","v":0},{"$f":"Calculations!AC471","v":0},0.218268962501]
[{"$f":"Calculations!B472","v":33560},{"$f":"Calculations!A472","v":"Site Of Sutherland House Old Heath Road Wolverhampton West Midlands"},{"$f":"Calculations!C472","v":0.33045034149699998},{"$f":"Calculations!G472","v":0},{"$f":"Calculations!O472","v":0},{"$f":"Calculations!P472","v":1},{"$f":"Calculations!U472","v":0},{"$f":"Calculations!X472","v":0},{"$f":"Calculations!AC472","v":"<1%"},0.33045034149699998]
[{"$f":"Calculations!B473","v":33430},{"$f":"Calculations!A473","v":"6 Park Crescent Wolverhampton West Midlands WV1 4PY"},{"$f":"Calculations!C473","v":3.2559625002700002E-2},{"$f":"Calculations!G473","v":0},{"$f":"Calculations!O473","v":0},{"$f":"Calculations!P473","v":1},{"$f":"Calculations!U473","v":4.3128778845688553E-2},{"$f":"Calculations!X473","v":9.5942176722027844E-2},{"$f":"Calculations!AC473","v":0.15118875811618809},3.2559625002700002E-2]
[{"$f":"Calculations!B474","v":37070},{"$f":"Calculations!A474","v":"24 Uplands Avenue"},{"$f":"Calculations!C474","v":4.1377375001500002E-2},{"$f":"Calculations!G474","v":0},{"$f":"Calculations!O474","v":0},{"$f":"Calculations!P474","v":1},{"$f":"Calculations!U474","v":0},{"$f":"Calculations!X474","v":0},{"$f":"Calculations!AC474","v":0},4.1377375001500002E-2]
[{"$f":"Calculations!B475","v":35500},{"$f":"Calculations!A475","v":"Land at the rear of 216 Compton Road, Wolverhampton, West Midlands, WV3 9JX"},{"$f":"Calculations!C475","v":6.8941843101400002E-2},{"$f":"Calculations!G475","v":0},{"$f":"Calculations!O475","v":0},{"$f":"Calculations!P475","v":1},{"$f":"Calculations!U475","v":0.99999999999956479},{"$f":"Calculations!X475","v":0.99999951712178703},{"$f":"Calculations!AC475","v":1.0000002319170807},6.8941843101400002E-2]
[{"$f":"Calculations!B476","v":35710},{"$f":"Calculations!A476","v":"Former St Judes House 51 St Judes Road West Wolverhampton West Midlands WV6 0DB"},{"$f":"Calculations!C476","v":8.7985107301300006E-2},{"$f":"Calculations!G476","v":0},{"$f":"Calculations!O476","v":0},{"$f":"Calculations!P476","v":1},{"$f":"Calculations!U476","v":0},{"$f":"Calculations!X476","v":2.7985216235152776E-4},{"$f":"Calculations!AC476","v":6.000118189194955E-2},8.7985107301300006E-2]
[{"$f":"Calculations!B477","v":37740},{"$f":"Calculations!A477","v":"Land Adjacent To 51 Brierley Lane Wolverhampton West Midlands"},{"$f":"Calculations!C477","v":0.23401620000199999},{"$f":"Calculations!G477","v":0},{"$f":"Calculations!O477","v":0},{"$f":"Calculations!P477","v":1},{"$f":"Calculations!U477","v":8.0336318596060136E-2},{"$f":"Calculations!X477","v":0.11090047184727468},{"$f":"Calculations!AC477","v":0.23023810603610573},0.23401620000199999]
[{"$f":"Calculations!B478","v":37290},{"$f":"Calculations!A478","v":"Land Adjacent To The White Cottage Stockwell End Wolverhampton West Midlands"},{"$f":"Calculations!C478","v":7.0533280049999994E-2},{"$f":"Calculations!G478","v":0},{"$f":"Calculations!O478","v":0},{"$f":"Calculations!P478","v":1},{"$f":"Calculations!U478","v":0},{"$f":"Calculations!X478","v":0},{"$f":"Calculations!AC478","v":0},7.0533280049999994E-2]
[{"$f":"Calculations!B479","v":35930},{"$f":"Calculations!A479","v":"61 Probert Road Wolverhampton West Midlands WV10 6UE"},{"$f":"Calculations!C479","v":6.4241024999500004E-2},{"$f":"Calculations!G479","v":0},{"$f":"Calculations!O479","v":0},{"$f":"Calculations!P479","v":1},{"$f":"Calculations!U479","v":4.9156524198572138E-2},{"$f":"Calculations!X479","v":0.23723581305280569},{"$f":"Calculations!AC479","v":0.66979309873825787},6.4241024999500004E-2]
[{"$f":"Calculations!B480","v":37060},{"$f":"Calculations!A480","v":"4 Merridale Lane"},{"$f":"Calculations!C480","v":2.4717750001099999E-2},{"$f":"Calculations!G480","v":0},{"$f":"Calculations!O480","v":0},{"$f":"Calculations!P480","v":1},{"$f":"Calculations!U480","v":0},{"$f":"Calculations!X480","v":0},{"$f":"Calculations!AC480","v":0.19031020216782107},2.4717750001099999E-2]
[{"$f":"Calculations!B481","v":35740},{"$f":"Calculations!A481","v":"Land Adjacent To 24 Cullwick Street Wolverhampton West Midlands WV1 2SX"},{"$f":"Calculations!C481","v":2.1334432499400001E-2},{"$f":"Calculations!G481","v":0},{"$f":"Calculations!O481","v":0},{"$f":"Calculations!P481","v":1},{"$f":"Calculations!U481","v":0},{"$f":"Calculations!X481","v":0},{"$f":"Calculations!AC481","v":0},2.1334432499400001E-2]
[{"$f":"Calculations!B482","v":26290},{"$f":"Calculations!A482","v":"112 Bunkers Hill Lane, Bilston"},{"$f":"Calculations!C482","v":0.203962437503},{"$f":"Calculations!G482","v":0},{"$f":"Calculations!O482","v":0},{"$f":"Calculations!P482","v":1},{"$f":"Calculations!U482","v":0},{"$f":"Calculations!X482","v":0},{"$f":"Calculations!AC482","v":"<1%"},0.203962437503]
[{"$f":"Calculations!B483","v":37100},{"$f":"Calculations!A483","v":"56 Oak Street"},{"$f":"Calculations!C483","v":4.2959979000499998E-2},{"$f":"Calculations!G483","v":0},{"$f":"Calculations!O483","v":0},{"$f":"Calculations!P483","v":1},{"$f":"Calculations!U483","v":0},{"$f":"Calculations!X483","v":0},{"$f":"Calculations!AC483","v":7.8231483791947019E-3},4.2959979000499998E-2]
[{"$f":"Calculations!B484","v":35920},{"$f":"Calculations!A484","v":"Land Adjacent To 2 Marsh Lane Wolverhampton West Midlands"},{"$f":"Calculations!C484","v":6.0770082999199997E-2},{"$f":"Calculations!G484","v":0},{"$f":"Calculations!O484","v":0},{"$f":"Calculations!P484","v":1},{"$f":"Calculations!U484","v":0},{"$f":"Calculations!X484","v":0},{"$f":"Calculations!AC484","v":0.43457219530839969},6.0770082999199997E-2]
[{"$f":"Calculations!B485","v":34640},{"$f":"Calculations!A485","v":"Garage Site Rear Of 6 To 52 Junction Road"},{"$f":"Calculations!C485","v":0.21278080849799999},{"$f":"Calculations!G485","v":0},{"$f":"Calculations!O485","v":0},{"$f":"Calculations!P485","v":1},{"$f":"Calculations!U485","v":0},{"$f":"Calculations!X485","v":0},{"$f":"Calculations!AC485","v":0},0.21278080849799999]
[{"$f":"Calculations!B486","v":35790},{"$f":"Calculations!A486","v":"The British Oak Public House 155 Willenhall Road Wolverhampton West Midlands WV1 2HU"},{"$f":"Calculations!C486","v":4.0498899600100002E-2},{"$f":"Calculations!G486","v":0},{"$f":"Calculations!O486","v":0},{"$f":"Calculations!P486","v":1},{"$f":"Calculations!U486","v":0},{"$f":"Calculations!X486","v":0},{"$f":"Calculations!AC486","v":1.0795726411685526E-2},4.0498899600100002E-2]
[{"$f":"Calculations!B487","v":31120},{"$f":"Calculations!A487","v":"Land at 4 to 10 Marchant Road"},{"$f":"Calculations!C487","v":0.21700257999899999},{"$f":"Calculations!G487","v":0},{"$f":"Calculations!O487","v":0},{"$f":"Calculations!P487","v":1},{"$f":"Calculations!U487","v":0},{"$f":"Calculations!X487","v":0},{"$f":"Calculations!AC487","v":0},0.21700257999899999]
[{"$f":"Calculations!B488","v":34340},{"$f":"Calculations!A488","v":"Garage Site Rear of 2-22 Hawkley Road"},{"$f":"Calculations!C488","v":0.23777599999599999},{"$f":"Calculations!G488","v":0},{"$f":"Calculations!O488","v":0},{"$f":"Calculations!P488","v":1},{"$f":"Calculations!U488","v":0},{"$f":"Calculations!X488","v":0},{"$f":"Calculations!AC488","v":"<1%"},0.23777599999599999]
[{"$f":"Calculations!B489","v":35900},{"$f":"Calculations!A489","v":"53 - 54 Gordon Street Wolverhampton West Midlands WV2 1DB"},{"$f":"Calculations!C489","v":1.71018889993E-2},{"$f":"Calculations!G489","v":0},{"$f":"Calculations!O489","v":0},{"$f":"Calculations!P489","v":1},{"$f":"Calculations!U489","v":0},{"$f":"Calculations!X489","v":0},{"$f":"Calculations!AC489","v":0.10098229499961599},1.71018889993E-2]
[{"$f":"Calculations!B490","v":35830},{"$f":"Calculations!A490","v":"Land Rear Of Bird In Hand Public House Thorneycroft Lane Wolverhampton West Midlands WV10 0NF"},{"$f":"Calculations!C490","v":0.12017938400100001},{"$f":"Calculations!G490","v":0},{"$f":"Calculations!O490","v":0},{"$f":"Calculations!P490","v":1},{"$f":"Calculations!U490","v":0},{"$f":"Calculations!X490","v":0},{"$f":"Calculations!AC490","v":"<1%"},0.12017938400100001]
[{"$f":"Calculations!B491","v":33842},{"$f":"Calculations!A491","v":"Former Bilston College Site, 40 and adj land, Mount Pleasant (new build)"},{"$f":"Calculations!C491","v":0.35432620000199999},{"$f":"Calculations!G491","v":0},{"$f":"Calculations!O491","v":0},{"$f":"Calculations!P491","v":1},{"$f":"Calculations!U491","v":0},{"$f":"Calculations!X491","v":0},{"$f":"Calculations!AC491","v":3.273819435292824E-2},0.35432620000199999]
[{"$f":"Calculations!B492","v":35880},{"$f":"Calculations!A492","v":"Land Adjacent To 57 Ashley Street Wolverhampton West Midlands"},{"$f":"Calculations!C492","v":1.55340000006E-2},{"$f":"Calculations!G492","v":0},{"$f":"Calculations!O492","v":0},{"$f":"Calculations!P492","v":1},{"$f":"Calculations!U492","v":0},{"$f":"Calculations!X492","v":0},{"$f":"Calculations!AC492","v":"<1%"},1.55340000006E-2]
[{"$f":"Calculations!B493","v":35720},{"$f":"Calculations!A493","v":"Land Adjacent To  Kings Arms Public House 434 Dudley Road Wolverhampton West Midlands WV2 3AQ"},{"$f":"Calculations!C493","v":1.7901184450499999E-2},{"$f":"Calculations!G493","v":0},{"$f":"Calculations!O493","v":0},{"$f":"Calculations!P493","v":1},{"$f":"Calculations!U493","v":0},{"$f":"Calculations!X493","v":0},{"$f":"Calculations!AC493","v":0},1.7901184450499999E-2]
[{"$f":"Calculations!B494","v":36110},{"$f":"Calculations!A494","v":"136 Hawksford Crescent Wolverhampton West Midlands WV10 9SN"},{"$f":"Calculations!C494","v":2.4651580000199999E-2},{"$f":"Calculations!G494","v":0},{"$f":"Calculations!O494","v":0},{"$f":"Calculations!P494","v":1},{"$f":"Calculations!U494","v":0},{"$f":"Calculations!X494","v":0},{"$f":"Calculations!AC494","v":0},2.4651580000199999E-2]
[{"$f":"Calculations!B495","v":37170},{"$f":"Calculations!A495","v":"43 Taylor Street"},{"$f":"Calculations!C495","v":7.6515659001000005E-2},{"$f":"Calculations!G495","v":0},{"$f":"Calculations!O495","v":0},{"$f":"Calculations!P495","v":1},{"$f":"Calculations!U495","v":0},{"$f":"Calculations!X495","v":0},{"$f":"Calculations!AC495","v":0},7.6515659001000005E-2]
[{"$f":"Calculations!B496","v":32850},{"$f":"Calculations!A496","v":"192 Merridale Street West Wolverhampton West Midlands WV3 0RP"},{"$f":"Calculations!C496","v":1.5855999999299999E-2},{"$f":"Calculations!G496","v":0},{"$f":"Calculations!O496","v":0},{"$f":"Calculations!P496","v":1},{"$f":"Calculations!U496","v":0},{"$f":"Calculations!X496","v":0},{"$f":"Calculations!AC496","v":0},1.5855999999299999E-2]
[{"$f":"Calculations!B497","v":34280},{"$f":"Calculations!A497","v":"19-20 Waverley Crescent, Lanesfield"},{"$f":"Calculations!C497","v":0.26456729685000002},{"$f":"Calculations!G497","v":0},{"$f":"Calculations!O497","v":0},{"$f":"Calculations!P497","v":1},{"$f":"Calculations!U497","v":0},{"$f":"Calculations!X497","v":0},{"$f":"Calculations!AC497","v":1.9431081515697165E-2},0.26456729685000002]
[{"$f":"Calculations!B498","v":35680},{"$f":"Calculations!A498","v":"Land Adjacent To 5 Hilton Road Wolverhampton West Midlands WV4 6DT"},{"$f":"Calculations!C498","v":8.4545635001299996E-2},{"$f":"Calculations!G498","v":0},{"$f":"Calculations!O498","v":0},{"$f":"Calculations!P498","v":1},{"$f":"Calculations!U498","v":0},{"$f":"Calculations!X498","v":1.6909062869230544E-2},{"$f":"Calculations!AC498","v":4.9207642224403776E-2},{"$f":"C507*F507","v":8.4545635001299996E-2}]
[{"$f":"Calculations!B499","v":34010},{"$f":"Calculations!A499","v":"Open Space Adjacent To 74 Barnard Road Wolverhampton"},{"$f":"Calculations!C499","v":0.14486893000100001},{"$f":"Calculations!G499","v":0},{"$f":"Calculations!O499","v":0},{"$f":"Calculations!P499","v":1},{"$f":"Calculations!U499","v":0},{"$f":"Calculations!X499","v":0},{"$f":"Calculations!AC499","v":4.1582639560666435E-2},0.14486893000100001]
[{"$f":"Calculations!B500","v":37020},{"$f":"Calculations!A500","v":"159 Parkfield Road"},{"$f":"Calculations!C500","v":2.41012199994E-2},{"$f":"Calculations!G500","v":0},{"$f":"Calculations!O500","v":0},{"$f":"Calculations!P500","v":1},{"$f":"Calculations!U500","v":0},{"$f":"Calculations!X500","v":0},{"$f":"Calculations!AC500","v":0.35799288001353441},2.41012199994E-2]
[{"$f":"Calculations!B501","v":35870},{"$f":"Calculations!A501","v":"Thorneycroft Service Station Thorneycroft Lane Wolverhampton West Midlands WV10 0NF"},{"$f":"Calculations!C501","v":6.9169705497700004E-2},{"$f":"Calculations!G501","v":0},{"$f":"Calculations!O501","v":0},{"$f":"Calculations!P501","v":1},{"$f":"Calculations!U501","v":0},{"$f":"Calculations!X501","v":7.3543732963691024E-4},{"$f":"Calculations!AC501","v":2.1405047351795239E-2},6.9169705497700004E-2]
[{"$f":"Calculations!B502","v":35890},{"$f":"Calculations!A502","v":"Chestnut Cottage, 23A Birchfield Avenue Wolverhampton West Midlands WV6 8TE"},{"$f":"Calculations!C502","v":0.23397476499299999},{"$f":"Calculations!G502","v":0},{"$f":"Calculations!O502","v":0},{"$f":"Calculations!P502","v":1},{"$f":"Calculations!U502","v":0},{"$f":"Calculations!X502","v":0},{"$f":"Calculations!AC502","v":0},0.23397476499299999]
[{"$f":"Calculations!B503","v":37090},{"$f":"Calculations!A503","v":"24A Chapel Ash"},{"$f":"Calculations!C503","v":5.57643000011E-3},{"$f":"Calculations!G503","v":0},{"$f":"Calculations!O503","v":0},{"$f":"Calculations!P503","v":1},{"$f":"Calculations!U503","v":0},{"$f":"Calculations!X503","v":0},{"$f":"Calculations!AC503","v":0},5.57643000011E-3]
[{"$f":"Calculations!B504","v":32190},{"$f":"Calculations!A504","v":"Land Between 20 & 22 Church Hill Penn Wolverhampton West Midlands WV4 5PN"},{"$f":"Calculations!C504","v":0.15275114370199999},{"$f":"Calculations!G504","v":0},{"$f":"Calculations!O504","v":0},{"$f":"Calculations!P504","v":1},{"$f":"Calculations!U504","v":0},{"$f":"Calculations!X504","v":0},{"$f":"Calculations!AC504","v":"<1%"},0.15275114370199999]
[{"$f":"Calculations!B505","v":34300},{"$f":"Calculations!A505","v":"Sharow 21 Perton Road"},{"$f":"Calculations!C505","v":0.17347767299899999},{"$f":"Calculations!G505","v":0},{"$f":"Calculations!O505","v":0},{"$f":"Calculations!P505","v":1},{"$f":"Calculations!U505","v":0},{"$f":"Calculations!X505","v":0},{"$f":"Calculations!AC505","v":0},0.17347767299899999]
[{"$f":"Calculations!B506","v":36120},{"$f":"Calculations!A506","v":"Land Adjacent To 6 Wrekin Drive Merry Hill Wolverhampton West Midlands WV3 7HZ"},{"$f":"Calculations!C506","v":6.1719874999200001E-2},{"$f":"Calculations!G506","v":0},{"$f":"Calculations!O506","v":0},{"$f":"Calculations!P506","v":1},{"$f":"Calculations!U506","v":6.3306997950508571E-3},{"$f":"Calculations!X506","v":6.3306997950508571E-3},{"$f":"Calculations!AC506","v":7.9428528975351007E-2},6.1719874999200001E-2]
[{"$f":"Calculations!B507","v":35820},{"$f":"Calculations!A507","v":"Land Between 26 And 35 Neville Avenue Wolverhampton West Midlands"},{"$f":"Calculations!C507","v":3.2472460001E-2},{"$f":"Calculations!G507","v":0},{"$f":"Calculations!O507","v":0},{"$f":"Calculations!P507","v":1},{"$f":"Calculations!U507","v":0},{"$f":"Calculations!X507","v":0},{"$f":"Calculations!AC507","v":0},3.2472460001E-2]
[{"$f":"Calculations!B508","v":34780},{"$f":"Calculations!A508","v":"Land To The Rear Of 48 Primrose Lane WV10 8RN"},{"$f":"Calculations!C508","v":9.6464987998199997E-2},{"$f":"Calculations!G508","v":0},{"$f":"Calculations!O508","v":0},{"$f":"Calculations!P508","v":1},{"$f":"Calculations!U508","v":0},{"$f":"Calculations!X508","v":0},{"$f":"Calculations!AC508","v":0},9.6464987998199997E-2]
[{"$f":"Calculations!B509","v":35910},{"$f":"Calculations!A509","v":"Cleobury House Mill Lane Tettenhall Wood Wolverhampton West Midlands WV6 8HE"},{"$f":"Calculations!C509","v":0.525274800002},{"$f":"Calculations!G509","v":0},{"$f":"Calculations!O509","v":0},{"$f":"Calculations!P509","v":1},{"$f":"Calculations!U509","v":0},{"$f":"Calculations!X509","v":0},{"$f":"Calculations!AC509","v":0},0.525274800002]
[{"$f":"Calculations!B510","v":31820},{"$f":"Calculations!A510","v":"Garage Site Adjacent To 41 Bulger Road Nelson Avenue, Stowlawn"},{"$f":"Calculations!C510","v":4.9937819548499997E-2},{"$f":"Calculations!G510","v":0},{"$f":"Calculations!O510","v":0},{"$f":"Calculations!P510","v":1},{"$f":"Calculations!U510","v":0},{"$f":"Calculations!X510","v":4.4020809692441439E-4},{"$f":"Calculations!AC510","v":0.14224456141666617},4.9937819548499997E-2]
[{"$f":"Calculations!B511","v":36000},{"$f":"Calculations!A511","v":"Roseville Ettingshall Road Ettingshall Wolverhampton West Midlands WV2 2JP"},{"$f":"Calculations!C511","v":4.4372375000100002E-2},{"$f":"Calculations!G511","v":0},{"$f":"Calculations!O511","v":0},{"$f":"Calculations!P511","v":1},{"$f":"Calculations!U511","v":0},{"$f":"Calculations!X511","v":0.98024566652283041},{"$f":"Calculations!AC511","v":1.9754314830725761E-2},4.4372375000100002E-2]
[{"$f":"Calculations!B512","v":35840},{"$f":"Calculations!A512","v":"374 Penn Road Wolverhampton West Midlands WV4 4DB"},{"$f":"Calculations!C512","v":7.4588689997200003E-2},{"$f":"Calculations!G512","v":0},{"$f":"Calculations!O512","v":0},{"$f":"Calculations!P512","v":1},{"$f":"Calculations!U512","v":0},{"$f":"Calculations!X512","v":0},{"$f":"Calculations!AC512","v":0},7.4588689997200003E-2]
[{"$f":"Calculations!B513","v":34840},{"$f":"Calculations!A513","v":"Land To The Rear Of 98 And 100 Codsall Road WV6 9QP"},{"$f":"Calculations!C513","v":3.8987749998199997E-2},{"$f":"Calculations!G513","v":0},{"$f":"Calculations!O513","v":0},{"$f":"Calculations!P513","v":1},{"$f":"Calculations!U513","v":0},{"$f":"Calculations!X513","v":0},{"$f":"Calculations!AC513","v":0},3.8987749998199997E-2]
[{"$f":"Calculations!B514","v":37390},{"$f":"Calculations!A514","v":"22 Dudding Road Wolverhampton West Midlands WV4 5DS"},{"$f":"Calculations!C514","v":6.0730200000399998E-2},{"$f":"Calculations!G514","v":0},{"$f":"Calculations!O514","v":0},{"$f":"Calculations!P514","v":1},{"$f":"Calculations!U514","v":0},{"$f":"Calculations!X514","v":0.17657712336472411},{"$f":"Calculations!AC514","v":6.6581672714553369E-2},6.0730200000399998E-2]
[{"$f":"Calculations!B515","v":37990},{"$f":"Calculations!A515","v":"2 - 4 Cullwick Street Wolverhampton WV1 2SX"},{"$f":"Calculations!C515","v":2.2385938800300001E-2},{"$f":"Calculations!G515","v":0},{"$f":"Calculations!O515","v":0},{"$f":"Calculations!P515","v":1},{"$f":"Calculations!U515","v":0},{"$f":"Calculations!X515","v":0},{"$f":"Calculations!AC515","v":0},2.2385938800300001E-2]
[{"$f":"Calculations!B516","v":37450},{"$f":"Calculations!A516","v":"36 Foley Avenue Wolverhampton West Midlands WV6 8LX"},{"$f":"Calculations!C516","v":3.6912529149399999E-2},{"$f":"Calculations!G516","v":0},{"$f":"Calculations!O516","v":0},{"$f":"Calculations!P516","v":1},{"$f":"Calculations!U516","v":0},{"$f":"Calculations!X516","v":0},{"$f":"Calculations!AC516","v":0},3.6912529149399999E-2]
[{"$f":"Calculations!B517","v":37840},{"$f":"Calculations!A517","v":"Land Rear Of Daves Supersave 6 - 8 Wootton Avenue Wolverhampton WV11 3AA"},{"$f":"Calculations!C517","v":1.3253263900200001E-2},{"$f":"Calculations!G517","v":0},{"$f":"Calculations!O517","v":0},{"$f":"Calculations!P517","v":1},{"$f":"Calculations!U517","v":0},{"$f":"Calculations!X517","v":7.0875371326139889E-3},{"$f":"Calculations!AC517","v":0.13117527827652817},1.3253263900200001E-2]
[{"$f":"Calculations!B518","v":30680},{"$f":"Calculations!A518","v":"The Lych Gate, Chamberlains Lane"},{"$f":"Calculations!C518","v":9.5069743399799997E-2},{"$f":"Calculations!G518","v":0},{"$f":"Calculations!O518","v":0},{"$f":"Calculations!P518","v":1},{"$f":"Calculations!U518","v":0},{"$f":"Calculations!X518","v":0},{"$f":"Calculations!AC518","v":0},9.5069743399799997E-2]
[{"$f":"Calculations!B519","v":37950},{"$f":"Calculations!A519","v":"Herian House Fold Street Wolverhampton West Midlands WV1 4LP"},{"$f":"Calculations!C519","v":1.9521551599799999E-2},{"$f":"Calculations!G519","v":0},{"$f":"Calculations!O519","v":0},{"$f":"Calculations!P519","v":1},{"$f":"Calculations!U519","v":0},{"$f":"Calculations!X519","v":2.9020210386135701E-3},{"$f":"Calculations!AC519","v":1.8555595120559536E-2},1.9521551599799999E-2]
[{"$f":"Calculations!B520","v":38390},{"$f":"Calculations!A520","v":"Land South West of 6 Aldersley Road Wolverhampton West Midlands"},{"$f":"Calculations!C520","v":1.1923375000499999E-2},{"$f":"Calculations!G520","v":0},{"$f":"Calculations!O520","v":0},{"$f":"Calculations!P520","v":1},{"$f":"Calculations!U520","v":0},{"$f":"Calculations!X520","v":0},{"$f":"Calculations!AC520","v":0},1.1923375000499999E-2]
[{"$f":"Calculations!B521","v":33350},{"$f":"Calculations!A521","v":"Garage Site Rear Of 55 To 63 Renton Road Wolverhampton West Midlands"},{"$f":"Calculations!C521","v":9.9151669999400005E-2},{"$f":"Calculations!G521","v":0},{"$f":"Calculations!O521","v":0},{"$f":"Calculations!P521","v":1},{"$f":"Calculations!U521","v":0},{"$f":"Calculations!X521","v":0},{"$f":"Calculations!AC521","v":"<1%"},9.9151669999400005E-2]
[{"$f":"Calculations!B522","v":37640},{"$f":"Calculations!A522","v":"Brook House 25 Broad Lane South Wolverhampton West Midlands WV11 3RY"},{"$f":"Calculations!C522","v":0.18593557000200001},{"$f":"Calculations!G522","v":0},{"$f":"Calculations!O522","v":0},{"$f":"Calculations!P522","v":1},{"$f":"Calculations!U522","v":0},{"$f":"Calculations!X522","v":0},{"$f":"Calculations!AC522","v":0},0.18593557000200001]
[{"$f":"Calculations!B523","v":38260},{"$f":"Calculations!A523","v":"Land Between 5 And 17 Welbury Gardens Wolverhampton West Midlands"},{"$f":"Calculations!C523","v":7.2033520000400003E-2},{"$f":"Calculations!G523","v":0},{"$f":"Calculations!O523","v":0},{"$f":"Calculations!P523","v":1},{"$f":"Calculations!U523","v":0},{"$f":"Calculations!X523","v":0},{"$f":"Calculations!AC523","v":0},7.2033520000400003E-2]
[{"$f":"Calculations!B524","v":33200},{"$f":"Calculations!A524","v":"84 Bhylls Lane Wolverhampton West Midlands WV3 8DZ"},{"$f":"Calculations!C524","v":7.9519000000599999E-2},{"$f":"Calculations!G524","v":0},{"$f":"Calculations!O524","v":0},{"$f":"Calculations!P524","v":1},{"$f":"Calculations!U524","v":0},{"$f":"Calculations!X524","v":1.9205472905550584E-2},{"$f":"Calculations!AC524","v":2.7333253183749798E-2},7.9519000000599999E-2]
[{"$f":"Calculations!B525","v":38460},{"$f":"Calculations!A525","v":"Connaught Hotel, Tettenhall Road"},{"$f":"Calculations!C525","v":0.32896770525500002},{"$f":"Calculations!G525","v":0},{"$f":"Calculations!O525","v":0},{"$f":"Calculations!P525","v":1},{"$f":"Calculations!U525","v":0},{"$f":"Calculations!X525","v":0},{"$f":"Calculations!AC525","v":1.0962434960096095E-2},0.32896770525500002]
[{"$f":"Calculations!B526","v":37680},{"$f":"Calculations!A526","v":"Garage Site Adjacent To 2 Bagridge Road Wolverhampton West Midlands"},{"$f":"Calculations!C526","v":8.5201700000000005E-2},{"$f":"Calculations!G526","v":0},{"$f":"Calculations!O526","v":0},{"$f":"Calculations!P526","v":1},{"$f":"Calculations!U526","v":0},{"$f":"Calculations!X526","v":0},{"$f":"Calculations!AC526","v":0.17311157688152934},8.5201700000000005E-2]
[{"$f":"Calculations!B527","v":37460},{"$f":"Calculations!A527","v":"37 Cartwright Street Wolverhampton WV2 3BT"},{"$f":"Calculations!C527","v":1.29075000002E-2},{"$f":"Calculations!G527","v":0},{"$f":"Calculations!O527","v":0},{"$f":"Calculations!P527","v":1},{"$f":"Calculations!U527","v":0},{"$f":"Calculations!X527","v":0},{"$f":"Calculations!AC527","v":0},1.29075000002E-2]
[{"$f":"Calculations!B528","v":37860},{"$f":"Calculations!A528","v":"Land To The Rear Of 12 Lloyd Hill Lower Penn South Staffordshire WV4 5NE"},{"$f":"Calculations!C528","v":3.7257538699899999E-2},{"$f":"Calculations!G528","v":0},{"$f":"Calculations!O528","v":0},{"$f":"Calculations!P528","v":1},{"$f":"Calculations!U528","v":0},{"$f":"Calculations!X528","v":0},{"$f":"Calculations!AC528","v":0},3.7257538699899999E-2]
[{"$f":"Calculations!B529","v":37370},{"$f":"Calculations!A529","v":"172 And 173 Stafford Street Wolverhampton WV1 1NA"},{"$f":"Calculations!C529","v":1.9202875001799999E-2},{"$f":"Calculations!G529","v":0},{"$f":"Calculations!O529","v":0},{"$f":"Calculations!P529","v":1},{"$f":"Calculations!U529","v":0},{"$f":"Calculations!X529","v":0},{"$f":"Calculations!AC529","v":0},1.9202875001799999E-2]
[{"$f":"Calculations!B530","v":37350},{"$f":"Calculations!A530","v":"129 Green Lanes Bilston  Wolverhampton WV14 6BZ"},{"$f":"Calculations!C530","v":9.9895749999799999E-2},{"$f":"Calculations!G530","v":0},{"$f":"Calculations!O530","v":0},{"$f":"Calculations!P530","v":1},{"$f":"Calculations!U530","v":0},{"$f":"Calculations!X530","v":0},{"$f":"Calculations!AC530","v":"<1%"},9.9895749999799999E-2]
[{"$f":"Calculations!B531","v":35200},{"$f":"Calculations!A531","v":"8 and 11 Mount Pleasant, Wolverhampton, West Midlands, WV14 7LJ"},{"$f":"Calculations!C531","v":3.6275062047999997E-2},{"$f":"Calculations!G531","v":0},{"$f":"Calculations!O531","v":0},{"$f":"Calculations!P531","v":1},{"$f":"Calculations!U531","v":0},{"$f":"Calculations!X531","v":0},{"$f":"Calculations!AC531","v":0},3.6275062047999997E-2]
[{"$f":"Calculations!B532","v":37400},{"$f":"Calculations!A532","v":"229 - 231 Penn Road Wolverhampton West Midlands WV4 5TY"},{"$f":"Calculations!C532","v":0.38892099999000002},{"$f":"Calculations!G532","v":0},{"$f":"Calculations!O532","v":0},{"$f":"Calculations!P532","v":1},{"$f":"Calculations!U532","v":0},{"$f":"Calculations!X532","v":1.1662533017802139E-4},{"$f":"Calculations!AC532","v":5.3464857041565381E-2},0.38892099999000002]
[{"$f":"Calculations!B533","v":37760},{"$f":"Calculations!A533","v":"Land At Lane Street Adjacent To Daisy Bank Community Centre  Bradley Wolverhampton"},{"$f":"Calculations!C533","v":4.4026160001500003E-2},{"$f":"Calculations!G533","v":0},{"$f":"Calculations!O533","v":0},{"$f":"Calculations!P533","v":1},{"$f":"Calculations!U533","v":0},{"$f":"Calculations!X533","v":0},{"$f":"Calculations!AC533","v":0},4.4026160001500003E-2]
[{"$f":"Calculations!B534","v":32900},{"$f":"Calculations!A534","v":"Orchard House 6 Elmsdale Wolverhampton West Midlands WV6 8ED"},{"$f":"Calculations!C534","v":0.170773495},{"$f":"Calculations!G534","v":0},{"$f":"Calculations!O534","v":0},{"$f":"Calculations!P534","v":1},{"$f":"Calculations!U534","v":0},{"$f":"Calculations!X534","v":0},{"$f":"Calculations!AC534","v":0},0.170773495]
[{"$f":"Calculations!B535","v":37320},{"$f":"Calculations!A535","v":"110 Woodthorne Road South Wolverhampton West Midlands WV6 8SW"},{"$f":"Calculations!C535","v":5.9651586247899999E-2},{"$f":"Calculations!G535","v":0},{"$f":"Calculations!O535","v":0},{"$f":"Calculations!P535","v":1},{"$f":"Calculations!U535","v":0},{"$f":"Calculations!X535","v":0},{"$f":"Calculations!AC535","v":0},5.9651586247899999E-2]
[{"$f":"Calculations!B536","v":37570},{"$f":"Calculations!A536","v":"575 Parkfield Road Wolverhampton West Midlands WV4 6EL"},{"$f":"Calculations!C536","v":1.50355000005E-2},{"$f":"Calculations!G536","v":0},{"$f":"Calculations!O536","v":0},{"$f":"Calculations!P536","v":1},{"$f":"Calculations!U536","v":0},{"$f":"Calculations!X536","v":0},{"$f":"Calculations!AC536","v":0},1.50355000005E-2]
[{"$f":"Calculations!B537","v":33180},{"$f":"Calculations!A537","v":"36-42 Newbridge Street Wolverhampton West Midlands WV6 0EG"},{"$f":"Calculations!C537","v":4.78032357012E-2},{"$f":"Calculations!G537","v":0},{"$f":"Calculations!O537","v":0},{"$f":"Calculations!P537","v":1},{"$f":"Calculations!U537","v":0},{"$f":"Calculations!X537","v":0},{"$f":"Calculations!AC537","v":0},4.78032357012E-2]
[{"$f":"Calculations!B538","v":37380},{"$f":"Calculations!A538","v":"19 Showell Road Wolverhampton West Midlands WV10 9LU"},{"$f":"Calculations!C538","v":6.1383999997599997E-3},{"$f":"Calculations!G538","v":0},{"$f":"Calculations!O538","v":0},{"$f":"Calculations!P538","v":1},{"$f":"Calculations!U538","v":0},{"$f":"Calculations!X538","v":0},{"$f":"Calculations!AC538","v":0},6.1383999997599997E-3]
[{"$f":"Calculations!B539","v":37310},{"$f":"Calculations!A539","v":"Former Braybrook PRU, Bellamy Lane"},{"$f":"Calculations!C539","v":0.47937390000000002},{"$f":"Calculations!G539","v":0},{"$f":"Calculations!O539","v":0},{"$f":"Calculations!P539","v":1},{"$f":"Calculations!U539","v":0},{"$f":"Calculations!X539","v":5.9244310316026803E-2},{"$f":"Calculations!AC539","v":9.9359289342302509E-2},0.47937390000000002]
[{"$f":"Calculations!B540","v":31110},{"$f":"Calculations!A540","v":"Land rear of 13/14 Church Green & 31 - 36 Parkview Road"},{"$f":"Calculations!C540","v":0.14968516724799999},{"$f":"Calculations!G540","v":0},{"$f":"Calculations!O540","v":6.6666666666666666E-2},{"$f":"Calculations!P540","v":0.93333333333333335},{"$f":"Calculations!U540","v":0},{"$f":"Calculations!X540","v":9.0856363994086485E-5},{"$f":"Calculations!AC540","v":1.4398767670788019E-2},0.13970615609813333]
[{"$f":"Calculations!B541","v":35030},{"$f":"Calculations!A541","v":"Wightwick Court, Vale Head Drive, Wolverhampton"},{"$f":"Calculations!C541","v":0.59338944000000005},{"$f":"Calculations!G541","v":0},{"$f":"Calculations!O541","v":0},{"$f":"Calculations!P541","v":1},{"$f":"Calculations!U541","v":0},{"$f":"Calculations!X541","v":0},{"$f":"Calculations!AC541","v":0},0.59338944000000005]
[{"$f":"Calculations!B542","v":37540},{"$f":"Calculations!A542","v":"5 - 9 Chapel Ash Wolverhampton West Midlands WV3 0TZ"},{"$f":"Calculations!C542","v":4.8249880002100003E-2},{"$f":"Calculations!G542","v":0},{"$f":"Calculations!O542","v":0},{"$f":"Calculations!P542","v":1},{"$f":"Calculations!U542","v":0},{"$f":"Calculations!X542","v":0},{"$f":"Calculations!AC542","v":0},4.8249880002100003E-2]
[{"$f":"Calculations!B543","v":38140},{"$f":"Calculations!A543","v":"King Charles Public House Cromwell Road Wolverhampton West Midlands WV10 8UT"},{"$f":"Calculations!C543","v":0.37261704170100002},{"$f":"Calculations!G543","v":0},{"$f":"Calculations!O543","v":0},{"$f":"Calculations!P543","v":1},{"$f":"Calculations!U543","v":0},{"$f":"Calculations!X543","v":0},{"$f":"Calculations!AC543","v":"<1%"},0.37261704170100002]
[{"$f":"Calculations!B544","v":38270},{"$f":"Calculations!A544","v":"Land Adjacent To 24 Essington Way Wolverhampton West Midlands"},{"$f":"Calculations!C544","v":8.1294421000199998E-2},{"$f":"Calculations!G544","v":0},{"$f":"Calculations!O544","v":0},{"$f":"Calculations!P544","v":1},{"$f":"Calculations!U544","v":0},{"$f":"Calculations!X544","v":0},{"$f":"Calculations!AC544","v":0.30293025339987861},8.1294421000199998E-2]
[{"$f":"Calculations!B545","v":37550},{"$f":"Calculations!A545","v":"554 Wolverhampton Road East Wolverhampton WV4 6AA"},{"$f":"Calculations!C545","v":6.6485846299199999E-2},{"$f":"Calculations!G545","v":0},{"$f":"Calculations!O545","v":0},{"$f":"Calculations!P545","v":1},{"$f":"Calculations!U545","v":0},{"$f":"Calculations!X545","v":0},{"$f":"Calculations!AC545","v":0},6.6485846299199999E-2]
[{"$f":"Calculations!B546","v":38160},{"$f":"Calculations!A546","v":"Land At Lawnside Green Wolverhampton West Midlands"},{"$f":"Calculations!C546","v":0.16981436220099999},{"$f":"Calculations!G546","v":0.82352941176470595},{"$f":"Calculations!O546","v":1},{"$f":"Calculations!P546","v":0},{"$f":"Calculations!U546","v":0.3267075783324368},{"$f":"Calculations!X546","v":0.61328471614182301},{"$f":"Calculations!AC546","v":0.71342304108771426},0]
[{"$f":"Calculations!B547","v":38030},{"$f":"Calculations!A547","v":"Land Between 30 And 40 Wordsworth Avenue Wolverhampton West Midlands"},{"$f":"Calculations!C547","v":9.4491431401500001E-2},{"$f":"Calculations!G547","v":0},{"$f":"Calculations!O547","v":0},{"$f":"Calculations!P547","v":1},{"$f":"Calculations!U547","v":0},{"$f":"Calculations!X547","v":0},{"$f":"Calculations!AC547","v":0},9.4491431401500001E-2]
[{"$f":"Calculations!B548","v":37520},{"$f":"Calculations!A548","v":"48 Dixon Street Wolverhampton West Midlands WV2 2BJ"},{"$f":"Calculations!C548","v":4.32690499997E-2},{"$f":"Calculations!G548","v":0},{"$f":"Calculations!O548","v":0},{"$f":"Calculations!P548","v":1},{"$f":"Calculations!U548","v":0},{"$f":"Calculations!X548","v":2.0116217820405922E-2},{"$f":"Calculations!AC548","v":0.11321457927148768},4.32690499997E-2]
[{"$f":"Calculations!B549","v":38290},{"$f":"Calculations!A549","v":"61 Second Avenue Wolverhampton West Midlands WV10 9PD"},{"$f":"Calculations!C549","v":2.65083877003E-2},{"$f":"Calculations!G549","v":0},{"$f":"Calculations!O549","v":0},{"$f":"Calculations!P549","v":1},{"$f":"Calculations!U549","v":0},{"$f":"Calculations!X549","v":0},{"$f":"Calculations!AC549","v":0},2.65083877003E-2]
[{"$f":"Calculations!B550","v":38230},{"$f":"Calculations!A550","v":"296 Aldersley Road Wolverhampton West Midlands WV6 9NP"},{"$f":"Calculations!C550","v":5.9530366299E-2},{"$f":"Calculations!G550","v":0},{"$f":"Calculations!O550","v":0},{"$f":"Calculations!P550","v":1},{"$f":"Calculations!U550","v":0},{"$f":"Calculations!X550","v":0},{"$f":"Calculations!AC550","v":0},5.9530366299E-2]
[{"$f":"Calculations!B551","v":37280},{"$f":"Calculations!A551","v":"Fmr Police Station, Birmingham Road, WV2 3LN"},{"$f":"Calculations!C551","v":0.19154625},{"$f":"Calculations!G551","v":0},{"$f":"Calculations!O551","v":0},{"$f":"Calculations!P551","v":1},{"$f":"Calculations!U551","v":0},{"$f":"Calculations!X551","v":0},{"$f":"Calculations!AC551","v":5.4592037174155065E-3},0.19154625]
[{"$f":"Calculations!B552","v":37690},{"$f":"Calculations!A552","v":"Garage Site Adjacent To 63 Meldon Drive Bilston"},{"$f":"Calculations!C552","v":9.9579234201200004E-2},{"$f":"Calculations!G552","v":0},{"$f":"Calculations!O552","v":0},{"$f":"Calculations!P552","v":1},{"$f":"Calculations!U552","v":0},{"$f":"Calculations!X552","v":0.42273110075858289},{"$f":"Calculations!AC552","v":0.38945638090137724},9.9579234201200004E-2]
[{"$f":"Calculations!B553","v":33910},{"$f":"Calculations!A553","v":"Garage Site To The Rear Of 16 To 26 Bank Street Slater Street Wolverhampton"},{"$f":"Calculations!C553","v":0.110364872502},{"$f":"Calculations!G553","v":0},{"$f":"Calculations!O553","v":0},{"$f":"Calculations!P553","v":1},{"$f":"Calculations!U553","v":0},{"$f":"Calculations!X553","v":0},{"$f":"Calculations!AC553","v":0},0.110364872502]
[{"$f":"Calculations!B554","v":34910},{"$f":"Calculations!A554","v":"Fmr Borough Arms PH,Bunkers Hill Lane WV14 6JX"},{"$f":"Calculations!C554","v":0.22304479999900001},{"$f":"Calculations!G554","v":0},{"$f":"Calculations!O554","v":0},{"$f":"Calculations!P554","v":1},{"$f":"Calculations!U554","v":0},{"$f":"Calculations!X554","v":0},{"$f":"Calculations!AC554","v":0},0.22304479999900001]
[{"$f":"Calculations!B555","v":38300},{"$f":"Calculations!A555","v":"Former Garage Adjacent To 36 Redcotts Close Wolverhampton West Midlands"},{"$f":"Calculations!C555","v":5.2093959997599998E-2},{"$f":"Calculations!G555","v":0},{"$f":"Calculations!O555","v":0},{"$f":"Calculations!P555","v":1},{"$f":"Calculations!U555","v":0},{"$f":"Calculations!X555","v":0},{"$f":"Calculations!AC555","v":0},5.2093959997599998E-2]
[{"$f":"Calculations!B556","v":37490},{"$f":"Calculations!A556","v":"46 - 48 Chapel Ash Wolverhampton West Midlands WV3 0TT"},{"$f":"Calculations!C556","v":4.6152950000399998E-2},{"$f":"Calculations!G556","v":0},{"$f":"Calculations!O556","v":0},{"$f":"Calculations!P556","v":1},{"$f":"Calculations!U556","v":0},{"$f":"Calculations!X556","v":0},{"$f":"Calculations!AC556","v":3.7305677643489264E-2},4.6152950000399998E-2]
[{"$f":"Calculations!B557","v":37830},{"$f":"Calculations!A557","v":"Land Rear Of 195 CannOther Commitmentk Road Wolverhampton West Midlands WV10 0AH"},{"$f":"Calculations!C557","v":4.4697118199999997E-2},{"$f":"Calculations!G557","v":0},{"$f":"Calculations!O557","v":0},{"$f":"Calculations!P557","v":1},{"$f":"Calculations!U557","v":0.29741021587056143},{"$f":"Calculations!X557","v":0.52607193267728392},{"$f":"Calculations!AC557","v":0.68094375638188254},4.4697118199999997E-2]
[{"$f":"Calculations!B558","v":37660},{"$f":"Calculations!A558","v":"Former Evcap Centre 51A John Street/George Street Ettingshall  Wolverhampton WV2 2LY"},{"$f":"Calculations!C558","v":0.10454961240299999},{"$f":"Calculations!G558","v":0},{"$f":"Calculations!O558","v":0},{"$f":"Calculations!P558","v":1},{"$f":"Calculations!U558","v":0},{"$f":"Calculations!X558","v":0},{"$f":"Calculations!AC558","v":0},0.10454961240299999]
[{"$f":"Calculations!B559","v":37800},{"$f":"Calculations!A559","v":"Land Between 212 And 214 Lea Road Wolverhampton West Midlands"},{"$f":"Calculations!C559","v":2.83668424997E-2},{"$f":"Calculations!G559","v":0},{"$f":"Calculations!O559","v":0},{"$f":"Calculations!P559","v":1},{"$f":"Calculations!U559","v":0},{"$f":"Calculations!X559","v":0},{"$f":"Calculations!AC559","v":0},2.83668424997E-2]
[{"$f":"Calculations!B560","v":37301},{"$f":"Calculations!A560","v":"Fmr Pennfields Special School, Birches Barn Road WV3 7BJ (school buildings)"},{"$f":"Calculations!C560","v":1.0662267002500001},{"$f":"Calculations!G560","v":0},{"$f":"Calculations!O560","v":0},{"$f":"Calculations!P560","v":1},{"$f":"Calculations!U560","v":0},{"$f":"Calculations!X560","v":0},{"$f":"Calculations!AC560","v":3.2342995717904319E-2},1.0662267002500001]
[{"$f":"Calculations!B561","v":35180},{"$f":"Calculations!A561","v":"Land adjacent to 35 Willis Pearson Avenue, Wolverhampton, West Midlands, WV14 8DA"},{"$f":"Calculations!C561","v":8.8797700051999995E-2},{"$f":"Calculations!G561","v":0},{"$f":"Calculations!O561","v":0},{"$f":"Calculations!P561","v":1},{"$f":"Calculations!U561","v":0},{"$f":"Calculations!X561","v":0.16667098349769319},{"$f":"Calculations!AC561","v":0.35720744477429278},8.8797700051999995E-2]
[{"$f":"Calculations!B562","v":38320},{"$f":"Calculations!A562","v":"Land Adjacent To 3 Sandmere Rise Wolverhampton West Midlands WV10 9DD"},{"$f":"Calculations!C562","v":3.4172955001699999E-2},{"$f":"Calculations!G562","v":0},{"$f":"Calculations!O562","v":0},{"$f":"Calculations!P562","v":1},{"$f":"Calculations!U562","v":0},{"$f":"Calculations!X562","v":0},{"$f":"Calculations!AC562","v":0},{"$f":"C571*F571","v":3.4172955001699999E-2}]
[{"$f":"Calculations!B563","v":38150},{"$f":"Calculations!A563","v":"Land Behind 58 And 60 Dixon Street Wolverhampton West Midlands"},{"$f":"Calculations!C563","v":6.5946169749600006E-2},{"$f":"Calculations!G563","v":0},{"$f":"Calculations!O563","v":0},{"$f":"Calculations!P563","v":1},{"$f":"Calculations!U563","v":0},{"$f":"Calculations!X563","v":0},{"$f":"Calculations!AC563","v":0},6.5946169749600006E-2]
[{"$f":"Calculations!B564","v":31150},{"$f":"Calculations!A564","v":"Former 21 & 23 Hughes Road"},{"$f":"Calculations!C564","v":5.1621450000500002E-2},{"$f":"Calculations!G564","v":0},{"$f":"Calculations!O564","v":0},{"$f":"Calculations!P564","v":1},{"$f":"Calculations!U564","v":0},{"$f":"Calculations!X564","v":1.0993865148392829E-3},{"$f":"Calculations!AC564","v":3.4893395052919926E-2},5.1621450000500002E-2]
[{"$f":"Calculations!B565","v":37620},{"$f":"Calculations!A565","v":"Beckminster Club 22 Coalway Road Wolverhampton West Midlands WV3 7LX"},{"$f":"Calculations!C565","v":0.112997512501},{"$f":"Calculations!G565","v":0},{"$f":"Calculations!O565","v":0},{"$f":"Calculations!P565","v":1},{"$f":"Calculations!U565","v":0},{"$f":"Calculations!X565","v":0},{"$f":"Calculations!AC565","v":3.6016137965399757E-2},0.112997512501]
[{"$f":"Calculations!B566","v":37900},{"$f":"Calculations!A566","v":"Observer Buildings 2 Lower Street Wolverhampton West Midlands WV6 9AF"},{"$f":"Calculations!C566","v":0.194234027502},{"$f":"Calculations!G566","v":0},{"$f":"Calculations!O566","v":0},{"$f":"Calculations!P566","v":1},{"$f":"Calculations!U566","v":0},{"$f":"Calculations!X566","v":0},{"$f":"Calculations!AC566","v":0},0.194234027502]
[{"$f":"Calculations!B567","v":37980},{"$f":"Calculations!A567","v":"Land Behind 69 To 77 Completed During 2017/18pton Road Completed During 2017/18pton Road Wolverhampton West Midlands"},{"$f":"Calculations!C567","v":0.37832512690100001},{"$f":"Calculations!G567","v":0},{"$f":"Calculations!O567","v":0},{"$f":"Calculations!P567","v":1},{"$f":"Calculations!U567","v":0},{"$f":"Calculations!X567","v":0},{"$f":"Calculations!AC567","v":0},0.37832512690100001]
[{"$f":"Calculations!B568","v":35160},{"$f":"Calculations!A568","v":"46 Mount Road, Tettenhall, Wolverhampton, West Midlands, WV6 8HW"},{"$f":"Calculations!C568","v":0.29587799999999997},{"$f":"Calculations!G568","v":0},{"$f":"Calculations!O568","v":0},{"$f":"Calculations!P568","v":1},{"$f":"Calculations!U568","v":0},{"$f":"Calculations!X568","v":0},{"$f":"Calculations!AC568","v":0},0.29587799999999997]
[{"$f":"Calculations!B569","v":38050},{"$f":"Calculations!A569","v":"Land Between 25 And 31 Wordsworth Avenue Wolverhampton West Midlands"},{"$f":"Calculations!C569","v":1.8237044452100001E-2},{"$f":"Calculations!G569","v":0},{"$f":"Calculations!O569","v":0},{"$f":"Calculations!P569","v":1},{"$f":"Calculations!U569","v":0},{"$f":"Calculations!X569","v":0},{"$f":"Calculations!AC569","v":0},1.8237044452100001E-2]
[{"$f":"Calculations!B570","v":38110},{"$f":"Calculations!A570","v":"Land South East Of 5 Sunset Place Wolverhampton West Midlands"},{"$f":"Calculations!C570","v":8.0361055001400006E-2},{"$f":"Calculations!G570","v":0},{"$f":"Calculations!O570","v":0},{"$f":"Calculations!P570","v":1},{"$f":"Calculations!U570","v":0},{"$f":"Calculations!X570","v":0},{"$f":"Calculations!AC570","v":0},8.0361055001400006E-2]
[{"$f":"Calculations!B571","v":38450},{"$f":"Calculations!A571","v":"Tettenhall College, Wood Road"},{"$f":"Calculations!C571","v":0.93638446134999997},{"$f":"Calculations!G571","v":0},{"$f":"Calculations!O571","v":0},{"$f":"Calculations!P571","v":1},{"$f":"Calculations!U571","v":0},{"$f":"Calculations!X571","v":0},{"$f":"Calculations!AC571","v":"<1%"},0.93638446134999997]
[{"$f":"Calculations!B572","v":37480},{"$f":"Calculations!A572","v":"45 Bath Road Wolverhampton West Midlands WV1 4EW"},{"$f":"Calculations!C572","v":2.0576624999800001E-2},{"$f":"Calculations!G572","v":0},{"$f":"Calculations!O572","v":0},{"$f":"Calculations!P572","v":1},{"$f":"Calculations!U572","v":0},{"$f":"Calculations!X572","v":0},{"$f":"Calculations!AC572","v":0},2.0576624999800001E-2]
[{"$f":"Calculations!B573","v":37340},{"$f":"Calculations!A573","v":"12 Birches Barn Road Wolverhampton West Midlands WV3 7BN"},{"$f":"Calculations!C573","v":2.94337900014E-2},{"$f":"Calculations!G573","v":0},{"$f":"Calculations!O573","v":0},{"$f":"Calculations!P573","v":1},{"$f":"Calculations!U573","v":0},{"$f":"Calculations!X573","v":0},{"$f":"Calculations!AC573","v":0},2.94337900014E-2]
[{"$f":"Calculations!B574","v":38120},{"$f":"Calculations!A574","v":"Second Floor Chancel Court 2 Wellington Road Bilston  Wolverhampton"},{"$f":"Calculations!C574","v":0.13700275799799999},{"$f":"Calculations!G574","v":0},{"$f":"Calculations!O574","v":0},{"$f":"Calculations!P574","v":1},{"$f":"Calculations!U574","v":0},{"$f":"Calculations!X574","v":0},{"$f":"Calculations!AC574","v":7.747574457690079E-2},0.13700275799799999]
[{"$f":"Calculations!B575","v":37500},{"$f":"Calculations!A575","v":"46 Queen Street City Centre Wolverhampton West Midlands WV1 3BJ"},{"$f":"Calculations!C575","v":7.9603692501200002E-2},{"$f":"Calculations!G575","v":0},{"$f":"Calculations!O575","v":0},{"$f":"Calculations!P575","v":1},{"$f":"Calculations!U575","v":0},{"$f":"Calculations!X575","v":0},{"$f":"Calculations!AC575","v":0},7.9603692501200002E-2]
[{"$f":"Calculations!B576","v":37700},{"$f":"Calculations!A576","v":"Hafod Mount Road Tettenhall Wood Wolverhampton West Midlands WV6 8HR"},{"$f":"Calculations!C576","v":0.18024337500000001},{"$f":"Calculations!G576","v":0},{"$f":"Calculations!O576","v":0},{"$f":"Calculations!P576","v":1},{"$f":"Calculations!U576","v":0},{"$f":"Calculations!X576","v":0},{"$f":"Calculations!AC576","v":0},0.18024337500000001]
[{"$f":"Calculations!B577","v":37440},{"$f":"Calculations!A577","v":"337 Bushbury Lane Wolverhampton West Midlands WV10 9UL"},{"$f":"Calculations!C577","v":6.34568028502E-2},{"$f":"Calculations!G577","v":0},{"$f":"Calculations!O577","v":0},{"$f":"Calculations!P577","v":1},{"$f":"Calculations!U577","v":0},{"$f":"Calculations!X577","v":0},{"$f":"Calculations!AC577","v":0.21943553588196751},6.34568028502E-2]
[{"$f":"Calculations!B578","v":38000},{"$f":"Calculations!A578","v":"1 Claverley Drive Wolverhampton West Midlands WV4 4QL"},{"$f":"Calculations!C578","v":0.113775181569},{"$f":"Calculations!G578","v":0},{"$f":"Calculations!O578","v":0},{"$f":"Calculations!P578","v":1},{"$f":"Calculations!U578","v":0},{"$f":"Calculations!X578","v":0},{"$f":"Calculations!AC578","v":8.1026919382757856E-3},0.113775181569]
[{"$f":"Calculations!B579","v":38350},{"$f":"Calculations!A579","v":"Land Between 3 And 9 Hughes Road Wolverhampton West Midlands"},{"$f":"Calculations!C579","v":5.5661875001799997E-2},{"$f":"Calculations!G579","v":0},{"$f":"Calculations!O579","v":0},{"$f":"Calculations!P579","v":1},{"$f":"Calculations!U579","v":0},{"$f":"Calculations!X579","v":0},{"$f":"Calculations!AC579","v":0},5.5661875001799997E-2]
[{"$f":"Calculations!B580","v":38380},{"$f":"Calculations!A580","v":"178 - 179 Dudley Road Wolverhampton West Midlands WV2 3DR"},{"$f":"Calculations!C580","v":2.03764300007E-2},{"$f":"Calculations!G580","v":0},{"$f":"Calculations!O580","v":0},{"$f":"Calculations!P580","v":1},{"$f":"Calculations!U580","v":0},{"$f":"Calculations!X580","v":2.6429556104356811E-2},{"$f":"Calculations!AC580","v":4.2285227147856638E-2},2.03764300007E-2]
[{"$f":"Calculations!B581","v":37890},{"$f":"Calculations!A581","v":"Oak And Ivy 30 Oxford Street Bilston Wolverhampton West Midlands WV14 7DE"},{"$f":"Calculations!C581","v":2.6830176698900001E-2},{"$f":"Calculations!G581","v":0},{"$f":"Calculations!O581","v":0},{"$f":"Calculations!P581","v":1},{"$f":"Calculations!U581","v":0},{"$f":"Calculations!X581","v":0},{"$f":"Calculations!AC581","v":0},2.6830176698900001E-2]
[{"$f":"Calculations!B582","v":37910},{"$f":"Calculations!A582","v":"The Former Haven Club 15 Claremont Street Wolverhampton West Midlands WV14 6BA"},{"$f":"Calculations!C582","v":0.103339585001},{"$f":"Calculations!G582","v":0},{"$f":"Calculations!O582","v":0},{"$f":"Calculations!P582","v":1},{"$f":"Calculations!U582","v":0},{"$f":"Calculations!X582","v":0},{"$f":"Calculations!AC582","v":0},0.103339585001]
[{"$f":"Calculations!B583","v":37790},{"$f":"Calculations!A583","v":"Land Between 175 - 177 Bushbury Road Wolverhampton WV10 0NJ"},{"$f":"Calculations!C583","v":2.1218004297199999E-2},{"$f":"Calculations!G583","v":0},{"$f":"Calculations!O583","v":0},{"$f":"Calculations!P583","v":1},{"$f":"Calculations!U583","v":0},{"$f":"Calculations!X583","v":0},{"$f":"Calculations!AC583","v":0},2.1218004297199999E-2]
[{"$f":"Calculations!B584","v":38480},{"$f":"Calculations!A584","v":"Fmr Steelcraft Engineering, 6 Completed During 2017/18mercial Road"},{"$f":"Calculations!C584","v":0.19941475954900001},{"$f":"Calculations!G584","v":0},{"$f":"Calculations!O584","v":0},{"$f":"Calculations!P584","v":1},{"$f":"Calculations!U584","v":0},{"$f":"Calculations!X584","v":0},{"$f":"Calculations!AC584","v":0},0.19941475954900001]
[{"$f":"Calculations!B585","v":37930},{"$f":"Calculations!A585","v":" Land Rear Of 10 Broad Street Bilston WV14 0BP"},{"$f":"Calculations!C585","v":2.09550545508E-2},{"$f":"Calculations!G585","v":0},{"$f":"Calculations!O585","v":0},{"$f":"Calculations!P585","v":1},{"$f":"Calculations!U585","v":0},{"$f":"Calculations!X585","v":0},{"$f":"Calculations!AC585","v":0},2.09550545508E-2]
[{"$f":"Calculations!B586","v":37210},{"$f":"Calculations!A586","v":"33 High Street, Tettenhall"},{"$f":"Calculations!C586","v":0.29948667600099999},{"$f":"Calculations!G586","v":0},{"$f":"Calculations!O586","v":0},{"$f":"Calculations!P586","v":1},{"$f":"Calculations!U586","v":0},{"$f":"Calculations!X586","v":0},{"$f":"Calculations!AC586","v":0},0.29948667600099999]
[{"$f":"Calculations!B587","v":33450},{"$f":"Calculations!A587","v":"Land Adjacent 163 Caledonia Road Wolverhampton West Midlands"},{"$f":"Calculations!C587","v":6.7961964905300001E-2},{"$f":"Calculations!G587","v":0},{"$f":"Calculations!O587","v":0},{"$f":"Calculations!P587","v":1},{"$f":"Calculations!U587","v":0},{"$f":"Calculations!X587","v":0},{"$f":"Calculations!AC587","v":0},6.7961964905300001E-2]
[{"$f":"Calculations!B588","v":37880},{"$f":"Calculations!A588","v":"Land To The Side Of  96 Coronation Road Heath Town Wolverhampton West Midlands WV10 0QH"},{"$f":"Calculations!C588","v":5.2019025000499999E-2},{"$f":"Calculations!G588","v":0},{"$f":"Calculations!O588","v":0},{"$f":"Calculations!P588","v":1},{"$f":"Calculations!U588","v":0},{"$f":"Calculations!X588","v":0},{"$f":"Calculations!AC588","v":0.22191391387360765},5.2019025000499999E-2]
[{"$f":"Calculations!B589","v":37870},{"$f":"Calculations!A589","v":"Land To The Rear Of 42 - 48 Goldthorn Hill Wolverhampton West Midlands WV2 3HU"},{"$f":"Calculations!C589","v":4.2321371799200001E-2},{"$f":"Calculations!G589","v":0},{"$f":"Calculations!O589","v":0},{"$f":"Calculations!P589","v":1},{"$f":"Calculations!U589","v":0},{"$f":"Calculations!X589","v":0},{"$f":"Calculations!AC589","v":0},4.2321371799200001E-2]
[{"$f":"Calculations!B590","v":38100},{"$f":"Calculations!A590","v":"The House In The Trees Wightwick Bank Wolverhampton West Midlands WV6 8DR"},{"$f":"Calculations!C590","v":0.21388262015100001},{"$f":"Calculations!G590","v":0},{"$f":"Calculations!O590","v":0},{"$f":"Calculations!P590","v":1},{"$f":"Calculations!U590","v":0},{"$f":"Calculations!X590","v":0},{"$f":"Calculations!AC590","v":0},0.21388262015100001]
[{"$f":"Calculations!B591","v":38370},{"$f":"Calculations!A591","v":"Henleaze StOther Commitmentkwell End Wolverhampton West Midlands WV6 9PH"},{"$f":"Calculations!C591","v":0.129335684999},{"$f":"Calculations!G591","v":0},{"$f":"Calculations!O591","v":0},{"$f":"Calculations!P591","v":1},{"$f":"Calculations!U591","v":0},{"$f":"Calculations!X591","v":0},{"$f":"Calculations!AC591","v":0},0.129335684999]
[{"$f":"Calculations!B592","v":38200},{"$f":"Calculations!A592","v":"Garage Site Behind 3 To 23 Lower Vauxhall Wolverhampton West Midlands"},{"$f":"Calculations!C592","v":4.8569649149100003E-2},{"$f":"Calculations!G592","v":0},{"$f":"Calculations!O592","v":0},{"$f":"Calculations!P592","v":1},{"$f":"Calculations!U592","v":0},{"$f":"Calculations!X592","v":0},{"$f":"Calculations!AC592","v":0},4.8569649149100003E-2]
[{"$f":"Calculations!B593","v":37510},{"$f":"Calculations!A593","v":"46 Riches Street Wolverhampton WV6 0DR"},{"$f":"Calculations!C593","v":1.86143749989E-2},{"$f":"Calculations!G593","v":0},{"$f":"Calculations!O593","v":0},{"$f":"Calculations!P593","v":1},{"$f":"Calculations!U593","v":0},{"$f":"Calculations!X593","v":0},{"$f":"Calculations!AC593","v":0},1.86143749989E-2]
[{"$f":"Calculations!B594","v":37920},{"$f":"Calculations!A594","v":"The Old Police Station 15 Mount Pleasant Wolverhampton West Midlands WV14 7LS"},{"$f":"Calculations!C594","v":0.11621947053999999},{"$f":"Calculations!G594","v":0},{"$f":"Calculations!O594","v":0},{"$f":"Calculations!P594","v":1},{"$f":"Calculations!U594","v":0},{"$f":"Calculations!X594","v":0},{"$f":"Calculations!AC594","v":7.9673993487976193E-3},0.11621947053999999]
[{"$f":"Calculations!B595","v":38310},{"$f":"Calculations!A595","v":"Sub-station Site At Rear Of Merridale Court Merridale Road Wolverhampton West Midlands WV3 9LE"},{"$f":"Calculations!C595","v":0.219733230753},{"$f":"Calculations!G595","v":0},{"$f":"Calculations!O595","v":0},{"$f":"Calculations!P595","v":1},{"$f":"Calculations!U595","v":0},{"$f":"Calculations!X595","v":0},{"$f":"Calculations!AC595","v":0},0.219733230753]
[{"$f":"Calculations!B596","v":37810},{"$f":"Calculations!A596","v":"Land Between 39 And 41 Daley Road Wolverhampton West Midlands"},{"$f":"Calculations!C596","v":0.178372133051},{"$f":"Calculations!G596","v":0},{"$f":"Calculations!O596","v":0},{"$f":"Calculations!P596","v":1},{"$f":"Calculations!U596","v":0},{"$f":"Calculations!X596","v":3.6814393751306808E-4},{"$f":"Calculations!AC596","v":0.1721596050700524},0.178372133051]
[{"$f":"Calculations!B597","v":37960},{"$f":"Calculations!A597","v":"Chas Hunter Ltd Upper Villiers Street Wolverhampton West Midlands WV2 4NR"},{"$f":"Calculations!C597","v":3.3157259798900003E-2},{"$f":"Calculations!G597","v":0},{"$f":"Calculations!O597","v":0},{"$f":"Calculations!P597","v":1},{"$f":"Calculations!U597","v":"<1%"},{"$f":"Calculations!X597","v":1.0524321344629833E-2},{"$f":"Calculations!AC597","v":2.2095307666778446E-2},3.3157259798900003E-2]
[{"$f":"Calculations!B598","v":31280},{"$f":"Calculations!A598","v":"Land btwn 2 Church Walk & 77 - 81 Birches Barn Road, Bradmore"},{"$f":"Calculations!C598","v":3.2056260001600001E-2},{"$f":"Calculations!G598","v":0},{"$f":"Calculations!O598","v":0},{"$f":"Calculations!P598","v":1},{"$f":"Calculations!U598","v":0},{"$f":"Calculations!X598","v":0},{"$f":"Calculations!AC598","v":0},3.2056260001600001E-2]
[{"$f":"Calculations!B599","v":28920},{"$f":"Calculations!A599","v":"Fmr Bushbury Arms PH, Showell Circus, Low Hill"},{"$f":"Calculations!C599","v":0.69578679179000003},{"$f":"Calculations!G599","v":0},{"$f":"Calculations!O599","v":0},{"$f":"Calculations!P599","v":1},{"$f":"Calculations!U599","v":0},{"$f":"Calculations!X599","v":0},{"$f":"Calculations!AC599","v":0},0.69578679179000003]
[{"$f":"Calculations!B600","v":38340},{"$f":"Calculations!A600","v":"Land Adjacent To 1 Wolseley Bank Wolverhampton"},{"$f":"Calculations!C600","v":3.9841530000599999E-2},{"$f":"Calculations!G600","v":0},{"$f":"Calculations!O600","v":0},{"$f":"Calculations!P600","v":1},{"$f":"Calculations!U600","v":6.4962364626584938E-3},{"$f":"Calculations!X600","v":8.0430445315798418E-2},{"$f":"Calculations!AC600","v":0.413343208635361},3.9841530000599999E-2]
[{"$f":"Calculations!B601","v":37530},{"$f":"Calculations!A601","v":"49 Queen Street City Centre Wolverhampton West Midlands WV1 3BJ"},{"$f":"Calculations!C601","v":2.76602500003E-2},{"$f":"Calculations!G601","v":0},{"$f":"Calculations!O601","v":0},{"$f":"Calculations!P601","v":1},{"$f":"Calculations!U601","v":0},{"$f":"Calculations!X601","v":0},{"$f":"Calculations!AC601","v":0},2.76602500003E-2]
[{"$f":"Calculations!B602","v":38170},{"$f":"Calculations!A602","v":"63 Gorsebrook Road Wolverhampton West Midlands WV6 0PD"},{"$f":"Calculations!C602","v":9.5343749990799993E-3},{"$f":"Calculations!G602","v":0},{"$f":"Calculations!O602","v":0},{"$f":"Calculations!P602","v":1},{"$f":"Calculations!U602","v":0},{"$f":"Calculations!X602","v":0},{"$f":"Calculations!AC602","v":"<1%"},9.5343749990799993E-3]
[{"$f":"Calculations!B603","v":38130},{"$f":"Calculations!A603","v":"85 Fraser Street Wolverhampton West Midlands WV14 7PD"},{"$f":"Calculations!C603","v":1.05584999988E-2},{"$f":"Calculations!G603","v":0},{"$f":"Calculations!O603","v":0},{"$f":"Calculations!P603","v":1},{"$f":"Calculations!U603","v":0},{"$f":"Calculations!X603","v":0},{"$f":"Calculations!AC603","v":0.13251483932424282},1.05584999988E-2]
[{"$f":"Calculations!B604","v":34250},{"$f":"Calculations!A604","v":"Garage site adj 86 Wentworth Road"},{"$f":"Calculations!C604","v":3.4436774348500003E-2},{"$f":"Calculations!G604","v":0},{"$f":"Calculations!O604","v":0},{"$f":"Calculations!P604","v":1},{"$f":"Calculations!U604","v":0},{"$f":"Calculations!X604","v":0},{"$f":"Calculations!AC604","v":0},3.4436774348500003E-2]
[{"$f":"Calculations!B605","v":38330},{"$f":"Calculations!A605","v":"65 Gorsebrook Road Wolverhampton West Midlands WV6 0PD"},{"$f":"Calculations!C605","v":9.8595750007499997E-3},{"$f":"Calculations!G605","v":0},{"$f":"Calculations!O605","v":0},{"$f":"Calculations!P605","v":1},{"$f":"Calculations!U605","v":0},{"$f":"Calculations!X605","v":0},{"$f":"Calculations!AC605","v":"<1%"},9.8595750007499997E-3]
[{"$f":"Calculations!B606","v":37940},{"$f":"Calculations!A606","v":"127 Bushbury Road Wolverhampton West Midlands WV10 0LZ"},{"$f":"Calculations!C606","v":7.4979559998199996E-2},{"$f":"Calculations!G606","v":0},{"$f":"Calculations!O606","v":0},{"$f":"Calculations!P606","v":1},{"$f":"Calculations!U606","v":0},{"$f":"Calculations!X606","v":0},{"$f":"Calculations!AC606","v":0},7.4979559998199996E-2]
[{"$f":"Calculations!B607","v":38190},{"$f":"Calculations!A607","v":"28 Ellards Drive Wolverhampton West Midlands WV11 3ST"},{"$f":"Calculations!C607","v":3.0702838899099999E-2},{"$f":"Calculations!G607","v":0},{"$f":"Calculations!O607","v":0},{"$f":"Calculations!P607","v":1},{"$f":"Calculations!U607","v":0},{"$f":"Calculations!X607","v":0},{"$f":"Calculations!AC607","v":0.59224743382883149},3.0702838899099999E-2]
[{"$f":"Calculations!B608","v":37710},{"$f":"Calculations!A608","v":"Harrison House Marston Road Wolverhampton West Midlands WV2 4NJ"},{"$f":"Calculations!C608","v":0.148019282999},{"$f":"Calculations!G608","v":0},{"$f":"Calculations!O608","v":0},{"$f":"Calculations!P608","v":1},{"$f":"Calculations!U608","v":0},{"$f":"Calculations!X608","v":0},{"$f":"Calculations!AC608","v":"<1%"},0.148019282999]
[{"$f":"Calculations!B609","v":37970},{"$f":"Calculations!A609","v":"108 Moseley Road Bilston Wolverhampton West Midlands WV14 6JF"},{"$f":"Calculations!C609","v":3.9799578149899997E-2},{"$f":"Calculations!G609","v":0},{"$f":"Calculations!O609","v":0},{"$f":"Calculations!P609","v":1},{"$f":"Calculations!U609","v":0},{"$f":"Calculations!X609","v":0},{"$f":"Calculations!AC609","v":0},3.9799578149899997E-2]
[{"$f":"Calculations!B610","v":33380},{"$f":"Calculations!A610","v":"Land Adjacent To 4 Rose Street Wolverhampton West Midlands"},{"$f":"Calculations!C610","v":6.7214202498999995E-2},{"$f":"Calculations!G610","v":0},{"$f":"Calculations!O610","v":0},{"$f":"Calculations!P610","v":1},{"$f":"Calculations!U610","v":0},{"$f":"Calculations!X610","v":0},{"$f":"Calculations!AC610","v":4.400297198604719E-2},6.7214202498999995E-2]
[{"$f":"Calculations!B611","v":37430},{"$f":"Calculations!A611","v":"31 Tinacre Hill Wolverhampton West Midlands WV6 8DB"},{"$f":"Calculations!C611","v":0.13434083100399999},{"$f":"Calculations!G611","v":0},{"$f":"Calculations!O611","v":0},{"$f":"Calculations!P611","v":1},{"$f":"Calculations!U611","v":0},{"$f":"Calculations!X611","v":0},{"$f":"Calculations!AC611","v":0},0.13434083100399999]
[{"$f":"Calculations!B612","v":35340},{"$f":"Calculations!A612","v":"Garage site to the rear of 1 To 13 Carlton Avenue, Bilston, Wolverhampton, West Midlands"},{"$f":"Calculations!C612","v":8.5937697497000004E-2},{"$f":"Calculations!G612","v":0},{"$f":"Calculations!O612","v":0},{"$f":"Calculations!P612","v":1},{"$f":"Calculations!U612","v":0},{"$f":"Calculations!X612","v":0},{"$f":"Calculations!AC612","v":0},8.5937697497000004E-2]
[{"$f":"Calculations!B613","v":37590},{"$f":"Calculations!A613","v":"6 Windmill Lane Wolverhampton West Midlands WV3 8HJ"},{"$f":"Calculations!C613","v":0.237683250002},{"$f":"Calculations!G613","v":0.125},{"$f":"Calculations!O613","v":0.29166666666666669},{"$f":"Calculations!P613","v":0.70833333333333326},{"$f":"Calculations!U613","v":0},{"$f":"Calculations!X613","v":0},{"$f":"Calculations!AC613","v":0},0.16835896875141665]
[{"$f":"Calculations!B614","v":30160},{"$f":"Calculations!A614","v":"70 Upper Villiers Street Wolverhampton"},{"$f":"Calculations!C614","v":0.12489317140300001},{"$f":"Calculations!G614","v":0},{"$f":"Calculations!O614","v":0},{"$f":"Calculations!P614","v":1},{"$f":"Calculations!U614","v":0},{"$f":"Calculations!X614","v":0},{"$f":"Calculations!AC614","v":0},0.12489317140300001]
[{"$f":"Calculations!B615","v":37330},{"$f":"Calculations!A615","v":"115 Waterloo Road Wolverhampton West Midlands WV1 4RB"},{"$f":"Calculations!C615","v":2.5269500001099999E-2},{"$f":"Calculations!G615","v":0},{"$f":"Calculations!O615","v":0},{"$f":"Calculations!P615","v":1},{"$f":"Calculations!U615","v":0},{"$f":"Calculations!X615","v":0},{"$f":"Calculations!AC615","v":0},2.5269500001099999E-2]
[{"$f":"Calculations!B616","v":38240},{"$f":"Calculations!A616","v":"Welsby 56 Green Lanes Wolverhampton West Midlands WV14 6BY"},{"$f":"Calculations!C616","v":2.1081499997599999E-2},{"$f":"Calculations!G616","v":0},{"$f":"Calculations!O616","v":0},{"$f":"Calculations!P616","v":1},{"$f":"Calculations!U616","v":0},{"$f":"Calculations!X616","v":0},{"$f":"Calculations!AC616","v":0},2.1081499997599999E-2]
[{"$f":"Calculations!B617","v":34460},{"$f":"Calculations!A617","v":"Land Rear Of The Neachells Public House, Neachells Lane"},{"$f":"Calculations!C617","v":0.27022282950199999},{"$f":"Calculations!G617","v":0},{"$f":"Calculations!O617","v":0},{"$f":"Calculations!P617","v":1},{"$f":"Calculations!U617","v":1.5195250187107561E-2},{"$f":"Calculations!X617","v":4.018912565705194E-2},{"$f":"Calculations!AC617","v":0.20869107001208284},0.27022282950199999]
[{"$f":"Calculations!B618","v":37420},{"$f":"Calculations!A618","v":"3 Newhampton Road East Wolverhampton West Midlands WV1 4AJ"},{"$f":"Calculations!C618","v":4.6337625000099997E-2},{"$f":"Calculations!G618","v":0},{"$f":"Calculations!O618","v":0},{"$f":"Calculations!P618","v":1},{"$f":"Calculations!U618","v":0},{"$f":"Calculations!X618","v":0},{"$f":"Calculations!AC618","v":0},4.6337625000099997E-2]
[{"$f":"Calculations!B619","v":38180},{"$f":"Calculations!A619","v":"Former Christ Church Of England Infant School Leicester Street Wolverhampton West Midlands WV6 0PS"},{"$f":"Calculations!C619","v":0.34891066749999999},{"$f":"Calculations!G619","v":0},{"$f":"Calculations!O619","v":0},{"$f":"Calculations!P619","v":1},{"$f":"Calculations!U619","v":0},{"$f":"Calculations!X619","v":0},{"$f":"Calculations!AC619","v":0.10558125714277566},0.34891066749999999]
[{"$f":"Calculations!B620","v":37560},{"$f":"Calculations!A620","v":"57 Mount Road Penn Wolverhampton West Midlands WV4 5SS"},{"$f":"Calculations!C620","v":7.0066122650400006E-2},{"$f":"Calculations!G620","v":0},{"$f":"Calculations!O620","v":0},{"$f":"Calculations!P620","v":1},{"$f":"Calculations!U620","v":0},{"$f":"Calculations!X620","v":0},{"$f":"Calculations!AC620","v":"<1%"},7.0066122650400006E-2]
[{"$f":"Calculations!B621","v":38280},{"$f":"Calculations!A621","v":"The Island House 160 Stafford Road Wolverhampton West Midlands WV10 6JT"},{"$f":"Calculations!C621","v":0.15895099444999999},{"$f":"Calculations!G621","v":0},{"$f":"Calculations!O621","v":0},{"$f":"Calculations!P621","v":1},{"$f":"Calculations!U621","v":0},{"$f":"Calculations!X621","v":0},{"$f":"Calculations!AC621","v":"<1%"},0.15895099444999999]
[{"$f":"Calculations!B622","v":32600},{"$f":"Calculations!A622","v":"39 Malins Road Wolverhampton West Midlands WV4 6AW"},{"$f":"Calculations!C622","v":2.4857750000600001E-2},{"$f":"Calculations!G622","v":0},{"$f":"Calculations!O622","v":0},{"$f":"Calculations!P622","v":1},{"$f":"Calculations!U622","v":0},{"$f":"Calculations!X622","v":0.46833841041023411},{"$f":"Calculations!AC622","v":0.45739858854540577},2.4857750000600001E-2]
[{"$f":"Calculations!B623","v":37630},{"$f":"Calculations!A623","v":"Bird In Hand Public House Thorneycroft Lane Wolverhampton WV10 0NF"},{"$f":"Calculations!C623","v":0.106228362452},{"$f":"Calculations!G623","v":0},{"$f":"Calculations!O623","v":0},{"$f":"Calculations!P623","v":1},{"$f":"Calculations!U623","v":0},{"$f":"Calculations!X623","v":0},{"$f":"Calculations!AC623","v":0.1317915449023889},0.106228362452]
[{"$f":"Calculations!B624","v":37410},{"$f":"Calculations!A624","v":"26 Granville Street Wolverhampton West Midlands WV2 1DG"},{"$f":"Calculations!C624","v":7.8467500003799994E-3},{"$f":"Calculations!G624","v":0},{"$f":"Calculations!O624","v":0},{"$f":"Calculations!P624","v":1},{"$f":"Calculations!U624","v":0},{"$f":"Calculations!X624","v":0},{"$f":"Calculations!AC624","v":0},7.8467500003799994E-3]
[{"$f":"Calculations!B625","v":32080},{"$f":"Calculations!A625","v":"WMBC Training Centre Fifth Avenue Low Hill Wolverhampton West Midlands"},{"$f":"Calculations!C625","v":0.72004082230900002},{"$f":"Calculations!G625","v":0},{"$f":"Calculations!O625","v":0},{"$f":"Calculations!P625","v":1},{"$f":"Calculations!U625","v":0},{"$f":"Calculations!X625","v":0},{"$f":"Calculations!AC625","v":"<1%"},0.72004082230900002]
[{"$f":"Calculations!B626","v":36671},{"$f":"Calculations!A626","v":"Wolverhampton Street /Shale Street (Part 1 of 2)"},{"$f":"Calculations!C626","v":0.26874250963700003},{"$f":"Calculations!G626","v":0},{"$f":"Calculations!O626","v":0},{"$f":"Calculations!P626","v":1},{"$f":"Calculations!U626","v":0},{"$f":"Calculations!X626","v":0},{"$f":"Calculations!AC626","v":0},{"$f":"C635*F635","v":0.26874250963700003}]
[{"$f":"Calculations!B627","v":36040},{"$f":"Calculations!A627","v":"Land Rear Of 59 To 71 Newbridge Crescent Wolverhampton West Midlands"},{"$f":"Calculations!C627","v":0.28799452344400001},{"$f":"Calculations!G627","v":0},{"$f":"Calculations!O627","v":0},{"$f":"Calculations!P627","v":1},{"$f":"Calculations!U627","v":0},{"$f":"Calculations!X627","v":0},{"$f":"Calculations!AC627","v":3.8745459500526734E-2},0.28799452344400001]
[{"$f":"Calculations!B628","v":38010},{"$f":"Calculations!A628","v":"Former Bulls Head 153 Millfields Road Wolverhampton West Midlands WV4 6JE"},{"$f":"Calculations!C628","v":8.0641612500900003E-2},{"$f":"Calculations!G628","v":0},{"$f":"Calculations!O628","v":0},{"$f":"Calculations!P628","v":1},{"$f":"Calculations!U628","v":0.23218745781043296},{"$f":"Calculations!X628","v":0.88962695901729805},{"$f":"Calculations!AC628","v":0.34256104130014398},8.0641612500900003E-2]
[{"$f":"Calculations!B629","v":38490},{"$f":"Calculations!A629","v":"58-60 Lichfield Street, City Centre"},{"$f":"Calculations!C629","v":3.5047274340699999E-2},{"$f":"Calculations!G629","v":0},{"$f":"Calculations!O629","v":0},{"$f":"Calculations!P629","v":1},{"$f":"Calculations!U629","v":0},{"$f":"Calculations!X629","v":0},{"$f":"Calculations!AC629","v":0},3.5047274340699999E-2]
[{"$f":"Calculations!B630","v":38360},{"$f":"Calculations!A630","v":"22 Lichfield Street City Centre Wolverhampton WV1 1DG"},{"$f":"Calculations!C630","v":1.4791000000799999E-2},{"$f":"Calculations!G630","v":0},{"$f":"Calculations!O630","v":0},{"$f":"Calculations!P630","v":1},{"$f":"Calculations!U630","v":0},{"$f":"Calculations!X630","v":0},{"$f":"Calculations!AC630","v":0},1.4791000000799999E-2]
[{"$f":"Calculations!B631","v":33880},{"$f":"Calculations!A631","v":"Garage Site To The Rear Of 1 To 5 Baylis Avenue Wolverhampton West Midlands"},{"$f":"Calculations!C631","v":0.109728692148},{"$f":"Calculations!G631","v":0},{"$f":"Calculations!O631","v":0},{"$f":"Calculations!P631","v":1},{"$f":"Calculations!U631","v":0},{"$f":"Calculations!X631","v":0},{"$f":"Calculations!AC631","v":0},0.109728692148]
[{"$f":"Calculations!B632","v":37190},{"$f":"Calculations!A632","v":"Former St Judes Infant School, Riches Street"},{"$f":"Calculations!C632","v":0.351954374997},{"$f":"Calculations!G632","v":0},{"$f":"Calculations!O632","v":0},{"$f":"Calculations!P632","v":1},{"$f":"Calculations!U632","v":0},{"$f":"Calculations!X632","v":0},{"$f":"Calculations!AC632","v":3.6550678145696167E-2},0.351954374997]
[{"$f":"Calculations!B633","v":38250},{"$f":"Calculations!A633","v":"Fmr Crown and Cushion, Bank Street, Bradley"},{"$f":"Calculations!C633","v":0.193049139595},{"$f":"Calculations!G633","v":0},{"$f":"Calculations!O633","v":0},{"$f":"Calculations!P633","v":1},{"$f":"Calculations!U633","v":0},{"$f":"Calculations!X633","v":0},{"$f":"Calculations!AC633","v":0},0.193049139595]
[{"$f":"Calculations!B634","v":32670},{"$f":"Calculations!A634","v":"Fmr Wulfruna Court, Dale St / Russell Street"},{"$f":"Calculations!C634","v":0.176795526201},{"$f":"Calculations!G634","v":0},{"$f":"Calculations!O634","v":0},{"$f":"Calculations!P634","v":1},{"$f":"Calculations!U634","v":0},{"$f":"Calculations!X634","v":0},{"$f":"Calculations!AC634","v":"<1%"},0.176795526201]
[{"$f":"Calculations!B635","v":38470},{"$f":"Calculations!A635","v":"Land Corner of Riches St / Sweetman St"},{"$f":"Calculations!C635","v":5.3641169450500001E-2},{"$f":"Calculations!G635","v":0},{"$f":"Calculations!O635","v":0},{"$f":"Calculations!P635","v":1},{"$f":"Calculations!U635","v":5.8750800060355969E-3},{"$f":"Calculations!X635","v":1.2827001434577906E-2},{"$f":"Calculations!AC635","v":0.1703792474705417},5.3641169450500001E-2]
[{"$f":"Calculations!B636","v":36480},{"$f":"Calculations!A636","v":"RDP Electronics Ltd, Grove Street"},{"$f":"Calculations!C636","v":0.35437967810299997},{"$f":"Calculations!G636","v":0},{"$f":"Calculations!O636","v":0},{"$f":"Calculations!P636","v":1},{"$f":"Calculations!U636","v":7.9649531040084359E-3},{"$f":"Calculations!X636","v":2.873616778775101E-2},{"$f":"Calculations!AC636","v":8.2190231456876622E-2},0.35437967810299997]
[{"$f":"Calculations!B637","v":31980},{"$f":"Calculations!A637","v":"Land Between Elysium And Orchard House 10 Old Lane Wightwick Wolverhampton West Midlands"},{"$f":"Calculations!C637","v":0.143295987165},{"$f":"Calculations!G637","v":0},{"$f":"Calculations!O637","v":0},{"$f":"Calculations!P637","v":1},{"$f":"Calculations!U637","v":0},{"$f":"Calculations!X637","v":0},{"$f":"Calculations!AC637","v":0},0.143295987165]
[{"$f":"Calculations!B638","v":38210},{"$f":"Calculations!A638","v":"Land Between 182 And Showell Park Medical Centre Fifth Avenue Wolverhampton West Midlands"},{"$f":"Calculations!C638","v":0.177939476397},{"$f":"Calculations!G638","v":0},{"$f":"Calculations!O638","v":0},{"$f":"Calculations!P638","v":1},{"$f":"Calculations!U638","v":0},{"$f":"Calculations!X638","v":0},{"$f":"Calculations!AC638","v":0},0.177939476397]
[{"$f":"Calculations!B639","v":37780},{"$f":"Calculations!A639","v":"Land Behind 54 To 57 Rose Street Wolverhampton West Midlands"},{"$f":"Calculations!C639","v":6.4055114788399994E-2},{"$f":"Calculations!G639","v":0},{"$f":"Calculations!O639","v":0},{"$f":"Calculations!P639","v":1},{"$f":"Calculations!U639","v":0},{"$f":"Calculations!X639","v":0},{"$f":"Calculations!AC639","v":0},6.4055114788399994E-2]
[{"$f":"Calculations!B640","v":37580},{"$f":"Calculations!A640","v":"58 Green Lanes Wolverhampton WV14 6DA"},{"$f":"Calculations!C640","v":2.13902671073E-2},{"$f":"Calculations!G640","v":0},{"$f":"Calculations!O640","v":0},{"$f":"Calculations!P640","v":1},{"$f":"Calculations!U640","v":0},{"$f":"Calculations!X640","v":0},{"$f":"Calculations!AC640","v":"<1%"},2.13902671073E-2]
[{"$f":"Calculations!B641","v":36420},{"$f":"Calculations!A641","v":"Fmr ADAS offices, Wergs Road"},{"$f":"Calculations!C641","v":3.5678368539299998},{"$f":"Calculations!G641","v":0},{"$f":"Calculations!O641","v":0},{"$f":"Calculations!P641","v":1},{"$f":"Calculations!U641","v":0},{"$f":"Calculations!X641","v":0},{"$f":"Calculations!AC641","v":0},3.5678368539299998]
[{"$f":"Calculations!B642","v":36770},{"$f":"Calculations!A642","v":"Shopping Core / Southside, Wolverhampton City Centre"},{"$f":"Calculations!C642","v":3.88203499361},{"$f":"Calculations!G642","v":0},{"$f":"Calculations!O642","v":0},{"$f":"Calculations!P642","v":1},{"$f":"Calculations!U642","v":1.1292811549110986E-2},{"$f":"Calculations!X642","v":4.0971781669691454E-2},{"$f":"Calculations!AC642","v":7.9810376344515793E-2},3.88203499361]
[{"$f":"Calculations!B643","v":36780},{"$f":"Calculations!A643","v":"Westside, Wolverhampton City Centre"},{"$f":"Calculations!C643","v":5.71391081312},{"$f":"Calculations!G643","v":0},{"$f":"Calculations!O643","v":0},{"$f":"Calculations!P643","v":1},{"$f":"Calculations!U643","v":3.4720647842345229E-2},{"$f":"Calculations!X643","v":5.9269998974243281E-2},{"$f":"Calculations!AC643","v":0.1217975054861698},5.71391081312]
[{"$f":"Calculations!B644","v":36510},{"$f":"Calculations!A644","v":"Fmr Bushbury Reservoir, Showell Road"},{"$f":"Calculations!C644","v":2.4217468477600002},{"$f":"Calculations!G644","v":0},{"$f":"Calculations!O644","v":0},{"$f":"Calculations!P644","v":1},{"$f":"Calculations!U644","v":0.2099311083940279},{"$f":"Calculations!X644","v":0.50516862693392073},{"$f":"Calculations!AC644","v":0.44101954844985708},2.4217468477600002]
[{"$f":"Calculations!B645","v":35670},{"$f":"Calculations!A645","v":"Burton Crescent / Taylors Playing Field"},{"$f":"Calculations!C645","v":0.880767242979},{"$f":"Calculations!G645","v":0},{"$f":"Calculations!O645","v":0},{"$f":"Calculations!P645","v":1},{"$f":"Calculations!U645","v":0},{"$f":"Calculations!X645","v":0},{"$f":"Calculations!AC645","v":0},0.880767242979]
[{"$f":"Calculations!B646","v":36810},{"$f":"Calculations!A646","v":"Cambridge Street Open Space, Canalside Quarter"},{"$f":"Calculations!C646","v":0.42978871232999999},{"$f":"Calculations!G646","v":0},{"$f":"Calculations!O646","v":0},{"$f":"Calculations!P646","v":1},{"$f":"Calculations!U646","v":0},{"$f":"Calculations!X646","v":1.7930184163817777E-2},{"$f":"Calculations!AC646","v":4.9416601598118559E-2},0.42978871232999999]
[{"$f":"Calculations!B647","v":36891},{"$f":"Calculations!A647","v":"Former St Luke's Junior School, Goldthorn Road (playing fields)"},{"$f":"Calculations!C647","v":2.2099849973499999},{"$f":"Calculations!G647","v":0},{"$f":"Calculations!O647","v":0},{"$f":"Calculations!P647","v":1},{"$f":"Calculations!U647","v":0},{"$f":"Calculations!X647","v":1.8101073651145981E-3},{"$f":"Calculations!AC647","v":5.2489607549964575E-2},2.2099849973499999]
[{"$f":"Calculations!B648","v":35660},{"$f":"Calculations!A648","v":"Fmr Bass Brewery Playing Field"},{"$f":"Calculations!C648","v":1.43371497775},{"$f":"Calculations!G648","v":0},{"$f":"Calculations!O648","v":0},{"$f":"Calculations!P648","v":1},{"$f":"Calculations!U648","v":1.920909907981325E-2},{"$f":"Calculations!X648","v":4.7816038935254823E-2},{"$f":"Calculations!AC648","v":0.38385555828644902},1.43371497775]
[{"$f":"Calculations!B649","v":37600},{"$f":"Calculations!A649","v":"60 Fordhouse Road Wolverhampton West Midlands WV10 9EE"},{"$f":"Calculations!C649","v":4.6909447314100003E-2},{"$f":"Calculations!G649","v":0},{"$f":"Calculations!O649","v":0},{"$f":"Calculations!P649","v":1},{"$f":"Calculations!U649","v":0},{"$f":"Calculations!X649","v":0},{"$f":"Calculations!AC649","v":8.5739402828373848E-2},4.6909447314100003E-2]
[{"$f":"Calculations!B650","v":33050},{"$f":"Calculations!A650","v":"Rear Of 11-13 Church Road Bradmore Wolverhampton West Midlands WV3 7ET"},{"$f":"Calculations!C650","v":2.2683990541199999E-2},{"$f":"Calculations!G650","v":0},{"$f":"Calculations!O650","v":0},{"$f":"Calculations!P650","v":1},{"$f":"Calculations!U650","v":0},{"$f":"Calculations!X650","v":0},{"$f":"Calculations!AC650","v":0},2.2683990541199999E-2]
[{"$f":"Calculations!B651","v":31910},{"$f":"Calculations!A651","v":"10 Wergs Road, Tettenhall"},{"$f":"Calculations!C651","v":0.156383850396},{"$f":"Calculations!G651","v":0},{"$f":"Calculations!O651","v":0},{"$f":"Calculations!P651","v":1},{"$f":"Calculations!U651","v":0},{"$f":"Calculations!X651","v":0},{"$f":"Calculations!AC651","v":0},0.156383850396]
[{"$f":"Calculations!B652","v":38440},{"$f":"Calculations!A652","v":"1 Red Lion Street, Wolverhampton City Centre"},{"$f":"Calculations!C652","v":8.0864010035500006E-2},{"$f":"Calculations!G652","v":0},{"$f":"Calculations!O652","v":0},{"$f":"Calculations!P652","v":1},{"$f":"Calculations!U652","v":0},{"$f":"Calculations!X652","v":0},{"$f":"Calculations!AC652","v":0},8.0864010035500006E-2]
[{"$f":"Calculations!B653","v":36990},{"$f":"Calculations!A653","v":"Beazer House, Hare Street"},{"$f":"Calculations!C653","v":0.63994739588000005},{"$f":"Calculations!G653","v":0.75},{"$f":"Calculations!O653","v":0.87500000000000011},{"$f":"Calculations!P653","v":0.12499999999999989},{"$f":"Calculations!U653","v":2.7028769396415284E-2},{"$f":"Calculations!X653","v":0.10905430618074037},{"$f":"Calculations!AC653","v":0.20773552113342805},7.9993424484999937E-2]
[{"$f":"Calculations!B654","v":35460},{"$f":"Calculations!A654","v":"27 Newbolds Road, Wolverhampton, West Midlands, WV10 0SA"},{"$f":"Calculations!C654","v":3.1657543305099997E-2},{"$f":"Calculations!G654","v":0},{"$f":"Calculations!O654","v":0},{"$f":"Calculations!P654","v":1},{"$f":"Calculations!U654","v":0},{"$f":"Calculations!X654","v":0.29853600377078116},{"$f":"Calculations!AC654","v":0.15987868820085033},3.1657543305099997E-2]
[{"$f":"Calculations!B655","v":32130},{"$f":"Calculations!A655","v":"Cable St / Steelhouse Lane"},{"$f":"Calculations!C655","v":7.9130386005100002},{"$f":"Calculations!G655","v":0},{"$f":"Calculations!O655","v":0},{"$f":"Calculations!P655","v":1},{"$f":"Calculations!U655","v":1.5719770742758907E-2},{"$f":"Calculations!X655","v":3.1102476990214952E-2},{"$f":"Calculations!AC655","v":8.8441525360362538E-2},7.9130386005100002]
[{"$f":"Calculations!B656","v":30910},{"$f":"Calculations!A656","v":"Former site of 84 Brooklands Parade"},{"$f":"Calculations!C656","v":2.5497734999300001E-2},{"$f":"Calculations!G656","v":0},{"$f":"Calculations!O656","v":0},{"$f":"Calculations!P656","v":1},{"$f":"Calculations!U656","v":0},{"$f":"Calculations!X656","v":0},{"$f":"Calculations!AC656","v":0},2.5497734999300001E-2]
[{"$f":"Calculations!B657","v":36080},{"$f":"Calculations!A657","v":"Land Adjacent To 34 Thorneycroft Lane Wolverhampton West Midlands"},{"$f":"Calculations!C657","v":5.5310723794199997E-2},{"$f":"Calculations!G657","v":0},{"$f":"Calculations!O657","v":0},{"$f":"Calculations!P657","v":1},{"$f":"Calculations!U657","v":0},{"$f":"Calculations!X657","v":0},{"$f":"Calculations!AC657","v":"<1%"},5.5310723794199997E-2]
[{"$f":"Calculations!B658","v":33330},{"$f":"Calculations!A658","v":"31 Copthorne Road Wolverhampton West Midlands WV3 0AB"},{"$f":"Calculations!C658","v":5.6831118500399999E-2},{"$f":"Calculations!G658","v":0},{"$f":"Calculations!O658","v":0},{"$f":"Calculations!P658","v":1},{"$f":"Calculations!U658","v":0},{"$f":"Calculations!X658","v":0},{"$f":"Calculations!AC658","v":0},5.6831118500399999E-2]
[{"$f":"Calculations!B659","v":27600},{"$f":"Calculations!A659","v":"New Cross Farm, Wednesfield Road"},{"$f":"Calculations!C659","v":0.47100172634900001},{"$f":"Calculations!G659","v":0},{"$f":"Calculations!O659","v":0},{"$f":"Calculations!P659","v":1},{"$f":"Calculations!U659","v":0},{"$f":"Calculations!X659","v":4.345679864819344E-4},{"$f":"Calculations!AC659","v":"<1%"},0.47100172634900001]
[{"$f":"Calculations!B660","v":34180},{"$f":"Calculations!A660","v":"Monkey House PH, Kent Road"},{"$f":"Calculations!C660","v":0.44332631533099998},{"$f":"Calculations!G660","v":0},{"$f":"Calculations!O660","v":0},{"$f":"Calculations!P660","v":1},{"$f":"Calculations!U660","v":9.508467813031575E-2},{"$f":"Calculations!X660","v":0.19103803918500847},{"$f":"Calculations!AC660","v":0.49981932887662633},0.44332631533099998]
[{"$f":"Calculations!B661","v":34870},{"$f":"Calculations!A661","v":"470 Dudley Road WV2 3AF"},{"$f":"Calculations!C661","v":0.16771563975100001},{"$f":"Calculations!G661","v":0},{"$f":"Calculations!O661","v":0},{"$f":"Calculations!P661","v":1},{"$f":"Calculations!U661","v":0},{"$f":"Calculations!X661","v":0},{"$f":"Calculations!AC661","v":0},0.16771563975100001]
[{"$f":"Calculations!B662","v":32060},{"$f":"Calculations!A662","v":"Car Sales, 242 - 244 Dudley Road Blakenhall Wolverhampton West Midlands WV2 3JU"},{"$f":"Calculations!C662","v":0.175033458},{"$f":"Calculations!G662","v":0},{"$f":"Calculations!O662","v":0},{"$f":"Calculations!P662","v":1},{"$f":"Calculations!U662","v":0},{"$f":"Calculations!X662","v":0},{"$f":"Calculations!AC662","v":0},0.175033458]
[{"$f":"Calculations!B663","v":34600},{"$f":"Calculations!A663","v":"1 Park Road West WV1 4PS"},{"$f":"Calculations!C663","v":2.1451025733199999E-2},{"$f":"Calculations!G663","v":0},{"$f":"Calculations!O663","v":0},{"$f":"Calculations!P663","v":1},{"$f":"Calculations!U663","v":0},{"$f":"Calculations!X663","v":0},{"$f":"Calculations!AC663","v":0},2.1451025733199999E-2]
[{"$f":"Calculations!B664","v":34880},{"$f":"Calculations!A664","v":"Land To The Rear Of 38 To 60 Humphries Crescent WV14 8BB"},{"$f":"Calculations!C664","v":0.20141296499700001},{"$f":"Calculations!G664","v":0},{"$f":"Calculations!O664","v":0},{"$f":"Calculations!P664","v":1},{"$f":"Calculations!U664","v":0},{"$f":"Calculations!X664","v":0},{"$f":"Calculations!AC664","v":0.10525638208203612},0.20141296499700001]
[{"$f":"Calculations!B665","v":34440},{"$f":"Calculations!A665","v":"198, 200-206 Coleman St, Whitmore Reans"},{"$f":"Calculations!C665","v":0.245727169853},{"$f":"Calculations!G665","v":0},{"$f":"Calculations!O665","v":0},{"$f":"Calculations!P665","v":1},{"$f":"Calculations!U665","v":0},{"$f":"Calculations!X665","v":0},{"$f":"Calculations!AC665","v":0},0.245727169853]
[{"$f":"Calculations!B666","v":36431},{"$f":"Calculations!A666","v":"Fmr Jennie Lee Centre, Wednesfield (previously developed)"},{"$f":"Calculations!C666","v":6.7961851087499996},{"$f":"Calculations!G666","v":0},{"$f":"Calculations!O666","v":0},{"$f":"Calculations!P666","v":1},{"$f":"Calculations!U666","v":6.4742203597942865E-3},{"$f":"Calculations!X666","v":1.1123887709101095E-2},{"$f":"Calculations!AC666","v":6.8485559791618009E-2},6.7961851087499996]
[{"$f":"Calculations!B667","v":35400},{"$f":"Calculations!A667","v":"Land adjacent to 36 Derry Street and 203 Birmingham Road, Wolverhampton, West Midlands, WV2 1EY"},{"$f":"Calculations!C667","v":8.7618282240500001E-2},{"$f":"Calculations!G667","v":0},{"$f":"Calculations!O667","v":0},{"$f":"Calculations!P667","v":1},{"$f":"Calculations!U667","v":0},{"$f":"Calculations!X667","v":0},{"$f":"Calculations!AC667","v":0},8.7618282240500001E-2]
[{"$f":"Calculations!B668","v":33470},{"$f":"Calculations!A668","v":"75 - 76 Dudley Road Wolverhampton West Midlands"},{"$f":"Calculations!C668","v":7.7516500000500005E-2},{"$f":"Calculations!G668","v":0},{"$f":"Calculations!O668","v":0},{"$f":"Calculations!P668","v":1},{"$f":"Calculations!U668","v":0},{"$f":"Calculations!X668","v":0},{"$f":"Calculations!AC668","v":"<1%"},7.7516500000500005E-2]
[{"$f":"Calculations!B669","v":30490},{"$f":"Calculations!A669","v":"Goodyear site, Stafford Road"},{"$f":"Calculations!C669","v":28.288178990700001},{"$f":"Calculations!G669","v":0},{"$f":"Calculations!O669","v":0},{"$f":"Calculations!P669","v":1},{"$f":"Calculations!U669","v":1.1269668828157015E-2},{"$f":"Calculations!X669","v":3.1925095191639427E-2},{"$f":"Calculations!AC669","v":8.4523760380430163E-2},28.288178990700001]
[{"$f":"Calculations!B670","v":32640},{"$f":"Calculations!A670","v":"Crane foundry, Canalside Quarter"},{"$f":"Calculations!C670","v":1.4877104274999999},{"$f":"Calculations!G670","v":0},{"$f":"Calculations!O670","v":0},{"$f":"Calculations!P670","v":1},{"$f":"Calculations!U670","v":2.1465168674026786E-2},{"$f":"Calculations!X670","v":0.14960186956273519},{"$f":"Calculations!AC670","v":0.32907086339683334},1.4877104274999999]
[{"$f":"Calculations!B671","v":32660},{"$f":"Calculations!A671","v":"Horseley Fields / Edward Vaughan Stamping Works, Canalside Quarter"},{"$f":"Calculations!C671","v":1.36053174999},{"$f":"Calculations!G671","v":0},{"$f":"Calculations!O671","v":0},{"$f":"Calculations!P671","v":1},{"$f":"Calculations!U671","v":0},{"$f":"Calculations!X671","v":9.1222292684542069E-4},{"$f":"Calculations!AC671","v":8.1810978504995635E-2},1.36053174999]
[{"$f":"Calculations!B672","v":40120},{"$f":"Calculations!A672","v":"The Orchard, Bilston Town Centre"},{"$f":"Calculations!C672","v":1.5613713335399999},{"$f":"Calculations!G672","v":0},{"$f":"Calculations!O672","v":0},{"$f":"Calculations!P672","v":1},{"$f":"Calculations!U672","v":4.6781811651895384E-2},{"$f":"Calculations!X672","v":8.9948280960451016E-2},{"$f":"Calculations!AC672","v":8.916575701041099E-2},1.5613713335399999]
[{"$f":"Calculations!B673","v":36740},{"$f":"Calculations!A673","v":"Heath Town Estate Masterplan (excl East of Qualcast Rd)"},{"$f":"Calculations!C673","v":19.975110768499899},{"$f":"Calculations!G673","v":0},{"$f":"Calculations!O673","v":0},{"$f":"Calculations!P673","v":1},{"$f":"Calculations!U673","v":2.4524747443317764E-2},{"$f":"Calculations!X673","v":5.6749077722412021E-2},{"$f":"Calculations!AC673","v":0.11133144688056192},19.975110768499899]
[{"$f":"Calculations!B674","v":36610},{"$f":"Calculations!A674","v":"East of Qualcast Road"},{"$f":"Calculations!C674","v":2.0181392444699999},{"$f":"Calculations!G674","v":0},{"$f":"Calculations!O674","v":0},{"$f":"Calculations!P674","v":1},{"$f":"Calculations!U674","v":6.3424711823398044E-3},{"$f":"Calculations!X674","v":4.1175543276930349E-2},{"$f":"Calculations!AC674","v":6.807656631089673E-2},2.0181392444699999]
[{"$f":"Calculations!B675","v":36830},{"$f":"Calculations!A675","v":"Mill Street Depot, Canalside Quarter"},{"$f":"Calculations!C675","v":0.73509284431499999},{"$f":"Calculations!G675","v":0},{"$f":"Calculations!O675","v":0},{"$f":"Calculations!P675","v":1},{"$f":"Calculations!U675","v":"<1%"},{"$f":"Calculations!X675","v":2.9223456560127544E-4},{"$f":"Calculations!AC675","v":"<1%"},0.73509284431499999]
[{"$f":"Calculations!B676","v":36820},{"$f":"Calculations!A676","v":"Culwell Street Depot, Canalside Quarter"},{"$f":"Calculations!C676","v":1.2391475350000001},{"$f":"Calculations!G676","v":0},{"$f":"Calculations!O676","v":0},{"$f":"Calculations!P676","v":1},{"$f":"Calculations!U676","v":0},{"$f":"Calculations!X676","v":0},{"$f":"Calculations!AC676","v":2.8553923645251812E-2},1.2391475350000001]
[{"$f":"Calculations!B677","v":36800},{"$f":"Calculations!A677","v":"Stafford Street / CannOther Commitmentk Road, Canalside Quarter"},{"$f":"Calculations!C677","v":0.30998146500099999},{"$f":"Calculations!G677","v":0},{"$f":"Calculations!O677","v":0},{"$f":"Calculations!P677","v":1},{"$f":"Calculations!U677","v":0},{"$f":"Calculations!X677","v":0},{"$f":"Calculations!AC677","v":0},0.30998146500099999]
[{"$f":"Calculations!B678","v":36840},{"$f":"Calculations!A678","v":"Express & Star Buildings, Castle St / Tower St"},{"$f":"Calculations!C678","v":0.51740239413900002},{"$f":"Calculations!G678","v":0},{"$f":"Calculations!O678","v":0},{"$f":"Calculations!P678","v":1},{"$f":"Calculations!U678","v":0},{"$f":"Calculations!X678","v":0},{"$f":"Calculations!AC678","v":0},0.51740239413900002]
[{"$f":"Calculations!B679","v":32690},{"$f":"Calculations!A679","v":"Former Eye Infirmary, Chapel Ash"},{"$f":"Calculations!C679","v":0.96337253635499998},{"$f":"Calculations!G679","v":0},{"$f":"Calculations!O679","v":0},{"$f":"Calculations!P679","v":1},{"$f":"Calculations!U679","v":0},{"$f":"Calculations!X679","v":0},{"$f":"Calculations!AC679","v":6.0974563938142025E-2},0.96337253635499998]
[{"$f":"Calculations!B680","v":36790},{"$f":"Calculations!A680","v":"Interchange, Wolverhampton City Centre"},{"$f":"Calculations!C680","v":0.83644748411799996},{"$f":"Calculations!G680","v":0},{"$f":"Calculations!O680","v":0},{"$f":"Calculations!P680","v":1},{"$f":"Calculations!U680","v":1.9606730023574808E-2},{"$f":"Calculations!X680","v":4.1604524684170925E-2},{"$f":"Calculations!AC680","v":0.26715570787382231},0.83644748411799996]
[{"$f":"Calculations!B681","v":36910},{"$f":"Calculations!A681","v":"Tower / Fort Works, Pelham Street"},{"$f":"Calculations!C681","v":1.3910688040900001},{"$f":"Calculations!G681","v":0},{"$f":"Calculations!O681","v":0},{"$f":"Calculations!P681","v":1},{"$f":"Calculations!U681","v":0},{"$f":"Calculations!X681","v":3.1053831622483247E-4},{"$f":"Calculations!AC681","v":1.2006527111970526E-2},1.3910688040900001]
[{"$f":"Calculations!B682","v":28840},{"$f":"Calculations!A682","v":"Land at Grimstone St / Culwell St, Canalside Quarter"},{"$f":"Calculations!C682","v":1.1750774239999999},{"$f":"Calculations!G682","v":0},{"$f":"Calculations!O682","v":0},{"$f":"Calculations!P682","v":1},{"$f":"Calculations!U682","v":0},{"$f":"Calculations!X682","v":0},{"$f":"Calculations!AC682","v":0},1.1750774239999999]
[{"$f":"Calculations!B683","v":36660},{"$f":"Calculations!A683","v":"Reliance Trading Estate"},{"$f":"Calculations!C683","v":0.72970484941400005},{"$f":"Calculations!G683","v":0},{"$f":"Calculations!O683","v":0},{"$f":"Calculations!P683","v":1},{"$f":"Calculations!U683","v":0},{"$f":"Calculations!X683","v":0},{"$f":"Calculations!AC683","v":2.5130139392930254E-2},0.72970484941400005]
[{"$f":"Calculations!B684","v":36710},{"$f":"Calculations!A684","v":"Bus Depot, Park Lane"},{"$f":"Calculations!C684","v":2.7730663201599999},{"$f":"Calculations!G684","v":0},{"$f":"Calculations!O684","v":0},{"$f":"Calculations!P684","v":1},{"$f":"Calculations!U684","v":2.1203964568942357E-2},{"$f":"Calculations!X684","v":9.2999187961841506E-2},{"$f":"Calculations!AC684","v":0.22400800959524789},2.7730663201599999]
[{"$f":"Calculations!B685","v":36720},{"$f":"Calculations!A685","v":"Bluebird Industrial Estate and site to rear, Park Lane"},{"$f":"Calculations!C685","v":3.7244289837700002},{"$f":"Calculations!G685","v":0},{"$f":"Calculations!O685","v":0},{"$f":"Calculations!P685","v":1},{"$f":"Calculations!U685","v":4.5102093187258496E-2},{"$f":"Calculations!X685","v":8.5534903571589216E-2},{"$f":"Calculations!AC685","v":0.21561650757172224},3.7244289837700002]
[{"$f":"Calculations!B686","v":36730},{"$f":"Calculations!A686","v":"Assa Abloy building and former petrol station, CannOther Commitmentk Road"},{"$f":"Calculations!C686","v":3.0821095488400001},{"$f":"Calculations!G686","v":0},{"$f":"Calculations!O686","v":0},{"$f":"Calculations!P686","v":1},{"$f":"Calculations!U686","v":5.6918104681949085E-3},{"$f":"Calculations!X686","v":3.6887434592322459E-2},{"$f":"Calculations!AC686","v":9.5512638347693607E-2},3.0821095488400001]
[{"$f":"Calculations!B687","v":36650},{"$f":"Calculations!A687","v":"Ceandess, Dixon Street"},{"$f":"Calculations!C687","v":0.72376983409999995},{"$f":"Calculations!G687","v":0},{"$f":"Calculations!O687","v":0},{"$f":"Calculations!P687","v":1},{"$f":"Calculations!U687","v":0},{"$f":"Calculations!X687","v":0},{"$f":"Calculations!AC687","v":5.0723406589947298E-2},0.72376983409999995]
[{"$f":"Calculations!B688","v":36620},{"$f":"Calculations!A688","v":"West of Qualcast Road"},{"$f":"Calculations!C688","v":3.4101009366900001},{"$f":"Calculations!G688","v":0},{"$f":"Calculations!O688","v":0},{"$f":"Calculations!P688","v":1},{"$f":"Calculations!U688","v":7.9763064363721076E-3},{"$f":"Calculations!X688","v":2.4310723271705408E-2},{"$f":"Calculations!AC688","v":5.0527981419013247E-2},3.4101009366900001]
[{"$f":"Calculations!B689","v":36700},{"$f":"Calculations!A689","v":"Showell Road / Bushbury Lane"},{"$f":"Calculations!C689","v":2.0653690186500002},{"$f":"Calculations!G689","v":0},{"$f":"Calculations!O689","v":0},{"$f":"Calculations!P689","v":1},{"$f":"Calculations!U689","v":2.860718269392638E-2},{"$f":"Calculations!X689","v":0.14032722428859018},{"$f":"Calculations!AC689","v":0.19267444768757136},2.0653690186500002]
[{"$f":"Calculations!B690","v":36690},{"$f":"Calculations!A690","v":"South of Oxford Street"},{"$f":"Calculations!C690","v":5.1964443400100002},{"$f":"Calculations!G690","v":0},{"$f":"Calculations!O690","v":0},{"$f":"Calculations!P690","v":1},{"$f":"Calculations!U690","v":8.9171642908535097E-3},{"$f":"Calculations!X690","v":3.2911936149331078E-2},{"$f":"Calculations!AC690","v":0.19270283612081682},{"$f":"C699*F699","v":5.1964443400100002}]
[{"$f":"Calculations!B691","v":36630},{"$f":"Calculations!A691","v":"Old Heath Road"},{"$f":"Calculations!C691","v":10.1090403123999},{"$f":"Calculations!G691","v":0},{"$f":"Calculations!O691","v":0},{"$f":"Calculations!P691","v":1},{"$f":"Calculations!U691","v":"<1%"},{"$f":"Calculations!X691","v":8.3711659306730021E-3},{"$f":"Calculations!AC691","v":3.1529387527724939E-2},10.1090403123999]
[{"$f":"Calculations!B692","v":28870},{"$f":"Calculations!A692","v":"Dixon St Wharf / Rough Hills Works, D'Urberville Road"},{"$f":"Calculations!C692","v":3.6121506918500002},{"$f":"Calculations!G692","v":0},{"$f":"Calculations!O692","v":0},{"$f":"Calculations!P692","v":1},{"$f":"Calculations!U692","v":"<1%"},{"$f":"Calculations!X692","v":8.6071727024839961E-4},{"$f":"Calculations!AC692","v":5.5943440124784118E-2},3.6121506918500002]
[{"$f":"Calculations!B693","v":36860},{"$f":"Calculations!A693","v":"Ablow Street, Blakenhall Character Area"},{"$f":"Calculations!C693","v":0.958034878561},{"$f":"Calculations!G693","v":0},{"$f":"Calculations!O693","v":0},{"$f":"Calculations!P693","v":1},{"$f":"Calculations!U693","v":3.0987517556580028E-2},{"$f":"Calculations!X693","v":4.7295228032705687E-2},{"$f":"Calculations!AC693","v":0.194071458011705},0.958034878561]
[{"$f":"Calculations!B694","v":36900},{"$f":"Calculations!A694","v":"Moorfield Road, Blakenhall Character Area"},{"$f":"Calculations!C694","v":1.8699110906400001},{"$f":"Calculations!G694","v":0},{"$f":"Calculations!O694","v":0},{"$f":"Calculations!P694","v":1},{"$f":"Calculations!U694","v":"<1%"},{"$f":"Calculations!X694","v":1.5997576632449169E-2},{"$f":"Calculations!AC694","v":0.16576108144693602},1.8699110906400001]
[{"$f":"Calculations!B695","v":36870},{"$f":"Calculations!A695","v":"Dudley Road / Bell Place, Blakenhall Character Area"},{"$f":"Calculations!C695","v":0.67970261740299998},{"$f":"Calculations!G695","v":0},{"$f":"Calculations!O695","v":0},{"$f":"Calculations!P695","v":1},{"$f":"Calculations!U695","v":0},{"$f":"Calculations!X695","v":0},{"$f":"Calculations!AC695","v":"<1%"},0.67970261740299998]
[{"$f":"Calculations!B696","v":36640},{"$f":"Calculations!A696","v":"Delta Trading Estate, Bilston Road"},{"$f":"Calculations!C696","v":2.0181164383199999},{"$f":"Calculations!G696","v":0},{"$f":"Calculations!O696","v":0},{"$f":"Calculations!P696","v":1},{"$f":"Calculations!U696","v":"<1%"},{"$f":"Calculations!X696","v":9.5125210054237685E-3},{"$f":"Calculations!AC696","v":7.43758305163905E-3},2.0181164383199999]
[{"$f":"Calculations!B697","v":36490},{"$f":"Calculations!A697","v":"Alexander Metals Open Space"},{"$f":"Calculations!C697","v":4.0759891616299999},{"$f":"Calculations!G697","v":0},{"$f":"Calculations!O697","v":1.2254901960784314E-2},{"$f":"Calculations!P697","v":0.98774509803921573},{"$f":"Calculations!U697","v":0},{"$f":"Calculations!X697","v":3.1913664158243429E-4},{"$f":"Calculations!AC697","v":3.1891473161168776E-2},4.0260383140610054]
[{"$f":"Calculations!B698","v":36680},{"$f":"Calculations!A698","v":"Greenway Road"},{"$f":"Calculations!C698","v":3.7854909698500001},{"$f":"Calculations!G698","v":0},{"$f":"Calculations!O698","v":0},{"$f":"Calculations!P698","v":1},{"$f":"Calculations!U698","v":2.9472114411338513E-2},{"$f":"Calculations!X698","v":7.0440039624041426E-2},{"$f":"Calculations!AC698","v":0.12987620046521348},3.7854909698500001]
[{"$f":"Calculations!B699","v":28861},{"$f":"Calculations!A699","v":"Ward Street Master Plan, Ettingshall (1) Former Bilston Gas Works"},{"$f":"Calculations!C699","v":24.1234957942},{"$f":"Calculations!G699","v":0},{"$f":"Calculations!O699","v":0},{"$f":"Calculations!P699","v":1},{"$f":"Calculations!U699","v":"<1%"},{"$f":"Calculations!X699","v":8.1682234275227937E-3},{"$f":"Calculations!AC699","v":9.177723535943616E-2},24.1234957942]
[{"$f":"Calculations!B700","v":28862},{"$f":"Calculations!A700","v":"Ward Street Master Plan, Ettingshall (2) Maxxiom, former Elm Energy & John Roberts Open Space"},{"$f":"Calculations!C700","v":24.1234957942},{"$f":"Calculations!G700","v":0},{"$f":"Calculations!O700","v":0},{"$f":"Calculations!P700","v":1},{"$f":"Calculations!U700","v":1.4113308802921182E-2},{"$f":"Calculations!X700","v":2.6859008070165735E-2},{"$f":"Calculations!AC700","v":0.10655033385045129},24.1234957942]
[{"$f":"Calculations!B701","v":28863},{"$f":"Calculations!A701","v":"Ward Street Master Plan, Ettingshall (3) Bilston Primary School Playing Fields"},{"$f":"Calculations!C701","v":24.1234957942},{"$f":"Calculations!G701","v":0},{"$f":"Calculations!O701","v":0},{"$f":"Calculations!P701","v":1},{"$f":"Calculations!U701","v":"<1%"},{"$f":"Calculations!X701","v":2.8298215945592336E-3},{"$f":"Calculations!AC701","v":4.5742075389924912E-2},24.1234957942]
[{"$f":"Calculations!B702","v":30542},{"$f":"Calculations!A702","v":"Bushbury Hall Farm, Bushbury Lane"},{"$f":"Calculations!C702","v":0.325175150001},{"$f":"Calculations!G702","v":0},{"$f":"Calculations!O702","v":0},{"$f":"Calculations!P702","v":1},{"$f":"Calculations!U702","v":0},{"$f":"Calculations!X702","v":0},{"$f":"Calculations!AC702","v":0},0.325175150001]
[{"$f":"Calculations!B703","v":34320},{"$f":"Calculations!A703","v":"Garage Site adj to 49 Glentworth Gardens"},{"$f":"Calculations!C703","v":0.12858083849900001},{"$f":"Calculations!G703","v":0},{"$f":"Calculations!O703","v":0},{"$f":"Calculations!P703","v":1},{"$f":"Calculations!U703","v":0},{"$f":"Calculations!X703","v":0},{"$f":"Calculations!AC703","v":0},0.12858083849900001]
[{"$f":"Calculations!B704","v":37302},{"$f":"Calculations!A704","v":"Fmr Pennfields Special School, Birches Barn Road WV3 7BJ (school playing fields)"},{"$f":"Calculations!C704","v":1.0662267002500001},{"$f":"Calculations!G704","v":0},{"$f":"Calculations!O704","v":0},{"$f":"Calculations!P704","v":1},{"$f":"Calculations!U704","v":0},{"$f":"Calculations!X704","v":0},{"$f":"Calculations!AC704","v":3.2342995717904319E-2},1.0662267002500001]
[{"$f":"Calculations!B705","v":36892},{"$f":"Calculations!A705","v":"Former St Luke's Junior School, Goldthorn Road (built area)"},{"$f":"Calculations!C705","v":2.2099849973499999},{"$f":"Calculations!G705","v":0},{"$f":"Calculations!O705","v":0},{"$f":"Calculations!P705","v":1},{"$f":"Calculations!U705","v":0},{"$f":"Calculations!X705","v":1.8101073651145981E-3},{"$f":"Calculations!AC705","v":5.2489607549964575E-2},2.2099849973499999]
[{"$f":"Calculations!B706","v":33841},{"$f":"Calculations!A706","v":"Former Bilston College Site, 40 and adj land, Mount Pleasant (conversion)"},{"$f":"Calculations!C706","v":0.35432620000199999},{"$f":"Calculations!G706","v":0},{"$f":"Calculations!O706","v":0},{"$f":"Calculations!P706","v":1},{"$f":"Calculations!U706","v":0},{"$f":"Calculations!X706","v":0},{"$f":"Calculations!AC706","v":3.273819435292824E-2},0.35432620000199999]
[{"$f":"Calculations!B707","v":31750},{"$f":"Calculations!A707","v":"Land at Cambridge Street, Wolverhampton (private)"},{"$f":"Calculations!C707","v":0.43581769373000001},{"$f":"Calculations!G707","v":0},{"$f":"Calculations!O707","v":0},{"$f":"Calculations!P707","v":1},{"$f":"Calculations!U707","v":0},{"$f":"Calculations!X707","v":1.8461854896377153E-2},{"$f":"Calculations!AC707","v":3.8177813413601352E-2},0.43581769373000001]
[{"$f":"Calculations!B708","v":36672},{"$f":"Calculations!A708","v":"Wolverhampton Street /Shale Street (Part 2 of 2) - Formcast Shale Street Bilston"},{"$f":"Calculations!C708","v":0.25135622096900001},{"$f":"Calculations!G708","v":0},{"$f":"Calculations!O708","v":0},{"$f":"Calculations!P708","v":1},{"$f":"Calculations!U708","v":0},{"$f":"Calculations!X708","v":0},{"$f":"Calculations!AC708","v":0},0.25135622096900001]
[{"$f":"Calculations!B709","v":40190},{"$f":"Calculations!A709","v":"Fmr St Judes SOther Commitmential Services Area Office, St Judes Road"},{"$f":"Calculations!C709","v":5.6668580987300002E-2},{"$f":"Calculations!G709","v":0},{"$f":"Calculations!O709","v":0},{"$f":"Calculations!P709","v":1},{"$f":"Calculations!U709","v":0},{"$f":"Calculations!X709","v":0},{"$f":"Calculations!AC709","v":0},5.6668580987300002E-2]
[{"$f":"Calculations!B710","v":34660},{"$f":"Calculations!A710","v":"49-53 High Street, Wednesfield WV11 1ST"},{"$f":"Calculations!C710","v":6.7345395099400004E-2},{"$f":"Calculations!G710","v":0},{"$f":"Calculations!O710","v":0},{"$f":"Calculations!P710","v":1},{"$f":"Calculations!U710","v":0},{"$f":"Calculations!X710","v":0},{"$f":"Calculations!AC710","v":0.48272250036559111},6.7345395099400004E-2]
[{"$f":"Calculations!B711","v":35470},{"$f":"Calculations!A711","v":"38 King Street, Bradley, Wolverhampton, West Midlands, WV14 8PQ"},{"$f":"Calculations!C711","v":9.4681750000799994E-2},{"$f":"Calculations!G711","v":0},{"$f":"Calculations!O711","v":0},{"$f":"Calculations!P711","v":1},{"$f":"Calculations!U711","v":0},{"$f":"Calculations!X711","v":0},{"$f":"Calculations!AC711","v":0},9.4681750000799994E-2]
[{"$f":"Calculations!B712","v":30541},{"$f":"Calculations!A712","v":"Bushbury Hall Farm, Bushbury Lane"},{"$f":"Calculations!C712","v":0.325175150001},{"$f":"Calculations!G712","v":0},{"$f":"Calculations!O712","v":0},{"$f":"Calculations!P712","v":1},{"$f":"Calculations!U712","v":0},{"$f":"Calculations!X712","v":0},{"$f":"Calculations!AC712","v":0},0.325175150001]
[{"$f":"Calculations!B713","v":38070},{"$f":"Calculations!A713","v":"First Floor And Second Floor 28 - 36 Church Street Bilston Wolverhampton WV14 0AX"},{"$f":"Calculations!C713","v":6.3436155948800005E-2},{"$f":"Calculations!G713","v":0},{"$f":"Calculations!O713","v":0},{"$f":"Calculations!P713","v":1},{"$f":"Calculations!U713","v":0},{"$f":"Calculations!X713","v":0},{"$f":"Calculations!AC713","v":0},6.3436155948800005E-2]
[{"$f":"Calculations!B714","v":38020},{"$f":"Calculations!A714","v":"Garage Site Between 62 And 64 Olinthus Avenue Wolverhampton West Midlands"},{"$f":"Calculations!C714","v":0.113783092499},{"$f":"Calculations!G714","v":0},{"$f":"Calculations!O714","v":0},{"$f":"Calculations!P714","v":1},{"$f":"Calculations!U714","v":0},{"$f":"Calculations!X714","v":0.40640079372589039},{"$f":"Calculations!AC714","v":0.4669790617548823},0.113783092499]
[{"$f":"Calculations!B715","v":33890},{"$f":"Calculations!A715","v":"Garage Site To The Rear Of 11 To 14 Tonadine Close Wolverhampton West Midlands"},{"$f":"Calculations!C715","v":0.133191894551},{"$f":"Calculations!G715","v":0},{"$f":"Calculations!O715","v":0},{"$f":"Calculations!P715","v":1},{"$f":"Calculations!U715","v":0},{"$f":"Calculations!X715","v":0},{"$f":"Calculations!AC715","v":0},0.133191894551]
[{"$f":"Calculations!B716","v":31580},{"$f":"Calculations!A716","v":"219 Prestwood Road Heath Town Wolverhampton West Midlands WV11 1RF"},{"$f":"Calculations!C716","v":3.0626832977600001E-2},{"$f":"Calculations!G716","v":0},{"$f":"Calculations!O716","v":0},{"$f":"Calculations!P716","v":1},{"$f":"Calculations!U716","v":0},{"$f":"Calculations!X716","v":0},{"$f":"Calculations!AC716","v":"<1%"},3.0626832977600001E-2]
[{"$f":"Calculations!B717","v":33960},{"$f":"Calculations!A717","v":"Land At Junction With Canal Bridge And Birmingham Canal Highfields Road Wolverhampton"},{"$f":"Calculations!C717","v":0.22338806321099999},{"$f":"Calculations!G717","v":0},{"$f":"Calculations!O717","v":0},{"$f":"Calculations!P717","v":1},{"$f":"Calculations!U717","v":0},{"$f":"Calculations!X717","v":2.2797390902739287E-2},{"$f":"Calculations!AC717","v":0.5333093870415212},0.22338806321099999]
[{"$f":"Calculations!B718","v":33780},{"$f":"Calculations!A718","v":"591 Willenhall Road Wolverhampton West Midlands WV13 3LP"},{"$f":"Calculations!C718","v":0.10542396983500001},{"$f":"Calculations!G718","v":0},{"$f":"Calculations!O718","v":0},{"$f":"Calculations!P718","v":1},{"$f":"Calculations!U718","v":0},{"$f":"Calculations!X718","v":0},{"$f":"Calculations!AC718","v":0.28085709845274676},0.10542396983500001]
[{"$f":"Calculations!B719","v":28880},{"$f":"Calculations!A719","v":"Former Farndale Junior School, Gatis St, Whitmore Reans"},{"$f":"Calculations!C719","v":0.76271604247799996},{"$f":"Calculations!G719","v":0},{"$f":"Calculations!O719","v":0},{"$f":"Calculations!P719","v":1},{"$f":"Calculations!U719","v":0},{"$f":"Calculations!X719","v":0},{"$f":"Calculations!AC719","v":3.4847427863706752E-2},0.76271604247799996]
[{"$f":"Calculations!B720","v":36751},{"$f":"Calculations!A720","v":"Fmr Tettenhall Wood Special School (land), School Road"},{"$f":"Calculations!C720","v":0.29917012502000001},{"$f":"Calculations!G720","v":0},{"$f":"Calculations!O720","v":0},{"$f":"Calculations!P720","v":1},{"$f":"Calculations!U720","v":0},{"$f":"Calculations!X720","v":0},{"$f":"Calculations!AC720","v":0},0.29917012502000001]
[{"$f":"Calculations!B721","v":36752},{"$f":"Calculations!A721","v":"Fmr Tettenhall Wood Special School (buildings), School Road"},{"$f":"Calculations!C721","v":0.29917012502000001},{"$f":"Calculations!G721","v":0},{"$f":"Calculations!O721","v":0},{"$f":"Calculations!P721","v":1},{"$f":"Calculations!U721","v":0},{"$f":"Calculations!X721","v":0},{"$f":"Calculations!AC721","v":0},0.29917012502000001]
[{"$f":"Calculations!B722","v":38530},{"$f":"Calculations!A722","v":"Corner House, Dunstall Road"},{"$f":"Calculations!C722","v":0.140788903035},{"$f":"Calculations!G722","v":0},{"$f":"Calculations!O722","v":0},{"$f":"Calculations!P722","v":1},{"$f":"Calculations!U722","v":0},{"$f":"Calculations!X722","v":0},{"$f":"Calculations!AC722","v":4.3845004141799621E-2},0.140788903035]
[{"$f":"Calculations!B723","v":29010},{"$f":"Calculations!A723","v":"The Tapworks / Broome Road, Showell Road, Low Hill"},{"$f":"Calculations!C723","v":3.99330828597},{"$f":"Calculations!G723","v":0},{"$f":"Calculations!O723","v":0},{"$f":"Calculations!P723","v":1},{"$f":"Calculations!U723","v":"<1%"},{"$f":"Calculations!X723","v":1.1203773111434681E-2},{"$f":"Calculations!AC723","v":0.20214227881107055},3.99330828597]
[{"$f":"Calculations!B724","v":27412},{"$f":"Calculations!A724","v":"Bilston Urban Village - Phase 2"},{"$f":"Calculations!C724","v":13.1804143605},{"$f":"Calculations!G724","v":0.12215477996965099},{"$f":"Calculations!O724","v":0.30576631259484072},{"$f":"Calculations!P724","v":0.69423368740515934},{"$f":"Calculations!U724","v":1.8444790584911899E-2},{"$f":"Calculations!X724","v":2.9387237094720929E-2},{"$f":"Calculations!AC724","v":0.10348794296504849},9.1502876630178296]
[{"$f":"Calculations!B725","v":27411},{"$f":"Calculations!A725","v":"Bilston Urban Village - Phase 1"},{"$f":"Calculations!C725","v":2.0470815825000002},{"$f":"Calculations!G725","v":0},{"$f":"Calculations!O725","v":0},{"$f":"Calculations!P725","v":1},{"$f":"Calculations!U725","v":6.6436042980714954E-3},{"$f":"Calculations!X725","v":1.7823183165699745E-2},{"$f":"Calculations!AC725","v":4.4392911496273987E-2},2.0470815825000002]
[{"$f":"Calculations!B726","v":37670},{"$f":"Calculations!A726","v":"Former Riley Hayes And Completed During 2017/18pany Solicitors 24A Darlington Street Wolverhampton West Midlands WV1 4HW"},{"$f":"Calculations!C726","v":9.0722335187099993E-3},{"$f":"Calculations!G726","v":0},{"$f":"Calculations!O726","v":0},{"$f":"Calculations!P726","v":1},{"$f":"Calculations!U726","v":0},{"$f":"Calculations!X726","v":0},{"$f":"Calculations!AC726","v":0},9.0722335187099993E-3]
[{"$f":"Calculations!B727","v":39440},{"$f":"Calculations!A727","v":"Fmr Garages r/o 19-25 Wrekin Drive, Merry Hill"},{"$f":"Calculations!C727","v":0.181010909996},{"$f":"Calculations!G727","v":0},{"$f":"Calculations!O727","v":0},{"$f":"Calculations!P727","v":1},{"$f":"Calculations!U727","v":0},{"$f":"Calculations!X727","v":0},{"$f":"Calculations!AC727","v":8.2628992095783154E-3},0.181010909996]
[{"$f":"Calculations!B728","v":39530},{"$f":"Calculations!A728","v":"Land rear 12 Mount Road, Penn"},{"$f":"Calculations!C728","v":0.126739657501},{"$f":"Calculations!G728","v":0},{"$f":"Calculations!O728","v":0},{"$f":"Calculations!P728","v":1},{"$f":"Calculations!U728","v":0},{"$f":"Calculations!X728","v":0},{"$f":"Calculations!AC728","v":0},0.126739657501]
[{"$f":"Calculations!B729","v":39550},{"$f":"Calculations!A729","v":"Crown House Birch Street Wolverhampton West Midlands WV1 4DS"},{"$f":"Calculations!C729","v":0.40835050549599999},{"$f":"Calculations!G729","v":0},{"$f":"Calculations!O729","v":0},{"$f":"Calculations!P729","v":1},{"$f":"Calculations!U729","v":0},{"$f":"Calculations!X729","v":0},{"$f":"Calculations!AC729","v":2.4488766061042517E-2},0.40835050549599999]
[{"$f":"Calculations!B730","v":39560},{"$f":"Calculations!A730","v":"Network House School Street Wolverhampton WV1 4LJ"},{"$f":"Calculations!C730","v":0.21806734419599999},{"$f":"Calculations!G730","v":0},{"$f":"Calculations!O730","v":0},{"$f":"Calculations!P730","v":1},{"$f":"Calculations!U730","v":6.9193725378835407E-3},{"$f":"Calculations!X730","v":1.7152672714407326E-2},{"$f":"Calculations!AC730","v":9.0977138715733083E-2},0.21806734419599999]
[{"$f":"Calculations!B731","v":39570},{"$f":"Calculations!A731","v":"Big Head 90 Completed During 2017/18pton Road Wolverhampton West Midlands WV3 9PS"},{"$f":"Calculations!C731","v":9.09880218101E-3},{"$f":"Calculations!G731","v":0},{"$f":"Calculations!O731","v":0},{"$f":"Calculations!P731","v":1},{"$f":"Calculations!U731","v":0},{"$f":"Calculations!X731","v":0},{"$f":"Calculations!AC731","v":0},9.09880218101E-3]
[{"$f":"Calculations!B732","v":39580},{"$f":"Calculations!A732","v":"Villiers Arms Public House Villiers Square Bilston WV14 6QN"},{"$f":"Calculations!C732","v":0.165754254047},{"$f":"Calculations!G732","v":0},{"$f":"Calculations!O732","v":0},{"$f":"Calculations!P732","v":1},{"$f":"Calculations!U732","v":0},{"$f":"Calculations!X732","v":0},{"$f":"Calculations!AC732","v":9.3984064691255212E-2},0.165754254047]
[{"$f":"Calculations!B733","v":39590},{"$f":"Calculations!A733","v":"226 Dudley Road Wolverhampton WV2 3JP"},{"$f":"Calculations!C733","v":1.3500617699399999E-2},{"$f":"Calculations!G733","v":0},{"$f":"Calculations!O733","v":0},{"$f":"Calculations!P733","v":1},{"$f":"Calculations!U733","v":0},{"$f":"Calculations!X733","v":0},{"$f":"Calculations!AC733","v":0},1.3500617699399999E-2]
[{"$f":"Calculations!B734","v":39600},{"$f":"Calculations!A734","v":"Catholic Club 9 Tame Street Wolverhampton West Midlands WV14 7EL"},{"$f":"Calculations!C734","v":7.2813280034400005E-2},{"$f":"Calculations!G734","v":0},{"$f":"Calculations!O734","v":0.14285714285714285},{"$f":"Calculations!P734","v":0.85714285714285721},{"$f":"Calculations!U734","v":0},{"$f":"Calculations!X734","v":0},{"$f":"Calculations!AC734","v":0},6.2411382886628577E-2]
[{"$f":"Calculations!B735","v":39610},{"$f":"Calculations!A735","v":"Inglewood Court Inglewood Avenue Wolverhampton West Midlands"},{"$f":"Calculations!C735","v":0.11702001535000001},{"$f":"Calculations!G735","v":0},{"$f":"Calculations!O735","v":0},{"$f":"Calculations!P735","v":1},{"$f":"Calculations!U735","v":0},{"$f":"Calculations!X735","v":0},{"$f":"Calculations!AC735","v":0},0.11702001535000001]
[{"$f":"Calculations!B736","v":39620},{"$f":"Calculations!A736","v":"Merridale Court Merridale Road Wolverhampton WV3 9LF"},{"$f":"Calculations!C736","v":2.04346953E-2},{"$f":"Calculations!G736","v":0},{"$f":"Calculations!O736","v":0},{"$f":"Calculations!P736","v":1},{"$f":"Calculations!U736","v":0},{"$f":"Calculations!X736","v":0},{"$f":"Calculations!AC736","v":0},2.04346953E-2]
[{"$f":"Calculations!B737","v":39630},{"$f":"Calculations!A737","v":"Garage Site Between 92 And 106 Hurst Road Wolverhampton"},{"$f":"Calculations!C737","v":5.4309375E-2},{"$f":"Calculations!G737","v":0},{"$f":"Calculations!O737","v":0},{"$f":"Calculations!P737","v":1},{"$f":"Calculations!U737","v":0},{"$f":"Calculations!X737","v":0},{"$f":"Calculations!AC737","v":0},5.4309375E-2]
[{"$f":"Calculations!B738","v":39640},{"$f":"Calculations!A738","v":"Garage Site Behind 39 To 81  Hall Green Street Wolverhampton"},{"$f":"Calculations!C738","v":0.1973928026},{"$f":"Calculations!G738","v":0},{"$f":"Calculations!O738","v":0},{"$f":"Calculations!P738","v":1},{"$f":"Calculations!U738","v":0},{"$f":"Calculations!X738","v":0},{"$f":"Calculations!AC738","v":0},0.1973928026]
[{"$f":"Calculations!B739","v":39650},{"$f":"Calculations!A739","v":"Woodfields Retirement Home Old Hill Wolverhampton West Midlands WV6 8QB"},{"$f":"Calculations!C739","v":0.11450256065},{"$f":"Calculations!G739","v":0},{"$f":"Calculations!O739","v":0},{"$f":"Calculations!P739","v":1},{"$f":"Calculations!U739","v":0},{"$f":"Calculations!X739","v":0},{"$f":"Calculations!AC739","v":0},0.11450256065]
[{"$f":"Calculations!B740","v":39660},{"$f":"Calculations!A740","v":"7 The Holloway Wolverhampton West Midlands WV6 8LH"},{"$f":"Calculations!C740","v":8.6059774967499995E-3},{"$f":"Calculations!G740","v":0},{"$f":"Calculations!O740","v":0},{"$f":"Calculations!P740","v":1},{"$f":"Calculations!U740","v":0},{"$f":"Calculations!X740","v":0},{"$f":"Calculations!AC740","v":0},8.6059774967499995E-3]
[{"$f":"Calculations!B741","v":39670},{"$f":"Calculations!A741","v":"Cafe Rickshaw 20 Chapel Ash Wolverhampton West Midlands WV3 0TN"},{"$f":"Calculations!C741","v":1.05276850012E-2},{"$f":"Calculations!G741","v":0},{"$f":"Calculations!O741","v":0},{"$f":"Calculations!P741","v":1},{"$f":"Calculations!U741","v":0},{"$f":"Calculations!X741","v":0},{"$f":"Calculations!AC741","v":0},1.05276850012E-2]
[{"$f":"Calculations!B742","v":39680},{"$f":"Calculations!A742","v":"1 Barnett Road Wolverhampton West Midlands WV13 3LD"},{"$f":"Calculations!C742","v":1.57821E-2},{"$f":"Calculations!G742","v":0},{"$f":"Calculations!O742","v":0},{"$f":"Calculations!P742","v":1},{"$f":"Calculations!U742","v":0},{"$f":"Calculations!X742","v":0},{"$f":"Calculations!AC742","v":0},1.57821E-2]
[{"$f":"Calculations!B743","v":39690},{"$f":"Calculations!A743","v":"Land North East Of 125 Upper Villiers Street Wolverhampton West Midlands"},{"$f":"Calculations!C743","v":4.4271870900000003E-2},{"$f":"Calculations!G743","v":0},{"$f":"Calculations!O743","v":0},{"$f":"Calculations!P743","v":1},{"$f":"Calculations!U743","v":0},{"$f":"Calculations!X743","v":0},{"$f":"Calculations!AC743","v":7.271140309771728E-3},4.4271870900000003E-2]
[{"$f":"Calculations!B744","v":39700},{"$f":"Calculations!A744","v":"47 Queen Street City Centre Wolverhampton West Midlands WV1 3BJ"},{"$f":"Calculations!C744","v":2.7651374999999999E-2},{"$f":"Calculations!G744","v":0},{"$f":"Calculations!O744","v":0},{"$f":"Calculations!P744","v":1},{"$f":"Calculations!U744","v":0},{"$f":"Calculations!X744","v":0},{"$f":"Calculations!AC744","v":0},2.7651374999999999E-2]
[{"$f":"Calculations!B745","v":39710},{"$f":"Calculations!A745","v":"8 Talbot Road Wolverhampton West Midlands WV2 3EW"},{"$f":"Calculations!C745","v":3.2478716022199997E-2},{"$f":"Calculations!G745","v":0},{"$f":"Calculations!O745","v":0},{"$f":"Calculations!P745","v":1},{"$f":"Calculations!U745","v":0},{"$f":"Calculations!X745","v":0},{"$f":"Calculations!AC745","v":0},3.2478716022199997E-2]
[{"$f":"Calculations!B746","v":39720},{"$f":"Calculations!A746","v":"8 Walton Crescent Wolverhampton West Midlands WV4 6DX"},{"$f":"Calculations!C746","v":2.3505888000700002E-2},{"$f":"Calculations!G746","v":0},{"$f":"Calculations!O746","v":0},{"$f":"Calculations!P746","v":1},{"$f":"Calculations!U746","v":0},{"$f":"Calculations!X746","v":9.9501584388530601E-2},{"$f":"Calculations!AC746","v":0.10593164373338493},2.3505888000700002E-2]
[{"$f":"Calculations!B747","v":39730},{"$f":"Calculations!A747","v":"4 Crowther Street Wolverhampton West Midlands WV10 9AG"},{"$f":"Calculations!C747","v":1.46232842025E-2},{"$f":"Calculations!G747","v":0},{"$f":"Calculations!O747","v":0},{"$f":"Calculations!P747","v":1},{"$f":"Calculations!U747","v":0},{"$f":"Calculations!X747","v":0},{"$f":"Calculations!AC747","v":0},1.46232842025E-2]
[{"$f":"Calculations!B748","v":39740},{"$f":"Calculations!A748","v":"Almar Court Catisfield Crescent Wolverhampton WV8 1YT"},{"$f":"Calculations!C748","v":9.9360874999900005E-3},{"$f":"Calculations!G748","v":0},{"$f":"Calculations!O748","v":0},{"$f":"Calculations!P748","v":1},{"$f":"Calculations!U748","v":0},{"$f":"Calculations!X748","v":0},{"$f":"Calculations!AC748","v":0},9.9360874999900005E-3]
[{"$f":"Calculations!B749","v":39750},{"$f":"Calculations!A749","v":"230 Bushbury Lane Wolverhampton West Midlands WV10 9TX"},{"$f":"Calculations!C749","v":7.9897995000100003E-2},{"$f":"Calculations!G749","v":0},{"$f":"Calculations!O749","v":0},{"$f":"Calculations!P749","v":1},{"$f":"Calculations!U749","v":0},{"$f":"Calculations!X749","v":0},{"$f":"Calculations!AC749","v":0},7.9897995000100003E-2]
[{"$f":"Calculations!B750","v":39760},{"$f":"Calculations!A750","v":"11 King Street Wolverhampton WV1 1ST"},{"$f":"Calculations!C750","v":1.29719355E-2},{"$f":"Calculations!G750","v":0},{"$f":"Calculations!O750","v":0},{"$f":"Calculations!P750","v":1},{"$f":"Calculations!U750","v":0},{"$f":"Calculations!X750","v":0},{"$f":"Calculations!AC750","v":0},1.29719355E-2]
[{"$f":"Calculations!B751","v":39770},{"$f":"Calculations!A751","v":"Land East Of 103 Sweetman Street Wolverhampton"},{"$f":"Calculations!C751","v":7.0472875000000004E-2},{"$f":"Calculations!G751","v":0},{"$f":"Calculations!O751","v":0},{"$f":"Calculations!P751","v":1},{"$f":"Calculations!U751","v":0},{"$f":"Calculations!X751","v":1.1629130356041241E-2},{"$f":"Calculations!AC751","v":0.11108240581706082},7.0472875000000004E-2]
[{"$f":"Calculations!B752","v":39780},{"$f":"Calculations!A752","v":"66 - 68 Stratton Street Wolverhampton WV10 9AJ"},{"$f":"Calculations!C752","v":5.2863456750000003E-2},{"$f":"Calculations!G752","v":0},{"$f":"Calculations!O752","v":0},{"$f":"Calculations!P752","v":1},{"$f":"Calculations!U752","v":0},{"$f":"Calculations!X752","v":0},{"$f":"Calculations!AC752","v":0},5.2863456750000003E-2]
[{"$f":"Calculations!B753","v":39790},{"$f":"Calculations!A753","v":"Fidgets 50 - 52 High Street Bilston Wolverhampton West Midlands WV14 0EP"},{"$f":"Calculations!C753","v":2.514495395E-2},{"$f":"Calculations!G753","v":0},{"$f":"Calculations!O753","v":0},{"$f":"Calculations!P753","v":1},{"$f":"Calculations!U753","v":0},{"$f":"Calculations!X753","v":0},{"$f":"Calculations!AC753","v":0},2.514495395E-2]
[{"$f":"Calculations!B754","v":39800},{"$f":"Calculations!A754","v":"93 Goldthorn Hill Wolverhampton West Midlands WV2 3HY"},{"$f":"Calculations!C754","v":0.13772628625},{"$f":"Calculations!G754","v":0},{"$f":"Calculations!O754","v":0},{"$f":"Calculations!P754","v":1},{"$f":"Calculations!U754","v":0},{"$f":"Calculations!X754","v":0},{"$f":"Calculations!AC754","v":0},{"$f":"C763*F763","v":0.13772628625}]
[{"$f":"Calculations!B755","v":39810},{"$f":"Calculations!A755","v":"21 Walnut Drive Wolverhampton West Midlands WV3 9HA"},{"$f":"Calculations!C755","v":4.53957538031E-2},{"$f":"Calculations!G755","v":0},{"$f":"Calculations!O755","v":0},{"$f":"Calculations!P755","v":1},{"$f":"Calculations!U755","v":0},{"$f":"Calculations!X755","v":0},{"$f":"Calculations!AC755","v":1.7693635690771363E-2},4.53957538031E-2]
[{"$f":"Calculations!B756","v":39820},{"$f":"Calculations!A756","v":"Land Adjacent To 69 Stubby Lane Wolverhampton West Midlands WV11 3NL"},{"$f":"Calculations!C756","v":1.5280629517899999E-2},{"$f":"Calculations!G756","v":0},{"$f":"Calculations!O756","v":0},{"$f":"Calculations!P756","v":1},{"$f":"Calculations!U756","v":0},{"$f":"Calculations!X756","v":0},{"$f":"Calculations!AC756","v":0},1.5280629517899999E-2]
[{"$f":"Calculations!B757","v":39830},{"$f":"Calculations!A757","v":"Open Space North Of 17 Newman Road Wolverhampton West Midlands"},{"$f":"Calculations!C757","v":0.21070744864999999},{"$f":"Calculations!G757","v":0},{"$f":"Calculations!O757","v":0},{"$f":"Calculations!P757","v":1},{"$f":"Calculations!U757","v":0},{"$f":"Calculations!X757","v":0},{"$f":"Calculations!AC757","v":0},0.21070744864999999]
[{"$f":"Calculations!B758","v":39840},{"$f":"Calculations!A758","v":"141 Merridale Road Wolverhampton West Midlands WV3 9RL"},{"$f":"Calculations!C758","v":2.5202124407399999E-2},{"$f":"Calculations!G758","v":0},{"$f":"Calculations!O758","v":0},{"$f":"Calculations!P758","v":1},{"$f":"Calculations!U758","v":2.4632951759920533E-2},{"$f":"Calculations!X758","v":8.2779575039254677E-2},{"$f":"Calculations!AC758","v":0.51020914670865813},2.5202124407399999E-2]
[{"$f":"Calculations!B759","v":39850},{"$f":"Calculations!A759","v":"60 Amos Lane Wolverhampton West Midlands WV11 1ND"},{"$f":"Calculations!C759","v":0.20294183199999999},{"$f":"Calculations!G759","v":0},{"$f":"Calculations!O759","v":0},{"$f":"Calculations!P759","v":1},{"$f":"Calculations!U759","v":0},{"$f":"Calculations!X759","v":0},{"$f":"Calculations!AC759","v":0},0.20294183199999999]
[{"$f":"Calculations!B760","v":39860},{"$f":"Calculations!A760","v":"7 Allen Road Wolverhampton West Midlands WV6 0AW"},{"$f":"Calculations!C760","v":1.4975125000000001E-2},{"$f":"Calculations!G760","v":0},{"$f":"Calculations!O760","v":0},{"$f":"Calculations!P760","v":1},{"$f":"Calculations!U760","v":0},{"$f":"Calculations!X760","v":0},{"$f":"Calculations!AC760","v":0},1.4975125000000001E-2]
[{"$f":"Calculations!B761","v":39870},{"$f":"Calculations!A761","v":"83A Goldthorn Hill Wolverhampton West Midlands WV2 3HY"},{"$f":"Calculations!C761","v":0.13768153029999999},{"$f":"Calculations!G761","v":0},{"$f":"Calculations!O761","v":0},{"$f":"Calculations!P761","v":1},{"$f":"Calculations!U761","v":0},{"$f":"Calculations!X761","v":0},{"$f":"Calculations!AC761","v":0},0.13768153029999999]
[{"$f":"Calculations!B762","v":39880},{"$f":"Calculations!A762","v":"10 Clarendon Street Wolverhampton WV3 9PP"},{"$f":"Calculations!C762","v":9.3015000000500007E-3},{"$f":"Calculations!G762","v":0},{"$f":"Calculations!O762","v":0},{"$f":"Calculations!P762","v":1},{"$f":"Calculations!U762","v":0},{"$f":"Calculations!X762","v":0},{"$f":"Calculations!AC762","v":0},9.3015000000500007E-3]
[{"$f":"Calculations!B763","v":39890},{"$f":"Calculations!A763","v":"43 Tettenhall Road Wolverhampton West Midlands"},{"$f":"Calculations!C763","v":2.6443485000299999E-2},{"$f":"Calculations!G763","v":0},{"$f":"Calculations!O763","v":0},{"$f":"Calculations!P763","v":1},{"$f":"Calculations!U763","v":0},{"$f":"Calculations!X763","v":0},{"$f":"Calculations!AC763","v":0},2.6443485000299999E-2]
[{"$f":"Calculations!B764","v":39900},{"$f":"Calculations!A764","v":"241 Coalway Road Wolverhampton West Midlands WV3 7NG"},{"$f":"Calculations!C764","v":4.3671500000099998E-2},{"$f":"Calculations!G764","v":0},{"$f":"Calculations!O764","v":0},{"$f":"Calculations!P764","v":1},{"$f":"Calculations!U764","v":0},{"$f":"Calculations!X764","v":2.4578958762523433E-4},{"$f":"Calculations!AC764","v":4.3432530371699085E-2},4.3671500000099998E-2]
[{"$f":"Calculations!B765","v":39910},{"$f":"Calculations!A765","v":"126 JeffcOther Commitmentk Road Wolverhampton West Midlands WV3 7AF"},{"$f":"Calculations!C765","v":2.3408195400000002E-2},{"$f":"Calculations!G765","v":0},{"$f":"Calculations!O765","v":0},{"$f":"Calculations!P765","v":1},{"$f":"Calculations!U765","v":0},{"$f":"Calculations!X765","v":0},{"$f":"Calculations!AC765","v":0},2.3408195400000002E-2]
[{"$f":"Calculations!B766","v":39920},{"$f":"Calculations!A766","v":"103 JeffcOther Commitmentk Road Wolverhampton West Midlands WV3 7AG"},{"$f":"Calculations!C766","v":1.5910374996099999E-2},{"$f":"Calculations!G766","v":0},{"$f":"Calculations!O766","v":0},{"$f":"Calculations!P766","v":1},{"$f":"Calculations!U766","v":0},{"$f":"Calculations!X766","v":0},{"$f":"Calculations!AC766","v":"<1%"},1.5910374996099999E-2]
[{"$f":"Calculations!B767","v":39930},{"$f":"Calculations!A767","v":"Byrne Road Motors Byrne Road Wolverhampton WV2 3DP"},{"$f":"Calculations!C767","v":4.8628316050000002E-2},{"$f":"Calculations!G767","v":0},{"$f":"Calculations!O767","v":0},{"$f":"Calculations!P767","v":1},{"$f":"Calculations!U767","v":0},{"$f":"Calculations!X767","v":0},{"$f":"Calculations!AC767","v":2.9316445700981658E-2},4.8628316050000002E-2]
[{"$f":"Calculations!B768","v":39940},{"$f":"Calculations!A768","v":"Central Taxis 38 Thornley Street Wolverhampton West Midlands WV1 1JP"},{"$f":"Calculations!C768","v":6.0335277500099998E-3},{"$f":"Calculations!G768","v":0},{"$f":"Calculations!O768","v":0},{"$f":"Calculations!P768","v":1},{"$f":"Calculations!U768","v":0},{"$f":"Calculations!X768","v":0},{"$f":"Calculations!AC768","v":0},6.0335277500099998E-3]
[{"$f":"Calculations!B769","v":39950},{"$f":"Calculations!A769","v":"Garage Site Between 14 And 16 Genge Avenue Wolverhampton"},{"$f":"Calculations!C769","v":9.9405525896800004E-2},{"$f":"Calculations!G769","v":0},{"$f":"Calculations!O769","v":0},{"$f":"Calculations!P769","v":1},{"$f":"Calculations!U769","v":0},{"$f":"Calculations!X769","v":0},{"$f":"Calculations!AC769","v":0},9.9405525896800004E-2]
[{"$f":"Calculations!B770","v":39960},{"$f":"Calculations!A770","v":"38-39 Snow Hill Wolverhampton West Midlands WV2 4AG"},{"$f":"Calculations!C770","v":3.22777655E-2},{"$f":"Calculations!G770","v":0},{"$f":"Calculations!O770","v":0},{"$f":"Calculations!P770","v":1},{"$f":"Calculations!U770","v":0},{"$f":"Calculations!X770","v":0},{"$f":"Calculations!AC770","v":1.3874101660909582E-2},3.22777655E-2]
[{"$f":"Calculations!B771","v":39970},{"$f":"Calculations!A771","v":"Howard Court Brooklands Parade Wolverhampton WV1 2NW"},{"$f":"Calculations!C771","v":0.1982669715},{"$f":"Calculations!G771","v":0},{"$f":"Calculations!O771","v":0},{"$f":"Calculations!P771","v":1},{"$f":"Calculations!U771","v":0},{"$f":"Calculations!X771","v":2.9173475215109141E-3},{"$f":"Calculations!AC771","v":6.9212241420881337E-2},0.1982669715]
[{"$f":"Calculations!B772","v":39980},{"$f":"Calculations!A772","v":"Land Adjacent 1 Wood Street Bilston Wolverhampton West Midlands"},{"$f":"Calculations!C772","v":1.50215551531E-2},{"$f":"Calculations!G772","v":0},{"$f":"Calculations!O772","v":0},{"$f":"Calculations!P772","v":1},{"$f":"Calculations!U772","v":0},{"$f":"Calculations!X772","v":0},{"$f":"Calculations!AC772","v":0},1.50215551531E-2]
[{"$f":"Calculations!B773","v":39990},{"$f":"Calculations!A773","v":"Music Box Nursery 33 - 35 Wellington Road Wolverhampton West Midlands WV14 6AH"},{"$f":"Calculations!C773","v":2.771532765E-2},{"$f":"Calculations!G773","v":0},{"$f":"Calculations!O773","v":0},{"$f":"Calculations!P773","v":1},{"$f":"Calculations!U773","v":0},{"$f":"Calculations!X773","v":0},{"$f":"Calculations!AC773","v":0},2.771532765E-2]
[{"$f":"Calculations!B774","v":40000},{"$f":"Calculations!A774","v":"Land To The Rear Of 226 And 227 Hordern Road Wolverhampton West Midlands WV6 0HQ"},{"$f":"Calculations!C774","v":2.88836545599E-2},{"$f":"Calculations!G774","v":0},{"$f":"Calculations!O774","v":0},{"$f":"Calculations!P774","v":1},{"$f":"Calculations!U774","v":0},{"$f":"Calculations!X774","v":0},{"$f":"Calculations!AC774","v":0},2.88836545599E-2]
[{"$f":"Calculations!B775","v":40010},{"$f":"Calculations!A775","v":"Emerald Close Wolverhampton West Midlands"},{"$f":"Calculations!C775","v":4.9783420000000002E-2},{"$f":"Calculations!G775","v":0},{"$f":"Calculations!O775","v":"<1%"},{"$f":"Calculations!P775","v":1},{"$f":"Calculations!U775","v":0},{"$f":"Calculations!X775","v":0},{"$f":"Calculations!AC775","v":"<1%"},4.9783420000000002E-2]
[{"$f":"Calculations!B776","v":40020},{"$f":"Calculations!A776","v":"Good Shepherd Centre Thornley Street Wolverhampton West Midlands WV1 1JS"},{"$f":"Calculations!C776","v":0.12090599320000001},{"$f":"Calculations!G776","v":0},{"$f":"Calculations!O776","v":0},{"$f":"Calculations!P776","v":1},{"$f":"Calculations!U776","v":0},{"$f":"Calculations!X776","v":0},{"$f":"Calculations!AC776","v":8.9325596805899285E-2},0.12090599320000001]
[{"$f":"Calculations!B777","v":40030},{"$f":"Calculations!A777","v":"Land South West Of 5 Warwick Street Bilston Wolverhampton West Midlands"},{"$f":"Calculations!C777","v":8.0967269100000003E-2},{"$f":"Calculations!G777","v":0},{"$f":"Calculations!O777","v":0},{"$f":"Calculations!P777","v":1},{"$f":"Calculations!U777","v":0},{"$f":"Calculations!X777","v":0},{"$f":"Calculations!AC777","v":0},8.0967269100000003E-2]
[{"$f":"Calculations!B778","v":40040},{"$f":"Calculations!A778","v":"7 Finchfield Gardens Wolverhampton West Midlands WV3 9LT"},{"$f":"Calculations!C778","v":4.8736594299999998E-2},{"$f":"Calculations!G778","v":0},{"$f":"Calculations!O778","v":0},{"$f":"Calculations!P778","v":1},{"$f":"Calculations!U778","v":0},{"$f":"Calculations!X778","v":0},{"$f":"Calculations!AC778","v":0},4.8736594299999998E-2]
[{"$f":"Calculations!B779","v":40050},{"$f":"Calculations!A779","v":"Wolves Superstore 59 - 60 Dudley Street City Centre Wolverhampton West Midlands WV1 3EN"},{"$f":"Calculations!C779","v":2.57169720488E-2},{"$f":"Calculations!G779","v":0},{"$f":"Calculations!O779","v":0},{"$f":"Calculations!P779","v":1},{"$f":"Calculations!U779","v":0},{"$f":"Calculations!X779","v":0},{"$f":"Calculations!AC779","v":0},2.57169720488E-2]
[{"$f":"Calculations!B780","v":40060},{"$f":"Calculations!A780","v":"Richmond House 29 Wellington Road Bilston WV14 6AH"},{"$f":"Calculations!C780","v":7.7448407499999997E-2},{"$f":"Calculations!G780","v":0},{"$f":"Calculations!O780","v":0},{"$f":"Calculations!P780","v":1},{"$f":"Calculations!U780","v":0},{"$f":"Calculations!X780","v":0},{"$f":"Calculations!AC780","v":0.19184790613073613},7.7448407499999997E-2]
[{"$f":"Calculations!B781","v":40070},{"$f":"Calculations!A781","v":"188 Wood End Road Wolverhampton West Midlands WV11 1YQ"},{"$f":"Calculations!C781","v":6.5839929150000004E-2},{"$f":"Calculations!G781","v":0},{"$f":"Calculations!O781","v":0},{"$f":"Calculations!P781","v":1},{"$f":"Calculations!U781","v":0.42616320152792875},{"$f":"Calculations!X781","v":0.48348639417747608},{"$f":"Calculations!AC781","v":0.78181762016938627},6.5839929150000004E-2]
[{"$f":"Calculations!B782","v":40080},{"$f":"Calculations!A782","v":"Land adj 126 Church Road, Bradmore"},{"$f":"Calculations!C782","v":0.62455562009999999},{"$f":"Calculations!G782","v":0},{"$f":"Calculations!O782","v":0},{"$f":"Calculations!P782","v":1},{"$f":"Calculations!U782","v":"<1%"},{"$f":"Calculations!X782","v":2.430897334214862E-3},{"$f":"Calculations!AC782","v":1.5964780225329687E-2},0.62455562009999999]
[{"$f":"Calculations!B783","v":40090},{"$f":"Calculations!A783","v":"Daves Supersave 6 - 8 Wootton Avenue Wolverhampton WV11 3AA"},{"$f":"Calculations!C783","v":3.0353849400000001E-2},{"$f":"Calculations!G783","v":0},{"$f":"Calculations!O783","v":0},{"$f":"Calculations!P783","v":1},{"$f":"Calculations!U783","v":0},{"$f":"Calculations!X783","v":0},{"$f":"Calculations!AC783","v":1.4410395409716963E-2},3.0353849400000001E-2]
[{"$f":"Calculations!B784","v":40110},{"$f":"Calculations!A784","v":"Goodyear Tyre Factory, Stafford Road"},{"$f":"Calculations!C784","v":7.6975889402000002},{"$f":"Calculations!G784","v":0},{"$f":"Calculations!O784","v":0},{"$f":"Calculations!P784","v":1},{"$f":"Calculations!U784","v":2.2880661330299465E-2},{"$f":"Calculations!X784","v":5.4559782840462381E-2},{"$f":"Calculations!AC784","v":0.11117418092504211},7.6975889402000002]
[{"$f":"Calculations!B785","v":40210},{"$f":"Calculations!A785","v":"The Dog & Partridge PH Broad Street Bilston"},{"$f":"Calculations!C785","v":0.19693927750000001},{"$f":"Calculations!G785","v":0},{"$f":"Calculations!O785","v":0},{"$f":"Calculations!P785","v":1},{"$f":"Calculations!U785","v":0},{"$f":"Calculations!X785","v":6.0932487172346818E-2},{"$f":"Calculations!AC785","v":0.23752365324894112},0.19693927750000001]
[{"$f":"Calculations!B786","v":40200},{"$f":"Calculations!A786","v":"Land adj 69 Mount Road, Penn"},{"$f":"Calculations!C786","v":5.3771715800000001E-2},{"$f":"Calculations!G786","v":0},{"$f":"Calculations!O786","v":0},{"$f":"Calculations!P786","v":1},{"$f":"Calculations!U786","v":0},{"$f":"Calculations!X786","v":0},{"$f":"Calculations!AC786","v":0},5.3771715800000001E-2]
[{"$f":"Calculations!B787","v":"D82"},{"$f":"Calculations!A787","v":"Open Space at Broadway, Rushall Road, Northwood Park Road, WV10 8EB"},{"$f":"Calculations!C787","v":0.330943465002},{"$f":"Calculations!G787","v":0},{"$f":"Calculations!O787","v":0},{"$f":"Calculations!P787","v":1},{"$f":"Calculations!U787","v":0},{"$f":"Calculations!X787","v":6.5357226421948795E-5},{"$f":"Calculations!AC787","v":5.0440702204405568E-3},0.330943465002]
[{"$f":"Calculations!B788","v":40100},{"$f":"Calculations!A788","v":"Land adj 84 Villiers Avenue, Bilston"},{"$f":"Calculations!C788","v":6.0470625E-2},{"$f":"Calculations!G788","v":0},{"$f":"Calculations!O788","v":0},{"$f":"Calculations!P788","v":1},{"$f":"Calculations!U788","v":0.2249025869998863},{"$f":"Calculations!X788","v":0.39238029018167087},{"$f":"Calculations!AC788","v":0.75984673403527736},6.0470625E-2]
[{"$f":"Calculations!B789","v":"D5b"},{"$f":"Calculations!A789","v":"Northicote Secondary School, Northwood Park Road, WV10 8ER"},{"$f":"Calculations!C789","v":4.7634367400100004},{"$f":"Calculations!G789","v":0},{"$f":"Calculations!O789","v":0},{"$f":"Calculations!P789","v":1},{"$f":"Calculations!U789","v":7.473595629177026E-3},{"$f":"Calculations!X789","v":1.8222137657656345E-2},{"$f":"Calculations!AC789","v":7.1364406700132083E-2},4.7634367400100004]

{"sheet":"Calculations","index":2,"n_rows":789,"n_cols":34,"rows_kept":789,"cut":false,"hidden":false,"merged":[]}
["Location","Site Code","Site (ha)","Site (ha) ROUNDED","FZ3a (ha)","FZ3a (ha) ROUNDED","FZ3a (%) acc","FZ3a (%) (MINUS FZ3b)","FZ3a (%)_TOTAL","FZ3a (%) acc","FZ2 (ha)",null,"FZ2 (%)_(MINUS FZ3)","FZ2 (%)_TOTAL","FZ2 (%) acc","FZ1 (%)","HFM (ha)","HFM (%)","SW30 (ha)","SW30 (%)","SW30 (%) acc","SW100 (ha)","SW100 (%)_(MINUS SW30)","SW100 (%)_TOTAL","SW100 (%) acc","SW1000 (ha)","SW1000 (%)_(MINUS SW100)","SW1000 (%)_TOTAL","SW1000 (%) acc","Wolves 30yr (ha)","%","Wolves 100yr (Ha)","%"]
["Land south of Pedmore Lane, Pedmore, Stourbridge",203,8.5399999999999991,{"$f":"ROUND(C2,2)","v":8.5399999999999991},0,{"$f":"ROUND(E2,2)","v":0},{"$f":"F2/D2","v":0},null,{"$f":"#REF!/D2","v":{"$error":"#REF!"}},{"$f":"IF(I2>=0.005,I2,IF(#REF!=0,I2,\"<1%\"))","v":{"$error":"#REF!"}},0,{"$f":"ROUND(K2,2)","v":0},{"$f":"L2-F2","v":0},{"$f":"L2/D2","v":0},{"$f":"IF(N2>=0.005,N2,IF(K2=0,N2,\"<1%\"))","v":0},{"$f":"1-N2","v":1},null,{"$f":"Q2/C2","v":0},0,{"$f":"S2/C2","v":0},{"$f":"IF(T2>=0.005,T2,IF(S2=0,T2,\"<1%\"))","v":0},0,{"$f":"X2-T2","v":0},{"$f":"V2/C2","v":0},{"$f":"IF(W2>=0.005,W2,IF(V2=0,W2,\"<1%\"))","v":0},0,{"$f":"AB2-W2","v":0},{"$f":"Z2/C2","v":0},{"$f":"IF(AA2>=0.005,AA2,IF(Z2=0,AA2,\"<1%\"))","v":0}]
["Land south of Pedmore Lane, Pedmore, Stourbridge",203,11.23,{"$f":"ROUND(C3,2)","v":11.23},0,{"$f":"ROUND(E3,2)","v":0},{"$f":"F3/D3","v":0},{"$f":"I3-#REF!","v":{"$error":"#REF!"}},{"$f":"#REF!/D3","v":{"$error":"#REF!"}},{"$f":"IF(I3>=0.005,I3,IF(#REF!=0,I3,\"<1%\"))","v":{"$error":"#REF!"}},0,{"$f":"ROUND(K3,2)","v":0},{"$f":"L3-F3","v":0},0,{"$f":"IF(N3>=0.005,N3,IF(K3=0,N3,\"<1%\"))","v":0},{"$f":"1-N3","v":1},null,0,3.9046506137799999E-3,{"$f":"S3/C3","v":3.4769818466429207E-4},{"$f":"IF(T3>=0.005,T3,IF(S3=0,T3,\"<1%\"))","v":"<1%"},4.9111403025390004E-3,8.9625083593855765E-5,4.3732326825814783E-4,{"$f":"IF(W3>=0.005,W3,IF(V3=0,W3,\"<1%\"))","v":"<1%"},3.0545833815133001E-2,{"$f":"AB3-W3","v":2.6303957369878898E-3},2.7200208205817454E-3,{"$f":"IF(AA3>=0.005,AA3,IF(Z3=0,AA3,\"<1%\"))","v":"<1%"}]
["Land North of Linthouse Lane, south of the Dismantled Railway Line, west of Kitchen Lane and east of",138,148,148,0,0,0,{"$f":"I4-#REF!","v":{"$error":"#REF!"}},{"$f":"#REF!/D4","v":{"$error":"#REF!"}},{"$f":"IF(I4>=0.005,I4,IF(#REF!=0,I4,\"<1%\"))","v":{"$error":"#REF!"}},0,0,0,0,0,1,null,0,0.33496486498883399,2.2632761147894187E-3,"<1%",0.42130762767513302,5.8339704517769648E-4,2.8466731599671152E-3,"<1%",0.60858472530876695,3.5286619096112693E-3,4.1120589547889658E-3,"<1%",0.37995165704299999,{"$f":"AD4/C4","v":2.5672409259662162E-3},0.46454908203400003,{"$f":"AF4/C4","v":3.1388451488783787E-3},{"$f":"AG4-AE4","v":5.7160422291216255E-4}]
["Land at Perton Road, Perton",192,2.4,2.4,0,0,0,{"$f":"I5-#REF!","v":{"$error":"#REF!"}},{"$f":"#REF!/D5","v":{"$error":"#REF!"}},{"$f":"IF(I5>=0.005,I5,IF(#REF!=0,I5,\"<1%\"))","v":{"$error":"#REF!"}},0,0,0,0,0,1,null,0,0,0,0,0,0,0,0,0,0,0,0,3.1458839415600001E-2,{"$f":"AD5/C5","v":1.3107849756500001E-2},2.8961288925600001E-2,{"$f":"AF5/C5","v":1.2067203719E-2},{"$f":"AG5-AE5","v":-1.0406460375000006E-3}]
["Dadford’s Bridge Industrial Estate, Plant Street Wordsley",187,0.46,0.46,0,0,0,{"$f":"I6-#REF!","v":{"$error":"#REF!"}},{"$f":"#REF!/D6","v":{"$error":"#REF!"}},{"$f":"IF(I6>=0.005,I6,IF(#REF!=0,I6,\"<1%\"))","v":{"$error":"#REF!"}},0,0,0,0,0,1,null,0,0,0,0,0,0,0,0,1.5642992082997E-2,3.4006504528254343E-2,3.4006504528254343E-2,3.4006504528254343E-2]
["Opposite One Hundred acre school, Aldridge Road, Walsall",185,7.5,7.5,0,0,0,{"$f":"I7-#REF!","v":{"$error":"#REF!"}},{"$f":"#REF!/D7","v":{"$error":"#REF!"}},{"$f":"IF(I7>=0.005,I7,IF(#REF!=0,I7,\"<1%\"))","v":{"$error":"#REF!"}},0,0,0,0,0,1,null,0,4.5995986973989003E-2,6.1327982631985333E-3,6.1327982631985333E-3,0.14615422453313101,1.3354431674552268E-2,1.9487229937750802E-2,1.3354431674552268E-2,1.0392375549117701,0.12521057564701707,0.13856500732156934,0.12521057564701707]
["Merry Hill, Brierley Hill",184,53.06,53.06,0,0,0,{"$f":"I8-#REF!","v":{"$error":"#REF!"}},{"$f":"#REF!/D8","v":{"$error":"#REF!"}},{"$f":"IF(I8>=0.005,I8,IF(#REF!=0,I8,\"<1%\"))","v":{"$error":"#REF!"}},0,0,0,0,0,1,null,0,1.5323749812993599,2.8880041110052015E-2,2.8880041110052015E-2,5.0775906419672898,6.6815221648472103E-2,9.5695262758524122E-2,6.6815221648472103E-2,17.122275485852398,0.25588126319608873,0.32269648484456082,0.25588126319608873]
["Merry Hill, Brierley Hill",184,21.85,21.85,0,0,0,{"$f":"I9-#REF!","v":{"$error":"#REF!"}},{"$f":"#REF!/D9","v":{"$error":"#REF!"}},{"$f":"IF(I9>=0.005,I9,IF(#REF!=0,I9,\"<1%\"))","v":{"$error":"#REF!"}},0,0,0,0,0,1,null,0,0.29480967326977597,1.349243355925748E-2,1.349243355925748E-2,0.97553747179707995,3.1154590321615744E-2,4.4647023880873223E-2,3.1154590321615744E-2,3.1893687541711402,0.11481194305006115,0.14596653337167689,0.11481194305006115]
["Land at Electrium Point, Forge Road, Willenhall, Walsall",183,0.4,0.4,0,0,0,{"$f":"I10-#REF!","v":{"$error":"#REF!"}},{"$f":"#REF!/D10","v":{"$error":"#REF!"}},{"$f":"IF(I10>=0.005,I10,IF(#REF!=0,I10,\"<1%\"))","v":{"$error":"#REF!"}},0,0,0,0,0,1,null,0,3.741451613656E-3,9.3536290341399986E-3,9.3536290341399986E-3,1.0541451613656E-2,1.6999999999999998E-2,2.6353629034139996E-2,1.6999999999999998E-2,1.6768737677299E-2,2.4921844193247503E-2,4.1921844193247501E-2,2.4921844193247503E-2]
["Aldridge Wyevale Garden Centre,  Chester Road, Aldridge, Walsall",182,1.03,1.03,0,0,0,{"$f":"I11-#REF!","v":{"$error":"#REF!"}},{"$f":"#REF!/D11","v":{"$error":"#REF!"}},{"$f":"IF(I11>=0.005,I11,IF(#REF!=0,I11,\"<1%\"))","v":{"$error":"#REF!"}},0,0,0,0,0,1,null,0,0,0,0,0,0,0,0,0,0,0,0]
["Land at Pennwood, Wolverhampton",180,114.8,114.8,0,0,0,{"$f":"I12-#REF!","v":{"$error":"#REF!"}},{"$f":"#REF!/D12","v":{"$error":"#REF!"}},{"$f":"IF(I12>=0.005,I12,IF(#REF!=0,I12,\"<1%\"))","v":{"$error":"#REF!"}},0,0,0,0,0,1,null,0,0.75540446741552703,6.5801782875916986E-3,6.5801782875916986E-3,1.1134074322780401,3.118492725283215E-3,9.6986710128749137E-3,"<1%",3.3093513165914201,2.5708609335617656E-2,2.8827102060900871E-2,2.5708609335617656E-2,4.4028900418600001,{"$f":"AD12/C12","v":3.8352700713066207E-2},4.6392571440500001,{"$f":"AF12/C12","v":4.041164759625436E-2},{"$f":"AG12-AE12","v":2.0589468831881536E-3}]
["Turls Hill Drive ",179,0.82,0.82,0,0,0,{"$f":"I13-#REF!","v":{"$error":"#REF!"}},{"$f":"#REF!/D13","v":{"$error":"#REF!"}},{"$f":"IF(I13>=0.005,I13,IF(#REF!=0,I13,\"<1%\"))","v":{"$error":"#REF!"}},0,0,0,0,0,1,null,0,0,0,0,0,0,0,0,0,0,0,0]
["Land west of foxcote farm, Oldnall Lane, Wollescote, Stourbridge",178,6.87,6.87,0,0,0,{"$f":"I14-#REF!","v":{"$error":"#REF!"}},{"$f":"#REF!/D14","v":{"$error":"#REF!"}},{"$f":"IF(I14>=0.005,I14,IF(#REF!=0,I14,\"<1%\"))","v":{"$error":"#REF!"}},0,0,0,0,0,1,null,0,9.5865421925229993E-3,1.3954209887224161E-3,"<1%",3.0457231432924999E-2,3.0379460320818048E-3,4.4333670208042209E-3,"<1%",0.24810801598349,3.3076757895646E-2,3.6114703927727802E-2,3.3076757895646E-2]
["263a Land adjacent to Sutton Road, Wzlsall",176,11.92,11.92,0,0,0,{"$f":"I15-#REF!","v":{"$error":"#REF!"}},{"$f":"#REF!/D15","v":{"$error":"#REF!"}},{"$f":"IF(I15>=0.005,I15,IF(#REF!=0,I15,\"<1%\"))","v":{"$error":"#REF!"}},0,0,0,0,0,1,null,0,9.5100094238607005E-2,7.978195825386494E-3,7.978195825386494E-3,0.21312620307979099,9.9015191980859046E-3,1.7879715023472399E-2,9.9015191980859046E-3,0.96387713761330696,7.0960656776184808E-2,8.0862175974270714E-2,7.0960656776184808E-2]
["Land adjoining Bilston Street/Whites Drive, Dudley",175,2.5,2.5,0,0,0,{"$f":"I16-#REF!","v":{"$error":"#REF!"}},{"$f":"#REF!/D16","v":{"$error":"#REF!"}},{"$f":"IF(I16>=0.005,I16,IF(#REF!=0,I16,\"<1%\"))","v":{"$error":"#REF!"}},0,0,0,0,0,1,null,0,0.108685617195537,4.3474246878214801E-2,4.3474246878214801E-2,0.16462996147596301,2.2377737712170401E-2,6.5851984590385201E-2,2.2377737712170401E-2,0.26089821119679102,8.198154676654601E-2,0.10435928447871641,8.198154676654601E-2]
["Land at Little Aston Road, Aldridge.",173,7.8,7.8,0,0,0,{"$f":"I17-#REF!","v":{"$error":"#REF!"}},{"$f":"#REF!/D17","v":{"$error":"#REF!"}},{"$f":"IF(I17>=0.005,I17,IF(#REF!=0,I17,\"<1%\"))","v":{"$error":"#REF!"}},0,0,0,0,0,1,null,0,0,0,0,0,0,0,0,0,0,0,0]
["Land at Chester Road, Streetly, Walsall",172,25.6,25.6,0,0,0,{"$f":"I18-#REF!","v":{"$error":"#REF!"}},{"$f":"#REF!/D18","v":{"$error":"#REF!"}},{"$f":"IF(I18>=0.005,I18,IF(#REF!=0,I18,\"<1%\"))","v":{"$error":"#REF!"}},0,0,0,0,0,1,null,0,0.23811607000026899,9.3014089843855077E-3,9.3014089843855077E-3,1.2898844224894701,4.1084701269109417E-2,5.0386110253494924E-2,4.1084701269109417E-2,6.1975614429797199,0.20100754259728587,0.2420922438663953,0.20100754259728587]
["Swindon Road/Enville Road, Wall Heath, Kingswinford",171,26,26,0,0,0,{"$f":"I19-#REF!","v":{"$error":"#REF!"}},{"$f":"#REF!/D19","v":{"$error":"#REF!"}},{"$f":"IF(I19>=0.005,I19,IF(#REF!=0,I19,\"<1%\"))","v":{"$error":"#REF!"}},1.3683976523958001E-2,0.01,0.01,3.8461538461538462E-4,"<1%",0.99961538461538457,null,0,0.14476738768840999,5.5679764495542303E-3,5.5679764495542303E-3,0.57515074719509796,1.6553206134872614E-2,2.2121182584426843E-2,1.6553206134872614E-2,1.27379661830201,3.2438971492127766E-2,4.899217762700038E-2,3.2438971492127766E-2]
["Watery Lane, Wordsley, Stourbridge",169,0.9,0.9,4.4715264999999997E-2,0.04,4.4444444444444446E-2,{"$f":"I20-#REF!","v":{"$error":"#REF!"}},{"$f":"#REF!/D20","v":{"$error":"#REF!"}},{"$f":"IF(I20>=0.005,I20,IF(#REF!=0,I20,\"<1%\"))","v":{"$error":"#REF!"}},4.5479157476188997E-2,0.05,1.0000000000000002E-2,5.5555555555555559E-2,5.5555555555555559E-2,0.94444444444444442,null,0,9.7095494525839994E-3,1.0788388280648887E-2,1.0788388280648887E-2,3.4783295339793997E-2,2.7859717652455554E-2,3.8648105933104443E-2,2.7859717652455554E-2,4.6741120233846002E-2,2.4074860385151116E-2,5.193457803760667E-2,2.4074860385151116E-2]
["Watery Lane, Wordsley, Stourbridge",169,0.9,0.9,2.3305280000000001E-2,0.02,2.2222222222222223E-2,{"$f":"I21-#REF!","v":{"$error":"#REF!"}},{"$f":"#REF!/D21","v":{"$error":"#REF!"}},{"$f":"IF(I21>=0.005,I21,IF(#REF!=0,I21,\"<1%\"))","v":{"$error":"#REF!"}},2.4232787900964E-2,0.02,0,2.2222222222222223E-2,2.2222222222222223E-2,0.97777777777777775,null,0,0,0,0,8.9973575250799995E-3,9.9970639167555556E-3,9.9970639167555556E-3,9.9970639167555556E-3,2.3822195409462E-2,1.6472042093757779E-2,2.6469106010513332E-2,1.6472042093757779E-2]
["Skip Lane Walsall",164,5.85,5.85,0,0,0,{"$f":"I22-#REF!","v":{"$error":"#REF!"}},{"$f":"#REF!/D22","v":{"$error":"#REF!"}},{"$f":"IF(I22>=0.005,I22,IF(#REF!=0,I22,\"<1%\"))","v":{"$error":"#REF!"}},0,0,0,0,0,1,null,0,8.7131603049491996E-2,1.4894291119571282E-2,1.4894291119571282E-2,0.116799013651549,5.0713522396678649E-3,1.9965643359239147E-2,5.0713522396678649E-3,0.21208756635043099,3.118293260655966E-2,3.6254284846227523E-2,3.118293260655966E-2]
["Skip Lane Walsall",163,2.35,2.35,0,0,0,{"$f":"I23-#REF!","v":{"$error":"#REF!"}},{"$f":"#REF!/D23","v":{"$error":"#REF!"}},{"$f":"IF(I23>=0.005,I23,IF(#REF!=0,I23,\"<1%\"))","v":{"$error":"#REF!"}},0,0,0,0,0,1,null,0,9.3108979803499994E-3,3.9620842469574461E-3,"<1%",1.2760878678941E-2,1.4680768930174478E-3,5.4301611399748938E-3,"<1%",6.1652879499636E-2,2.4767190979168085E-2,2.6235267872185532E-2,2.4767190979168085E-2]
["Land north of Stonnall Road, Aldridge, Walsall",162,13.9,13.9,0,0,0,{"$f":"I24-#REF!","v":{"$error":"#REF!"}},{"$f":"#REF!/D24","v":{"$error":"#REF!"}},{"$f":"IF(I24>=0.005,I24,IF(#REF!=0,I24,\"<1%\"))","v":{"$error":"#REF!"}},0,0,0,0,0,1,null,0,0.122206040250898,8.7918014568991367E-3,8.7918014568991367E-3,0.18500250523338899,4.5177312937043877E-3,1.3309532750603524E-2,"<1%",0.88145828929915304,5.8896534123500863E-2,6.3414265417205254E-2,5.8896534123500863E-2]
["Land at Yorks Bridge, Lichfield Road, Pelsall, Walsall",152,21,21,0,0,0,{"$f":"I25-#REF!","v":{"$error":"#REF!"}},{"$f":"#REF!/D25","v":{"$error":"#REF!"}},{"$f":"IF(I25>=0.005,I25,IF(#REF!=0,I25,\"<1%\"))","v":{"$error":"#REF!"}},0,0,0,0,0,1,null,0,0.20840234857950199,9.9239213609286659E-3,9.9239213609286659E-3,0.38933507476236401,8.6158441039458095E-3,1.8539765464874475E-2,8.6158441039458095E-3,1.07777735529534,4.2706887100594192E-2,5.1322731204539999E-2,4.2706887100594192E-2]
["Former Goodyear Factory, Bushbury Lane/Stafford Road, Wolverhampton",151,7.87,7.87,0,0,0,{"$f":"I26-#REF!","v":{"$error":"#REF!"}},{"$f":"#REF!/D26","v":{"$error":"#REF!"}},{"$f":"IF(I26>=0.005,I26,IF(#REF!=0,I26,\"<1%\"))","v":{"$error":"#REF!"}},0,0,0,0,0,1,null,0,0.16,2.0330368487928845E-2,2.0330368487928845E-2,0.43000441281497298,3.4308057536845356E-2,5.46384260247742E-2,3.4308057536845356E-2,1.1211247949119401,0.10814744372261337,0.14245550125945872,0.10814744372261337,1.6351757601100001,0.207773285909784,1.8908700190000001,0.24026302655654383,3.2489740646759829E-2]
["Land north of Mucklow Hill, Coombswood, Dudley",150,35.200000000000003,35.200000000000003,0,0,0,{"$f":"I27-#REF!","v":{"$error":"#REF!"}},{"$f":"#REF!/D27","v":{"$error":"#REF!"}},{"$f":"IF(I27>=0.005,I27,IF(#REF!=0,I27,\"<1%\"))","v":{"$error":"#REF!"}},0,0,0,0,0,1,null,0,0.49418639225925198,1.4039386143728749E-2,1.4039386143728749E-2,0.79342252625293197,8.5010265339113614E-3,2.254041267764011E-2,8.5010265339113614E-3,3.1785141888342898,8.1797672012517308E-2,9.0298698546428677E-2,8.1797672012517308E-2]
["Land at Birchley Island, Junction 2 of M5, Oldbury, Sandwell",149,1,1,0,0,0,{"$f":"I28-#REF!","v":{"$error":"#REF!"}},{"$f":"#REF!/D28","v":{"$error":"#REF!"}},{"$f":"IF(I28>=0.005,I28,IF(#REF!=0,I28,\"<1%\"))","v":{"$error":"#REF!"}},0,0,0,0,0,1,null,0,0,0,0,1.5357863494382E-2,1.5357863494382E-2,1.5357863494382E-2,1.5357863494382E-2,0.12720612624830299,0.11184826275392099,0.12720612624830299,0.11184826275392099]
["Land at King Hays Farm, Off Walsall Wood Road, Walsall",148,8.5,8.5,0,0,0,{"$f":"I29-#REF!","v":{"$error":"#REF!"}},{"$f":"#REF!/D29","v":{"$error":"#REF!"}},{"$f":"IF(I29>=0.005,I29,IF(#REF!=0,I29,\"<1%\"))","v":{"$error":"#REF!"}},0,0,0,0,0,1,null,0,0.19418869045026599,2.2845728288266587E-2,2.2845728288266587E-2,0.484472613010902,3.4151049713016003E-2,5.699677800128259E-2,3.4151049713016003E-2,2.5260799896953601,0.26303483142761458,0.2971858811406306,0.26303483142761458]
["Land Off Viewfield Crescent, Dudley",147,1.56,1.56,0,0,0,{"$f":"I30-#REF!","v":{"$error":"#REF!"}},{"$f":"#REF!/D30","v":{"$error":"#REF!"}},{"$f":"IF(I30>=0.005,I30,IF(#REF!=0,I30,\"<1%\"))","v":{"$error":"#REF!"}},0,0,0,0,0,1,null,0,0,0,0,0,0,0,0,7.9262246114290003E-3,5.0809132124544874E-3,5.0809132124544874E-3,5.0809132124544874E-3]
["Home Farm, Sandhills, Walsall Wood, Walsall, West Midlands",131,84.55,84.55,0,0,0,{"$f":"I31-#REF!","v":{"$error":"#REF!"}},{"$f":"#REF!/D31","v":{"$error":"#REF!"}},{"$f":"IF(I31>=0.005,I31,IF(#REF!=0,I31,\"<1%\"))","v":{"$error":"#REF!"}},0,0,0,0,0,1,null,0,1.9885494993424799,2.3519213475369366E-2,2.3519213475369366E-2,4.91106165533989,3.4565489722027325E-2,5.8084703197396691E-2,3.4565489722027325E-2,21.0042432303696,0.21385843967323701,0.24842392939526434,0.21385843967323701]
["Land east of Ounty John Lane, Pedmore, Stourbridge",137,1.2,1.2,0,0,0,{"$f":"I32-#REF!","v":{"$error":"#REF!"}},{"$f":"#REF!/D32","v":{"$error":"#REF!"}},{"$f":"IF(I32>=0.005,I32,IF(#REF!=0,I32,\"<1%\"))","v":{"$error":"#REF!"}},0,0,0,0,0,1,null,0,0,0,0,0,0,0,0,0,0,0,0]
["Darlaston Road, Willenhall",135,1.31,1.31,0.45234753300000002,0.45,0.34351145038167941,{"$f":"I33-#REF!","v":{"$error":"#REF!"}},{"$f":"#REF!/D33","v":{"$error":"#REF!"}},{"$f":"IF(I33>=0.005,I33,IF(#REF!=0,I33,\"<1%\"))","v":{"$error":"#REF!"}},0.85877806821754099,0.86,0.41,0.65648854961832059,0.65648854961832059,0.34351145038167941,null,0,0.155586257475538,0.11876813547750992,0.11876813547750992,0.277522245880028,9.3080907179E-2,0.21184904265650992,9.3080907179E-2,0.74549357134276195,0.47599815491471142,0.5690790620937114,0.47599815491471142]
["Former Junction Works, Cemetery Road, Darlaston, Walsall",134,1.31,1.31,0.65479308800000002,0.65,0.49618320610687022,{"$f":"I34-#REF!","v":{"$error":"#REF!"}},{"$f":"#REF!/D34","v":{"$error":"#REF!"}},{"$f":"IF(I34>=0.005,I34,IF(#REF!=0,I34,\"<1%\"))","v":{"$error":"#REF!"}},0.68157034972973196,0.68,3.0000000000000027E-2,{"$f":"L34/D34","v":0.51908396946564883},0.51908396946564883,0.48091603053435117,null,{"$f":"Q34/C34","v":0},0,0,0,0,0,{"$f":"V34/C34","v":0},0,0.15627854684145401,0.1192966006423313,{"$f":"Z34/C34","v":0.1192966006423313},0.1192966006423313]
["Former Goscote Lane Copper Works, Goscote Lane, Walsall",133,8.92,8.92,0,0,0,{"$f":"I35-#REF!","v":{"$error":"#REF!"}},{"$f":"#REF!/D35","v":{"$error":"#REF!"}},{"$f":"IF(I35>=0.005,I35,IF(#REF!=0,I35,\"<1%\"))","v":{"$error":"#REF!"}},0,0,0,0,0,1,null,0,3.3143404391180999E-2,3.7156282949754485E-3,"<1%",0.100559594353838,7.5578688298942823E-3,1.1273497124869731E-2,7.5578688298942823E-3,0.45143850590476198,4.3051829141491589E-2,5.060969797138587E-2,4.3051829141491589E-2]
["Former Deeling Castings, Leamore Lane, Bloxwich, Walsall",132,2.54,2.54,0,0,0,{"$f":"I36-#REF!","v":{"$error":"#REF!"}},{"$f":"#REF!/D36","v":{"$error":"#REF!"}},{"$f":"IF(I36>=0.005,I36,IF(#REF!=0,I36,\"<1%\"))","v":{"$error":"#REF!"}},0,0,0,0,0,1,null,0,1.7913983700340998E-2,7.0527494883232279E-3,7.0527494883232279E-3,4.6025149595379997E-2,1.1067388147653149E-2,1.8120137635976377E-2,1.1067388147653149E-2,0.21721979069116301,7.445221448666299E-2,8.5519602634316141E-2,7.445221448666299E-2]
["Brownhills Business Park, Lindon Road, Walsall",126,2.59,2.59,0,0,0,{"$f":"I37-#REF!","v":{"$error":"#REF!"}},{"$f":"#REF!/D37","v":{"$error":"#REF!"}},{"$f":"IF(I37>=0.005,I37,IF(#REF!=0,I37,\"<1%\"))","v":{"$error":"#REF!"}},0,0,0,0,0,1,null,0,3.0598963444380001E-3,1.181427160014672E-3,"<1%",8.0200912491074E-2,2.9784176118392281E-2,3.0965603278406952E-2,2.9784176118392281E-2,0.23854086201685701,6.231654280703515E-2,9.2100718925427427E-2,6.231654280703515E-2]
["Land at Stencils Farm, Aldridge Road (A454), Walsall",125,37,37,0,0,0,{"$f":"I38-#REF!","v":{"$error":"#REF!"}},{"$f":"#REF!/D38","v":{"$error":"#REF!"}},{"$f":"IF(I38>=0.005,I38,IF(#REF!=0,I38,\"<1%\"))","v":{"$error":"#REF!"}},0,0,0,0,0,1,null,0,0.33637329455305698,9.0911701230555943E-3,9.0911701230555943E-3,0.57781168507027003,6.5253619058706219E-3,1.5616532028926216E-2,6.5253619058706219E-3,2.36729324884117,5.7455536711458297E-2,6.3980898617328918E-2,5.7455536711458297E-2]
["Land at Coneygre, Newcomen Drive, Sandwell",124,9.16,9.16,0,0,0,{"$f":"I39-#REF!","v":{"$error":"#REF!"}},{"$f":"#REF!/D39","v":{"$error":"#REF!"}},{"$f":"IF(I39>=0.005,I39,IF(#REF!=0,I39,\"<1%\"))","v":{"$error":"#REF!"}},0,0,0,0,0,1,null,0,9.3596193156447002E-2,1.0217925017079367E-2,1.0217925017079367E-2,0.19871912212673801,1.1476302289333081E-2,2.1694227306412447E-2,1.1476302289333081E-2,0.67295574263564595,6.199048184119596E-2,7.3466784130529039E-2,6.199048184119596E-2]
["Land off Heath Road, Darlaston, Walsall",120,0.13,0.13,0,0,0,{"$f":"I40-#REF!","v":{"$error":"#REF!"}},{"$f":"#REF!/D40","v":{"$error":"#REF!"}},{"$f":"IF(I40>=0.005,I40,IF(#REF!=0,I40,\"<1%\"))","v":{"$error":"#REF!"}},0,0,0,0,0,1,null,0,0,0,0,1.5128472911494001E-2,0.11637286854995385,0.11637286854995385,0.11637286854995385,3.8278218563695003E-2,0.17807496655539232,0.29444783510534617,0.17807496655539232]
["Land at Bosty Lane, Aldridge, Walsall.",118,37,37,0,0,0,{"$f":"I41-#REF!","v":{"$error":"#REF!"}},{"$f":"#REF!/D41","v":{"$error":"#REF!"}},{"$f":"IF(I41>=0.005,I41,IF(#REF!=0,I41,\"<1%\"))","v":{"$error":"#REF!"}},0,0,0,0,0,1,null,0,0.51053670454852296,1.3798289312122241E-2,1.3798289312122241E-2,0.79635609530973805,7.7248483989517617E-3,2.1523137711074003E-2,7.7248483989517617E-3,1.8935476598585399,4.345211538100878E-2,5.117696377996054E-2,4.345211538100878E-2]
["Columba Park, Land at Queslett Road/ Aldridge Road, Walsall",116,82,82,0,0,0,{"$f":"I42-#REF!","v":{"$error":"#REF!"}},{"$f":"#REF!/D42","v":{"$error":"#REF!"}},{"$f":"IF(I42>=0.005,I42,IF(#REF!=0,I42,\"<1%\"))","v":{"$error":"#REF!"}},0,0,0,0,0,1,null,0,7.8891954971435002E-2,9.6209701184676833E-4,"<1%",0.21528657963779099,1.6633490812970244E-3,2.6254460931437926E-3,"<1%",2.1913113488258298,2.5059960050725291E-2,2.6723309132022314E-2,2.5059960050725291E-2]
["Land north of Park Hall Road, Walsall",129,16,16,0,0,0,{"$f":"I43-#REF!","v":{"$error":"#REF!"}},{"$f":"#REF!/D43","v":{"$error":"#REF!"}},{"$f":"IF(I43>=0.005,I43,IF(#REF!=0,I43,\"<1%\"))","v":{"$error":"#REF!"}},0,0,0,0,0,1,null,0,4.8763090831441001E-2,3.0476931769650626E-3,"<1%",5.8644206191381998E-2,6.1756970999631228E-4,3.6652628869613749E-3,"<1%",0.21053827456874899,1.25410724505505E-2,1.3158642160546812E-2,1.25410724505505E-2]
["Land adjacent to Barr Common Road, Aldridge",208,2.16,2.16,0,0,0,{"$f":"I44-#REF!","v":{"$error":"#REF!"}},{"$f":"#REF!/D44","v":{"$error":"#REF!"}},{"$f":"IF(I44>=0.005,I44,IF(#REF!=0,I44,\"<1%\"))","v":{"$error":"#REF!"}},0,0,0,0,0,1,null,0,6.6675018777980002E-2,3.0868064249064815E-2,3.0868064249064815E-2,0.11614076948477101,2.2900810512403242E-2,5.3768874761468057E-2,2.2900810512403242E-2,0.61011197314565102,0.25955843631428704,0.28245924682669027,0.25955843631428704]
["Land at Heathfield Lane West, Darlaston",130,7.4,7.4,9.1037995999999996E-2,0.09,1.2162162162162161E-2,{"$f":"I45-#REF!","v":{"$error":"#REF!"}},{"$f":"#REF!/D45","v":{"$error":"#REF!"}},{"$f":"IF(I45>=0.005,I45,IF(#REF!=0,I45,\"<1%\"))","v":{"$error":"#REF!"}},0.88557759205975795,0.89,0.8,0.12027027027027026,0.12027027027027026,0.87972972972972974,null,0,0,0,0,4.1499998665498E-2,5.6081079277699999E-3,5.6081079277699999E-3,5.6081079277699999E-3,0.41518489851736701,5.0497959439441756E-2,5.6106067367211757E-2,5.0497959439441756E-2]
["Racecourse Lane, Stourbridge",114,38,38,0,0,0,{"$f":"I46-#REF!","v":{"$error":"#REF!"}},{"$f":"#REF!/D46","v":{"$error":"#REF!"}},{"$f":"IF(I46>=0.005,I46,IF(#REF!=0,I46,\"<1%\"))","v":{"$error":"#REF!"}},0,0,0,0,0,1,null,0,0.42645684797036099,1.1222548630798973E-2,1.1222548630798973E-2,0.79528135960069002,9.7059082007981325E-3,2.0928456831597105E-2,9.7059082007981325E-3,1.91797677232764,4.0767164755192389E-2,5.0473072955990524E-2,4.0767164755192389E-2]
["Racecourse Lane, Stourbridge",114,18.47,18.47,0,0,0,{"$f":"I47-#REF!","v":{"$error":"#REF!"}},{"$f":"#REF!/D47","v":{"$error":"#REF!"}},{"$f":"IF(I47>=0.005,I47,IF(#REF!=0,I47,\"<1%\"))","v":{"$error":"#REF!"}},0,0,0,0,0,1,null,0,0.47525317169664699,2.5731086718822252E-2,2.5731086718822252E-2,0.865746855167431,2.1142051081255227E-2,4.6873137800077479E-2,2.1142051081255227E-2,2.19125236730713,9.7496409520105354E-2,0.11863846060136059,9.7496409520105354E-2]
["Racecourse Lane, Stourbridge",114,167.46,167.46,0,0,0,{"$f":"I48-#REF!","v":{"$error":"#REF!"}},{"$f":"#REF!/D48","v":{"$error":"#REF!"}},{"$f":"IF(I48>=0.005,I48,IF(#REF!=0,I48,\"<1%\"))","v":{"$error":"#REF!"}},0,0,0,0,0,1,null,0,0.121558877562468,7.2589799093794333E-4,"<1%",0.236702789326141,6.8759053961347789E-4,1.4134885305514212E-3,"<1%",1.34497054298845,7.3440023362282151E-3,8.0315928758416932E-3,7.3440023362282151E-3]
["Site B, Land off Worceter Lane, Stourbridge",50,2.29,2.29,0,0,0,{"$f":"I49-#REF!","v":{"$error":"#REF!"}},{"$f":"#REF!/D49","v":{"$error":"#REF!"}},{"$f":"IF(I49>=0.005,I49,IF(#REF!=0,I49,\"<1%\"))","v":{"$error":"#REF!"}},0,0,0,0,0,1,null,0,0,0,0,0,0,0,0,0,0,0,0]
["Site A, Land off Worceter Lane, Stourbridge",50,0.61,0.61,0,0,0,{"$f":"I50-#REF!","v":{"$error":"#REF!"}},{"$f":"#REF!/D50","v":{"$error":"#REF!"}},{"$f":"IF(I50>=0.005,I50,IF(#REF!=0,I50,\"<1%\"))","v":{"$error":"#REF!"}},0,0,0,0,0,1,null,0,4.5280335888389998E-2,7.4230058833426232E-2,7.4230058833426232E-2,7.0031476956413999E-2,4.0575641095121309E-2,0.11480569992854754,4.0575641095121309E-2,0.113809342312018,0.14599705121966233,0.18657269231478363,0.14599705121966233]
["Land at Codsall Road, Wolverhampton",64,0.8,0.8,0,0,0,{"$f":"I51-#REF!","v":{"$error":"#REF!"}},{"$f":"#REF!/D51","v":{"$error":"#REF!"}},{"$f":"IF(I51>=0.005,I51,IF(#REF!=0,I51,\"<1%\"))","v":{"$error":"#REF!"}},0,0,0,0,0,1,null,0,0,0,0,0,0,0,0,0,0,0,0,6.4759737728999997E-2,8.0949672161249986E-2,8.8420102E-2,0.1105251275,2.9575455338750015E-2]
["Wildside Activity Centre, Horden Road, Wolverhampton",23,0.18,0.18,1.4304799E-2,0.01,5.5555555555555559E-2,{"$f":"I52-#REF!","v":{"$error":"#REF!"}},{"$f":"#REF!/D52","v":{"$error":"#REF!"}},{"$f":"IF(I52>=0.005,I52,IF(#REF!=0,I52,\"<1%\"))","v":{"$error":"#REF!"}},0.13008895438669699,0.13,0.12000000000000001,0.72222222222222232,0.72222222222222232,0.27777777777777768,null,0,0,0,0,0,0,0,0,0,0,0,0,9.8354082497800005E-2,0.54641156943222224,0.10895854100000001,0.60532522777777786,5.891365834555562E-2]
["City of Wolverhampton College and associated alnd to the rear, Padget Road, Wolverhampton",61,7.4,7.4,0,0,0,{"$f":"I53-#REF!","v":{"$error":"#REF!"}},{"$f":"#REF!/D53","v":{"$error":"#REF!"}},{"$f":"IF(I53>=0.005,I53,IF(#REF!=0,I53,\"<1%\"))","v":{"$error":"#REF!"}},0,0,0,0,0,1,null,0,0,0,0,0,0,0,0,1.7937143121620001E-2,2.4239382596783782E-3,2.4239382596783782E-3,"<1%",2.6127338864399999E-2,3.5307214681621619E-3,2.8629886E-2,3.8689035135135133E-3,3.3818204535135139E-4]
["Land at Yieldsfarm, Stafford Road, north of Bloxwich",106,122,122,0,0,0,{"$f":"I54-#REF!","v":{"$error":"#REF!"}},{"$f":"#REF!/D54","v":{"$error":"#REF!"}},{"$f":"IF(I54>=0.005,I54,IF(#REF!=0,I54,\"<1%\"))","v":{"$error":"#REF!"}},0,0,0,0,0,1,null,0,1.0368019047372199,8.4983762683378677E-3,8.4983762683378677E-3,1.5976788568253399,4.5973520662960666E-3,1.3095728334633934E-2,"<1%",3.8268182938334099,2.6770010997912215E-2,3.136736306420828E-2,2.6770010997912215E-2]
["Land at former Caparo Works, Walsall",105,6.67,6.67,0,0,0,{"$f":"I55-#REF!","v":{"$error":"#REF!"}},{"$f":"#REF!/D55","v":{"$error":"#REF!"}},{"$f":"IF(I55>=0.005,I55,IF(#REF!=0,I55,\"<1%\"))","v":{"$error":"#REF!"}},0,0,0,0,0,1,null,0,3.3131972058360001E-3,4.9673121526776611E-4,"<1%",1.3474762937032999E-2,1.5234731231179911E-3,2.0202043383857572E-3,"<1%",8.4454137819082994E-2,1.1138316654855472E-2,1.2661789777973463E-2,1.1138316654855472E-2]
["Land at Former Goscote Hospital, Goscote Lane, Walsall",70,2,2,0,0,0,{"$f":"I56-#REF!","v":{"$error":"#REF!"}},{"$f":"#REF!/D56","v":{"$error":"#REF!"}},{"$f":"IF(I56>=0.005,I56,IF(#REF!=0,I56,\"<1%\"))","v":{"$error":"#REF!"}},0,0,0,0,0,1,null,0,0.1356,6.7799999999999999E-2,6.7799999999999999E-2,0.1656,1.4999999999999999E-2,8.2799999999999999E-2,1.4999999999999999E-2,0.357360344207381,0.16368017210369051,0.1786801721036905,0.16368017210369051]
["Land to the East and West of Chester Road, Hardwick, Walsall",107,23.6,23.6,0,0,0,{"$f":"I57-#REF!","v":{"$error":"#REF!"}},{"$f":"#REF!/D57","v":{"$error":"#REF!"}},{"$f":"IF(I57>=0.005,I57,IF(#REF!=0,I57,\"<1%\"))","v":{"$error":"#REF!"}},0,0,0,0,0,1,null,0,0.13171141394670499,5.5809921163858045E-3,5.5809921163858045E-3,0.278227142240841,6.2082935717854238E-3,1.1789285688171228E-2,6.2082935717854238E-3,0.55878594367690004,1.7469076922998473E-2,2.3677370494783898E-2,1.7469076922998473E-2]
["Land to the East and West of Chester Road, Hardwick, Walsall",107,23.6,23.6,0,0,0,{"$f":"I58-#REF!","v":{"$error":"#REF!"}},{"$f":"#REF!/D58","v":{"$error":"#REF!"}},{"$f":"IF(I58>=0.005,I58,IF(#REF!=0,I58,\"<1%\"))","v":{"$error":"#REF!"}},0,0,0,0,0,1,null,0,0.24484369815638701,1.0374732972728262E-2,1.0374732972728262E-2,1.09664073421027,3.6093094748045888E-2,4.6467827720774152E-2,3.6093094748045888E-2,2.9951362617014499,9.0819458713879947E-2,0.12691255346192584,9.0819458713879947E-2]
["Land on the East side of Chester Road, Aldridge",46,4.99,4.99,0,0,0,{"$f":"I59-#REF!","v":{"$error":"#REF!"}},{"$f":"#REF!/D59","v":{"$error":"#REF!"}},{"$f":"IF(I59>=0.005,I59,IF(#REF!=0,I59,\"<1%\"))","v":{"$error":"#REF!"}},0,0,0,0,0,1,null,0,0,0,0,0,0,0,0,0.17132595597924699,3.4333858913676747E-2,3.4333858913676747E-2,3.4333858913676747E-2]
["Land to the north of Lapal Lane South, Halesowen",67,14.7,14.7,0,0,0,{"$f":"I60-#REF!","v":{"$error":"#REF!"}},{"$f":"#REF!/D60","v":{"$error":"#REF!"}},{"$f":"IF(I60>=0.005,I60,IF(#REF!=0,I60,\"<1%\"))","v":{"$error":"#REF!"}},0,0,0,0,0,1,null,0,5.0068449903626001E-2,3.4060170002466667E-3,"<1%",7.5800556410187001E-2,1.7504834358204762E-3,5.156500436067143E-3,"<1%",0.41046078987363499,2.6172019276671701E-2,2.7922502712492178E-2,2.6172019276671701E-2]
["Lye Close Lane, Halesowen",39,1.24,1.24,0,0,0,{"$f":"I61-#REF!","v":{"$error":"#REF!"}},{"$f":"#REF!/D61","v":{"$error":"#REF!"}},{"$f":"IF(I61>=0.005,I61,IF(#REF!=0,I61,\"<1%\"))","v":{"$error":"#REF!"}},0,0,0,0,0,1,null,0,0,0,0,0,0,0,0,0,0,0,0]
["Holbeache Lane/Wolverhampton Road, Kingswinford",111,14.8,14.8,0,0,0,{"$f":"I62-#REF!","v":{"$error":"#REF!"}},{"$f":"#REF!/D62","v":{"$error":"#REF!"}},{"$f":"IF(I62>=0.005,I62,IF(#REF!=0,I62,\"<1%\"))","v":{"$error":"#REF!"}},0,0,0,0,0,1,null,0,5.8799999999999998E-2,3.972972972972973E-3,"<1%",0.19719999999999999,9.3513513513513499E-3,1.3324324324324323E-2,9.3513513513513499E-3,0.61005269481603597,3.1868425325407831E-2,4.1219776676759183E-2,3.1868425325407831E-2]
["Land south west side of Lapel lane South, Halesowen",56,0.71,0.71,0,0,0,{"$f":"I63-#REF!","v":{"$error":"#REF!"}},{"$f":"#REF!/D63","v":{"$error":"#REF!"}},{"$f":"IF(I63>=0.005,I63,IF(#REF!=0,I63,\"<1%\"))","v":{"$error":"#REF!"}},0,0,0,0,0,1,null,0,9.3177989644761997E-2,0.1312366051334676,0.1312366051334676,0.185192229619524,0.12959752109121411,0.26083412622468172,0.12959752109121411,0.33629129172983901,0.34405218557053097,0.47364970666174511,0.34405218557053097]
["Land at Highfields, Walsall Road, Walsall Wood",60,4.0999999999999996,4.0999999999999996,0,0,0,{"$f":"I64-#REF!","v":{"$error":"#REF!"}},{"$f":"#REF!/D64","v":{"$error":"#REF!"}},{"$f":"IF(I64>=0.005,I64,IF(#REF!=0,I64,\"<1%\"))","v":{"$error":"#REF!"}},0,0,0,0,0,1,null,0,5.0747504090718001E-2,1.2377440022126342E-2,1.2377440022126342E-2,0.11810903452761699,1.6429641569975367E-2,2.880708159210171E-2,1.6429641569975367E-2,0.47311653199109099,9.8964634525412695E-2,0.11539427609538806,9.8964634525412695E-2]
["Former MEB site, Bull Street",68,2.06,2.06,0,0,0,{"$f":"I65-#REF!","v":{"$error":"#REF!"}},{"$f":"#REF!/D65","v":{"$error":"#REF!"}},{"$f":"IF(I65>=0.005,I65,IF(#REF!=0,I65,\"<1%\"))","v":{"$error":"#REF!"}},0,0,0,0,0,1,null,0,2.2844039144029001E-2,1.108933939030534E-2,1.108933939030534E-2,3.0267629723494002E-2,3.6036847473131066E-3,1.4693024137618447E-2,"<1%",0.123366381031703,5.6282907986523301E-2,5.9886592733836404E-2,5.6282907986523301E-2]
["Land off 385 Penn Road, Wolverhampton",74,2.8,2.8,0,0,0,{"$f":"I66-#REF!","v":{"$error":"#REF!"}},{"$f":"#REF!/D66","v":{"$error":"#REF!"}},{"$f":"IF(I66>=0.005,I66,IF(#REF!=0,I66,\"<1%\"))","v":{"$error":"#REF!"}},0,0,0,{"$f":"L66/D66","v":0},0,{"$f":"1-N66","v":1},null,{"$f":"Q66/C66","v":0},0,0,0,0,{"$f":"X66-T66","v":0},{"$f":"V66/C66","v":0},0,0,0,{"$f":"Z66/C66","v":0},0,0.2206445689,7.8801631750000004E-2,2.8629885854699999E-2,1.022495923382143E-2,-6.8576672516178577E-2]
["Wightwick Mill Field, Land south of Bridgnorth Road, Compton, Wolverhampton",76,2.7,{"$f":"ROUND(C67,2)","v":2.7},1.109027035,{"$f":"ROUND(E67,2)","v":1.1100000000000001},{"$f":"F67/D67","v":0.41111111111111109},{"$f":"I67-#REF!","v":{"$error":"#REF!"}},{"$f":"#REF!/D67","v":{"$error":"#REF!"}},{"$f":"IF(I67>=0.005,I67,IF(#REF!=0,I67,\"<1%\"))","v":{"$error":"#REF!"}},1.962072,{"$f":"ROUND(K67,2)","v":1.96},{"$f":"L67-F67","v":0.84999999999999987},0.72592592592592586,{"$f":"IF(N67>=0.005,N67,IF(K67=0,N67,\"<1%\"))","v":0.72592592592592586},0.27407407407407414,null,0,0.30287716690511302,{"$f":"S67/C67","v":0.11217672848337519},{"$f":"IF(T67>=0.005,T67,IF(S67=0,T67,\"<1%\"))","v":0.11217672848337519},0.54913126983780003,9.1205223308402597E-2,0.20338195179177779,{"$f":"IF(W67>=0.005,W67,IF(V67=0,W67,\"<1%\"))","v":9.1205223308402597E-2},1.86989892959046,{"$f":"AB67-W67","v":0.60134993579917506},0.6925551591075777,{"$f":"IF(AA67>=0.005,AA67,IF(Z67=0,AA67,\"<1%\"))","v":0.60134993579917506},1.8803459096499999,0.69642441098148145,0.31059454848399998,0.11503501795703702,-0.58138939302444448]
["Cookley Works, Leys Road, Brockmoor, Brierley Hill",66,3,3,0,0,0,{"$f":"I68-#REF!","v":{"$error":"#REF!"}},{"$f":"#REF!/D68","v":{"$error":"#REF!"}},{"$f":"IF(I68>=0.005,I68,IF(#REF!=0,I68,\"<1%\"))","v":{"$error":"#REF!"}},0,0,0,0,0,1,null,0,0,0,0,2.2269914375920002E-3,7.4233047919733343E-4,7.4233047919733343E-4,"<1%",6.4365538674599002E-2,2.0712849079002334E-2,2.1455179558199668E-2,2.0712849079002334E-2]
["Field at Woodsetton, Adj to Tipton Road/Setton Drive, Sedgley",57,2,2,0,0,0,{"$f":"I69-#REF!","v":{"$error":"#REF!"}},{"$f":"#REF!/D69","v":{"$error":"#REF!"}},{"$f":"IF(I69>=0.005,I69,IF(#REF!=0,I69,\"<1%\"))","v":{"$error":"#REF!"}},0,0,0,0,0,1,null,0,0,0,0,0,0,0,0,1.4813615134515E-2,7.4068075672575001E-3,7.4068075672575001E-3,7.4068075672575001E-3]
["Land to rear of City of Wolverhampton College, Compton Park, Wolverhampton",59,3.9,3.9,0,0,0,{"$f":"I70-#REF!","v":{"$error":"#REF!"}},{"$f":"#REF!/D70","v":{"$error":"#REF!"}},{"$f":"IF(I70>=0.005,I70,IF(#REF!=0,I70,\"<1%\"))","v":{"$error":"#REF!"}},0,0,0,0,0,1,null,0,1.0972317016059E-2,2.8134146195023077E-3,"<1%",1.7013658437632001E-2,1.5490619029674365E-3,4.3624765224697442E-3,"<1%",4.1956696407979999E-2,9.2090653811299997E-3,1.0758127284097436E-2,9.2090653811299997E-3,3.1629235760999998E-2,{"$f":"AD70/C70","v":8.1100604515384617E-3},4.2816541999999999E-2,{"$f":"AF70/C70","v":1.0978600512820513E-2},{"$f":"AG70-AE70","v":2.8685400612820516E-3}]
["City of Wolverhampton College, Padget Road, Wolverhampton",58,3.35,3.35,0,0,0,{"$f":"I71-#REF!","v":{"$error":"#REF!"}},{"$f":"#REF!/D71","v":{"$error":"#REF!"}},{"$f":"IF(I71>=0.005,I71,IF(#REF!=0,I71,\"<1%\"))","v":{"$error":"#REF!"}},0,0,0,0,0,1,null,0,0,0,0,1.2800000000000001E-2,3.8208955223880598E-3,3.8208955223880598E-3,"<1%",4.7199999999999999E-2,1.026865671641791E-2,1.408955223880597E-2,1.026865671641791E-2,0.19484327628799999,5.8162172026268652E-2,0.24208274599999999,7.2263506268656713E-2,1.4101334242388061E-2]
["land at Tanhouse Avenue, Great Barr",40,2.5099999999999998,2.5099999999999998,0,0,0,{"$f":"I72-#REF!","v":{"$error":"#REF!"}},{"$f":"#REF!/D72","v":{"$error":"#REF!"}},{"$f":"IF(I72>=0.005,I72,IF(#REF!=0,I72,\"<1%\"))","v":{"$error":"#REF!"}},0,0,0,0,0,1,null,0,0,0,0,2.8758600000289999E-3,1.1457609561868526E-3,1.1457609561868526E-3,"<1%",0.36714749440154398,0.14512814119582271,0.14627390215200956,0.14512814119582271]
["Old Farm, Norton Road, Norton, Stourbridge",45,1.04,1.04,0,0,0,{"$f":"I73-#REF!","v":{"$error":"#REF!"}},{"$f":"#REF!/D73","v":{"$error":"#REF!"}},{"$f":"IF(I73>=0.005,I73,IF(#REF!=0,I73,\"<1%\"))","v":{"$error":"#REF!"}},0,0,0,0,0,1,null,0,2.76E-2,2.6538461538461539E-2,2.6538461538461539E-2,4.1841652331005001E-2,1.3693896472120194E-2,4.0232358010581733E-2,1.3693896472120194E-2,9.1356251666482993E-2,7.4148653207190385E-2,8.7842549679310572E-2,7.4148653207190385E-2]
["Clothier Street, Willenhall",18,0.5,0.5,0,0,0,{"$f":"I74-#REF!","v":{"$error":"#REF!"}},{"$f":"#REF!/D74","v":{"$error":"#REF!"}},{"$f":"IF(I74>=0.005,I74,IF(#REF!=0,I74,\"<1%\"))","v":{"$error":"#REF!"}},0,0,0,0,0,1,null,0,0,0,0,0,0,0,0,2.5364303572742001E-2,5.0728607145484002E-2,5.0728607145484002E-2,5.0728607145484002E-2]
["Ketley Quarry, Dudley Road, Kingswinford",24,20.81,20.81,0,0,0,{"$f":"I75-#REF!","v":{"$error":"#REF!"}},{"$f":"#REF!/D75","v":{"$error":"#REF!"}},{"$f":"IF(I75>=0.005,I75,IF(#REF!=0,I75,\"<1%\"))","v":{"$error":"#REF!"}},0,0,0,0,0,1,null,0,0.79244086013759196,3.807981067455992E-2,3.807981067455992E-2,1.2246268624187799,2.0768188480595293E-2,5.8847999155155213E-2,2.0768188480595293E-2,2.4562781687744799,9.7265361196217787E-2,0.11803354967681308,9.7265361196217787E-2]
["Land north and South of Himley Road, Himley, Dudley",26,8.02,8.02,0.358107226,0.36,4.488778054862843E-2,{"$f":"I76-#REF!","v":{"$error":"#REF!"}},{"$f":"#REF!/D76","v":{"$error":"#REF!"}},{"$f":"IF(I76>=0.005,I76,IF(#REF!=0,I76,\"<1%\"))","v":{"$error":"#REF!"}},0.51571291607788905,0.52,0.16000000000000003,6.4837905236907731E-2,6.4837905236907731E-2,0.93516209476309231,null,0,0.56304925362760505,7.0205642596958245E-2,7.0205642596958245E-2,0.996314178522689,5.4023057966968074E-2,0.12422870056392632,5.4023057966968074E-2,2.1129532593454998,0.2094374481858374,0.26346050615280547,0.2094374481858374]
["Land north and South of Himley Road, Himley, Dudley",26,17.440000000000001,17.440000000000001,0.62826086400000003,0.63,3.6123853211009173E-2,{"$f":"I77-#REF!","v":{"$error":"#REF!"}},{"$f":"#REF!/D77","v":{"$error":"#REF!"}},{"$f":"IF(I77>=0.005,I77,IF(#REF!=0,I77,\"<1%\"))","v":{"$error":"#REF!"}},0.79925710617105905,0.8,0.17000000000000004,4.5871559633027525E-2,4.5871559633027525E-2,0.95412844036697253,null,0,1.07029307145238,6.137001556493004E-2,6.137001556493004E-2,1.7268756941779499,3.7648086165456986E-2,9.9018101730387026E-2,3.7648086165456986E-2,3.1975574361653201,0.14569809710090309,0.18334618326636007,0.14569809710090309]
["Land at Wilderness Lane/Greenhill Gardens, Great Barr",44,2.8,2.8,0,0,0,{"$f":"I78-#REF!","v":{"$error":"#REF!"}},{"$f":"#REF!/D78","v":{"$error":"#REF!"}},{"$f":"IF(I78>=0.005,I78,IF(#REF!=0,I78,\"<1%\"))","v":{"$error":"#REF!"}},0,0,0,0,0,1,null,0,1.0800000000000001E-2,3.8571428571428576E-3,"<1%",2.1387887116800001E-2,3.7813882560000008E-3,7.6385311131428584E-3,"<1%",0.26578806544245298,9.1142920830590363E-2,9.4924309086590358E-2,9.1142920830590363E-2]
["Grassy Lane, Wolverhampton",47,2.38,2.38,0,0,0,{"$f":"I79-#REF!","v":{"$error":"#REF!"}},{"$f":"#REF!/D79","v":{"$error":"#REF!"}},{"$f":"IF(I79>=0.005,I79,IF(#REF!=0,I79,\"<1%\"))","v":{"$error":"#REF!"}},0,0,0,0,0,1,null,0,7.6629657459049996E-2,3.2197335066827731E-2,3.2197335066827731E-2,0.18175426339526499,4.417000249420798E-2,7.6367337561035711E-2,4.417000249420798E-2,0.56872820452797901,0.19479142797973281,0.23896143047394078,0.19479142797973281,0.28593142508300001,0.12013925423655464,0.490630132,0.20614711428571431,8.6007860049159668E-2]
["Land north of Vicarage Road, Amblecote, Stourbridge",48,5.72,5.72,0,0,0,{"$f":"I80-#REF!","v":{"$error":"#REF!"}},{"$f":"#REF!/D80","v":{"$error":"#REF!"}},{"$f":"IF(I80>=0.005,I80,IF(#REF!=0,I80,\"<1%\"))","v":{"$error":"#REF!"}},0,0,0,0,0,1,null,0,0.1704,2.9790209790209791E-2,2.9790209790209791E-2,0.20799999999999999,6.5734265734265704E-3,3.6363636363636362E-2,6.5734265734265704E-3,0.36866413277791799,5.7878344891244403E-2,6.4451771464670973E-2,5.7878344891244403E-2]
["237 Watling Street, Brownhills, Walsall",49,6,6,0,0,0,{"$f":"I81-#REF!","v":{"$error":"#REF!"}},{"$f":"#REF!/D81","v":{"$error":"#REF!"}},{"$f":"IF(I81>=0.005,I81,IF(#REF!=0,I81,\"<1%\"))","v":{"$error":"#REF!"}},0,0,0,0,0,1,null,0,0,0,0,0,0,0,0,0.11971303000021701,1.9952171666702833E-2,1.9952171666702833E-2,1.9952171666702833E-2]
["Land rear of Greenhill Road, Halesowen",54,1,1,0,0,0,{"$f":"I82-#REF!","v":{"$error":"#REF!"}},{"$f":"#REF!/D82","v":{"$error":"#REF!"}},{"$f":"IF(I82>=0.005,I82,IF(#REF!=0,I82,\"<1%\"))","v":{"$error":"#REF!"}},0,0,0,0,0,1,null,0,0,0,0,9.3813139531540007E-3,9.3813139531540007E-3,9.3813139531540007E-3,9.3813139531540007E-3,4.8955487754203997E-2,3.9574173801049994E-2,4.8955487754203997E-2,3.9574173801049994E-2]
["Land off Overend Road, Cradley Heath Business Park, Cradley Heath",93,3.01,3.01,0,0,0,{"$f":"I83-#REF!","v":{"$error":"#REF!"}},{"$f":"#REF!/D83","v":{"$error":"#REF!"}},{"$f":"IF(I83>=0.005,I83,IF(#REF!=0,I83,\"<1%\"))","v":{"$error":"#REF!"}},0,0,0,0,0,1,null,0,6.7609526857999997E-4,2.2461636829900332E-4,"<1%",5.7486082798931998E-2,1.8873750010083724E-2,1.9098366378382726E-2,1.8873750010083724E-2,0.17680895202055899,3.9866765611364444E-2,5.8740515621448171E-2,3.9866765611364444E-2]
["Land off Sutton Road, Longwood Lane, Walsall",102,11.92,11.92,0,0,0,{"$f":"I84-#REF!","v":{"$error":"#REF!"}},{"$f":"#REF!/D84","v":{"$error":"#REF!"}},{"$f":"IF(I84>=0.005,I84,IF(#REF!=0,I84,\"<1%\"))","v":{"$error":"#REF!"}},0,0,0,0,0,1,null,0,0.30194381400098402,2.5330856879277185E-2,2.5330856879277185E-2,0.79023121993873302,4.0963708551824581E-2,6.6294565431101765E-2,4.0963708551824581E-2,2.8687005716360101,0.1996990910820689,0.24066279963389348,0.1996990910820689]
["Land off Bromwich Lane, Pedmore, Dudley",103,4.24,4.24,0,0,0,{"$f":"I85-#REF!","v":{"$error":"#REF!"}},{"$f":"#REF!/D85","v":{"$error":"#REF!"}},{"$f":"IF(I85>=0.005,I85,IF(#REF!=0,I85,\"<1%\"))","v":{"$error":"#REF!"}},0,0,0,0,0,1,null,0,0,0,0,1.5599999999999999E-2,3.6792452830188677E-3,3.6792452830188677E-3,"<1%",0.13211279975097101,2.7479433903530897E-2,3.1158679186549763E-2,2.7479433903530897E-2]
["Middlemore Lane West, Aldridge",112,1.46,1.46,0,0,0,{"$f":"I86-#REF!","v":{"$error":"#REF!"}},{"$f":"#REF!/D86","v":{"$error":"#REF!"}},{"$f":"IF(I86>=0.005,I86,IF(#REF!=0,I86,\"<1%\"))","v":{"$error":"#REF!"}},0,0,0,0,0,1,null,0,0,0,0,0,0,0,0,0,0,0,0]
["30 Gorge Road, Sedgley",113,0.37,0.37,0,0,0,{"$f":"I87-#REF!","v":{"$error":"#REF!"}},{"$f":"#REF!/D87","v":{"$error":"#REF!"}},{"$f":"IF(I87>=0.005,I87,IF(#REF!=0,I87,\"<1%\"))","v":{"$error":"#REF!"}},0,0,0,0,0,1,null,0,2.8203145260700003E-4,7.6224716920810821E-4,"<1%",2.8203145260700003E-4,0,7.6224716920810821E-4,"<1%",2.3123471725399998E-3,6.2495869528108108E-3,6.2495869528108108E-3,6.2495869528108108E-3]
["Wolverhampton North SUE",197,54.3,54.3,0.88945449700000001,0.89,1.6390423572744017E-2,{"$f":"I88-#REF!","v":{"$error":"#REF!"}},{"$f":"#REF!/D88","v":{"$error":"#REF!"}},{"$f":"IF(I88>=0.005,I88,IF(#REF!=0,I88,\"<1%\"))","v":{"$error":"#REF!"}},1.01720929096596,1.02,0.13,1.8784530386740331E-2,1.8784530386740331E-2,0.98121546961325967,null,0,0.25818693999992698,4.7548239410667957E-3,"<1%",0.79806321608791797,9.9424728561324314E-3,1.4697296797199227E-2,9.9424728561324314E-3,1.2172250549818799,1.2474194823091879E-2,2.241666767922431E-2,1.2474194823091879E-2,1.5726932971700001,2.8963044146777167E-2,1.761103189,3.2432839576427258E-2,3.469795429650091E-3]
["Wolverhampton North SUE",197,34.79,34.79,1.2684850599999999,1.27,3.6504742742167293E-2,{"$f":"I89-#REF!","v":{"$error":"#REF!"}},{"$f":"#REF!/D89","v":{"$error":"#REF!"}},{"$f":"IF(I89>=0.005,I89,IF(#REF!=0,I89,\"<1%\"))","v":{"$error":"#REF!"}},1.61207003501235,1.61,0.34000000000000008,4.627766599597586E-2,4.627766599597586E-2,0.95372233400402417,null,0,0.62742149010647497,1.8034535501767032E-2,1.8034535501767032E-2,1.2445770762180199,1.7739453466845214E-2,3.5773988968612246E-2,1.7739453466845214E-2,2.1589382531413102,4.4316834349806419E-2,6.205628781665163E-2,4.4316834349806419E-2,2.7579394763299998,7.9273914237711976E-2,3.3194169119999999,9.5412960965794769E-2,1.6139046728082793E-2]
["Wolverhampton North SUE",197,99.23,99.23,2.0250814999999998E-2,0.02,2.0155195001511639E-4,{"$f":"I90-#REF!","v":{"$error":"#REF!"}},{"$f":"#REF!/D90","v":{"$error":"#REF!"}},{"$f":"IF(I90>=0.005,I90,IF(#REF!=0,I90,\"<1%\"))","v":{"$error":"#REF!"}},4.2284935403317001E-2,0.04,0.02,4.0310390003023278E-4,"<1%",0.99959689609996971,null,0,5.5624394220869997E-3,5.6056025618129593E-5,"<1%",5.8159378636859996E-3,2.5546552615035752E-6,5.8610680879633168E-5,"<1%",5.7247373931945997E-2,5.7436133719990928E-4,5.7691599246141286E-4,"<1%",0.102947708182,1.0374655666834625E-3,0.12334677199999999,1.2430391212334979E-3,2.0557355455003536E-4]
["Wolverhampton North SUE",197,99.23,99.23,0,0,0,{"$f":"I91-#REF!","v":{"$error":"#REF!"}},{"$f":"#REF!/D91","v":{"$error":"#REF!"}},{"$f":"IF(I91>=0.005,I91,IF(#REF!=0,I91,\"<1%\"))","v":{"$error":"#REF!"}},0,0,0,0,0,1,null,0,0,0,0,0,0,0,0,0,0,0,0,0.48342459499599999,4.8717584903355841E-3,0.48410170899999999,4.8785821727300206E-3,6.8236823944365158E-6]
["Land adjacent to Holbeche House Care Home, Wolverhampton Road, Kingswinford, Dudley",209,1.7,1.7,0,0,0,{"$f":"I92-#REF!","v":{"$error":"#REF!"}},{"$f":"#REF!/D92","v":{"$error":"#REF!"}},{"$f":"IF(I92>=0.005,I92,IF(#REF!=0,I92,\"<1%\"))","v":{"$error":"#REF!"}},0,0,0,0,0,1,null,0,0,0,0,0,0,0,0,0,0,0,0]
["Land at Blackhalve Lane, Wednesfield, Wolverhampton",123,4.9000000000000004,4.9000000000000004,0,0,0,{"$f":"I93-#REF!","v":{"$error":"#REF!"}},{"$f":"#REF!/D93","v":{"$error":"#REF!"}},{"$f":"IF(I93>=0.005,I93,IF(#REF!=0,I93,\"<1%\"))","v":{"$error":"#REF!"}},0,0,0,0,0,1,null,0,0,0,0,0,0,0,0,8.3571497181220006E-2,1.7055407588004081E-2,1.7055407588004081E-2,1.7055407588004081E-2,1.55835110213E-2,3.1803083716938772E-3,2.3089314999999999E-2,4.7121051020408162E-3,1.5317967303469389E-3]
["Land off Vicarage Road Road, Wolverhampton",41,2.8,2.8,0,0,0,{"$f":"I94-#REF!","v":{"$error":"#REF!"}},{"$f":"#REF!/D94","v":{"$error":"#REF!"}},{"$f":"IF(I94>=0.005,I94,IF(#REF!=0,I94,\"<1%\"))","v":{"$error":"#REF!"}},0,0,0,0,0,1,null,0,0,0,0,0,0,0,0,0,0,0,0,0.104756258149,3.7412949338928574E-2,0.16467902400000001,5.8813937142857146E-2,2.1400987803928573E-2]
["Land south of Bosty Lane, Aldridge, Walsall",212,47,47,0,0,0,{"$f":"I95-#REF!","v":{"$error":"#REF!"}},{"$f":"#REF!/D95","v":{"$error":"#REF!"}},{"$f":"IF(I95>=0.005,I95,IF(#REF!=0,I95,\"<1%\"))","v":{"$error":"#REF!"}},0,0,0,0,0,1,null,0,0,0,0,0,0,0,0,1.0029302839414E-2,2.1338942211519149E-4,2.1338942211519149E-4,"<1%"]
["Land south of Bosty Lane, Aldridge, Walsall",212,47,47,0,0,0,{"$f":"I96-#REF!","v":{"$error":"#REF!"}},{"$f":"#REF!/D96","v":{"$error":"#REF!"}},{"$f":"IF(I96>=0.005,I96,IF(#REF!=0,I96,\"<1%\"))","v":{"$error":"#REF!"}},0,0,0,0,0,1,null,0,0.44928366306047901,9.5592268736272128E-3,9.5592268736272128E-3,0.67263427999910397,4.7521407859281908E-3,1.4311367659555404E-2,"<1%",2.4183069027376498,4.6701197570192018E-2,5.1453338356120211E-2,4.6701197570192018E-2]
["Land at Vicarage Road / Coronation Road, High Heath, Walsall",213,36,36,0.31817348600000001,0.32,8.8888888888888889E-3,{"$f":"I97-#REF!","v":{"$error":"#REF!"}},{"$f":"#REF!/D97","v":{"$error":"#REF!"}},{"$f":"IF(I97>=0.005,I97,IF(#REF!=0,I97,\"<1%\"))","v":{"$error":"#REF!"}},3.3403250586861999,3.34,3.02,9.2777777777777778E-2,9.2777777777777778E-2,0.90722222222222226,null,0,0.32270359483160499,8.9639887453223602E-3,8.9639887453223602E-3,0.65389966279135803,9.1998907766598064E-3,1.8163879521982167E-2,9.1998907766598064E-3,2.7356560465809001,6.6790554961698528E-2,7.5990445738358336E-2,6.6790554961698528E-2]
["56 Cartbridge Lane, Walsall",214,0.28000000000000003,0.28000000000000003,1.8722199999999999E-4,0,0,{"$f":"I98-#REF!","v":{"$error":"#REF!"}},{"$f":"#REF!/D98","v":{"$error":"#REF!"}},{"$f":"IF(I98>=0.005,I98,IF(#REF!=0,I98,\"<1%\"))","v":{"$error":"#REF!"}},1.87248096917E-4,0,0,{"$f":"L98/D98","v":0},"<1%",1,null,{"$f":"Q98/C98","v":0},4.4253475211699999E-4,1.5804812575607142E-3,"<1%",4.0416463768900004E-3,1.2853970088475001E-2,{"$f":"V98/C98","v":1.4434451346035715E-2},1.2853970088475001E-2,5.5690578856514003E-2,0.186040954399075,{"$f":"Z98/C98","v":0.19889492448755},0.186040954399075]
["Land at Greenwood Road and Lazy Hill Road, Aldridge, Walsall",210,2.6,2.6,0,0,0,{"$f":"I99-#REF!","v":{"$error":"#REF!"}},{"$f":"#REF!/D99","v":{"$error":"#REF!"}},{"$f":"IF(I99>=0.005,I99,IF(#REF!=0,I99,\"<1%\"))","v":{"$error":"#REF!"}},0,0,0,0,0,1,null,0,0,0,0,0,0,0,0,1.9295659307100001E-4,7.4214074258076919E-5,7.4214074258076919E-5,"<1%"]
["Land east of Longwood Lane, Daisy Bank, Walsall",152,2.7,2.7,0,0,0,{"$f":"I100-#REF!","v":{"$error":"#REF!"}},{"$f":"#REF!/D100","v":{"$error":"#REF!"}},{"$f":"IF(I100>=0.005,I100,IF(#REF!=0,I100,\"<1%\"))","v":{"$error":"#REF!"}},0,0,0,0,0,1,null,0,2.8093950205359E-2,1.0405166742725555E-2,1.0405166742725555E-2,5.4431068269257997E-2,9.7544881718144433E-3,2.0159654914539998E-2,9.7544881718144433E-3,0.122533584524844,3.5628320911461113E-2,4.5382809083275556E-2,3.5628320911461113E-2]
["Land to the north of Oldnall Road, Halesowen",216,13.6,13.6,0,0,0,{"$f":"I101-#REF!","v":{"$error":"#REF!"}},{"$f":"#REF!/D101","v":{"$error":"#REF!"}},{"$f":"IF(I101>=0.005,I101,IF(#REF!=0,I101,\"<1%\"))","v":{"$error":"#REF!"}},0,0,0,0,0,1,null,0,0,0,0,1.1591510684992999E-2,8.5231696213183817E-4,8.5231696213183817E-4,"<1%",0.12632356243993101,8.4361802760983835E-3,9.2884972382302217E-3,8.4361802760983835E-3]
["Rear of 41 to approx. 59 Greenhill Road, Halesowen",217,1.3,1.3,0,0,0,{"$f":"I102-#REF!","v":{"$error":"#REF!"}},{"$f":"#REF!/D102","v":{"$error":"#REF!"}},{"$f":"IF(I102>=0.005,I102,IF(#REF!=0,I102,\"<1%\"))","v":{"$error":"#REF!"}},0,0,0,0,0,1,null,0,1.6E-2,1.2307692307692308E-2,1.2307692307692308E-2,5.0564699299021E-2,2.6588230230016153E-2,3.8895922537708461E-2,2.6588230230016153E-2,0.10218478583306199,5.2015451180031536E-2,7.8603681410047685E-2,5.2015451180031536E-2]
["Land adjacent to Abbey Road, Halesowen,",218,3.83,3.83,0,0,0,{"$f":"I103-#REF!","v":{"$error":"#REF!"}},{"$f":"#REF!/D103","v":{"$error":"#REF!"}},{"$f":"IF(I103>=0.005,I103,IF(#REF!=0,I103,\"<1%\"))","v":{"$error":"#REF!"}},0,0,0,0,0,1,null,0,6.0243315104798002E-2,1.5729325092636554E-2,1.5729325092636554E-2,6.9477796741195003E-2,2.411091811069712E-3,1.8140416903706266E-2,"<1%",0.116742009532635,2.8069850625649609E-2,3.0480942436719321E-2,2.8069850625649609E-2]
["Land off Lutley Land, adjacent to Brookside Close, Halesowen",219,3.81,3.81,0.724566504,0.72,0.1889763779527559,{"$f":"I104-#REF!","v":{"$error":"#REF!"}},{"$f":"#REF!/D104","v":{"$error":"#REF!"}},{"$f":"IF(I104>=0.005,I104,IF(#REF!=0,I104,\"<1%\"))","v":{"$error":"#REF!"}},0.79419700961124695,0.79,7.0000000000000062E-2,0.20734908136482941,0.20734908136482941,0.79265091863517056,null,0,7.1656713664178001E-2,1.8807536394797375E-2,1.8807536394797375E-2,0.119608691866366,1.2585821050443043E-2,3.1393357445240418E-2,1.2585821050443043E-2,0.33967895749431098,7.656876096906115E-2,8.91545820195042E-2,7.656876096906115E-2]
["Chester Road North, Borwnhills, Walsall",220,2.2000000000000002,2.2000000000000002,0,0,0,{"$f":"I105-#REF!","v":{"$error":"#REF!"}},{"$f":"#REF!/D105","v":{"$error":"#REF!"}},{"$f":"IF(I105>=0.005,I105,IF(#REF!=0,I105,\"<1%\"))","v":{"$error":"#REF!"}},0,0,0,0,0,1,null,0,2.4846069999970001E-2,1.1293668181804545E-2,1.1293668181804545E-2,3.8893199999817003E-2,6.3850590908395444E-3,1.767872727264409E-2,6.3850590908395444E-3,9.0697639828693999E-2,3.4841140831294089E-2,4.1226199922133631E-2,3.4841140831294089E-2]
["Land to the rear of 118 Little Hardwick Road, Streetly",222,0.68,0.68,0,0,0,{"$f":"I106-#REF!","v":{"$error":"#REF!"}},{"$f":"#REF!/D106","v":{"$error":"#REF!"}},{"$f":"IF(I106>=0.005,I106,IF(#REF!=0,I106,\"<1%\"))","v":{"$error":"#REF!"}},0,0,0,0,0,1,null,0,0,0,0,0,0,0,0,9.1368799067556003E-2,0.13436588098169999,0.13436588098169999,0.13436588098169999]
["Peak House Farm, Great Barr",115,27,27,0,0,0,{"$f":"I107-#REF!","v":{"$error":"#REF!"}},{"$f":"#REF!/D107","v":{"$error":"#REF!"}},{"$f":"IF(I107>=0.005,I107,IF(#REF!=0,I107,\"<1%\"))","v":{"$error":"#REF!"}},0,0,0,0,0,1,null,0,0.107071346532618,3.9656054271339997E-3,"<1%",0.311403213217882,7.5678469142690377E-3,1.1533452341403037E-2,7.5678469142690377E-3,1.84106300018684,6.0619671611169476E-2,6.8187518525438515E-2,6.0619671611169476E-2]
["Land to the north of Northfields Way, Clayhanger, Borwnhills, Walsall",221,1.87,1.87,0,0,0,{"$f":"I108-#REF!","v":{"$error":"#REF!"}},{"$f":"#REF!/D108","v":{"$error":"#REF!"}},{"$f":"IF(I108>=0.005,I108,IF(#REF!=0,I108,\"<1%\"))","v":{"$error":"#REF!"}},0,0,0,0,0,1,null,0,1.3504499999993E-2,7.2216577540069509E-3,7.2216577540069509E-3,3.7749238825716E-2,1.2965100976322461E-2,2.0186758730329411E-2,1.2965100976322461E-2,0.20271101729992,9.5436512553046512E-2,0.10840161352936897,9.5436512553046512E-2]
["Hay Green / Lewis Rd, Lye",224,4.1399999999999997,4.1399999999999997,0,0,0,{"$f":"I109-#REF!","v":{"$error":"#REF!"}},{"$f":"#REF!/D109","v":{"$error":"#REF!"}},{"$f":"IF(I109>=0.005,I109,IF(#REF!=0,I109,\"<1%\"))","v":{"$error":"#REF!"}},0,0,0,0,0,1,null,0,0.26295312690908901,6.3515248045673683E-2,6.3515248045673683E-2,0.56442679118511896,7.2819725670538626E-2,0.13633497371621231,7.2819725670538626E-2,0.99254880746155705,0.16692636308829159,0.23974608875883022,0.16692636308829159]
["Land south of Cradley Town FC",225,1.26,1.26,0,0,0,{"$f":"I110-#REF!","v":{"$error":"#REF!"}},{"$f":"#REF!/D110","v":{"$error":"#REF!"}},{"$f":"IF(I110>=0.005,I110,IF(#REF!=0,I110,\"<1%\"))","v":{"$error":"#REF!"}},0,0,0,0,0,1,null,0,0,0,0,0,0,0,0,2.6577130547696001E-2,2.1092960752139681E-2,2.1092960752139681E-2,2.1092960752139681E-2]
["High Farm Road, Halesowen",226,0.37,0.37,0,0,0,{"$f":"I111-#REF!","v":{"$error":"#REF!"}},{"$f":"#REF!/D111","v":{"$error":"#REF!"}},{"$f":"IF(I111>=0.005,I111,IF(#REF!=0,I111,\"<1%\"))","v":{"$error":"#REF!"}},0,0,0,0,0,1,null,0,0,0,0,0,0,0,0,0,0,0,0]
["Lapwood Avenue Kingswinford",227,1.38,1.38,0,0,0,{"$f":"I112-#REF!","v":{"$error":"#REF!"}},{"$f":"#REF!/D112","v":{"$error":"#REF!"}},{"$f":"IF(I112>=0.005,I112,IF(#REF!=0,I112,\"<1%\"))","v":{"$error":"#REF!"}},0,0,0,0,0,1,null,0,6.4770660026100005E-2,4.693526088847827E-2,4.693526088847827E-2,0.15280116659234699,6.3790222149454345E-2,0.11072548303793261,6.3790222149454345E-2,0.38415276678413302,0.21458134798397538,0.27837157013342972,0.21458134798397538]
["Land off Cradley Rd Netherton",228,1.74,1.74,0,0,0,{"$f":"I113-#REF!","v":{"$error":"#REF!"}},{"$f":"#REF!/D113","v":{"$error":"#REF!"}},{"$f":"IF(I113>=0.005,I113,IF(#REF!=0,I113,\"<1%\"))","v":{"$error":"#REF!"}},0,0,0,0,0,1,null,0,0,0,0,3.3795986480491001E-2,1.9422980735914367E-2,1.9422980735914367E-2,1.9422980735914367E-2,0.23789689823401899,0.1172993745709931,0.13672235530690746,0.1172993745709931]
["land off Bowling Green Rd Stourbridge",229,0.62,0.62,0,0,0,{"$f":"I114-#REF!","v":{"$error":"#REF!"}},{"$f":"#REF!/D114","v":{"$error":"#REF!"}},{"$f":"IF(I114>=0.005,I114,IF(#REF!=0,I114,\"<1%\"))","v":{"$error":"#REF!"}},0,0,0,0,0,1,null,0,0,0,0,0,0,0,0,0,0,0,0]
["Seymore Rd Wollescote",230,0.2,0.2,0,0,0,{"$f":"I115-#REF!","v":{"$error":"#REF!"}},{"$f":"#REF!/D115","v":{"$error":"#REF!"}},{"$f":"IF(I115>=0.005,I115,IF(#REF!=0,I115,\"<1%\"))","v":{"$error":"#REF!"}},0,0,0,0,0,1,null,0,0,0,0,0,0,0,0,0,0,0,0]
["Bank St / Bent St Brierley Hill",231,0.15,0.15,0,0,0,{"$f":"I116-#REF!","v":{"$error":"#REF!"}},{"$f":"#REF!/D116","v":{"$error":"#REF!"}},{"$f":"IF(I116>=0.005,I116,IF(#REF!=0,I116,\"<1%\"))","v":{"$error":"#REF!"}},0,0,0,0,0,1,null,0,0,0,0,0,0,0,0,0,0,0,0]
["Balfour Rd Kingswinford",232,0.75,0.75,0,0,0,{"$f":"I117-#REF!","v":{"$error":"#REF!"}},{"$f":"#REF!/D117","v":{"$error":"#REF!"}},{"$f":"IF(I117>=0.005,I117,IF(#REF!=0,I117,\"<1%\"))","v":{"$error":"#REF!"}},0.15221084785679101,0.15,0.15,0.19999999999999998,0.19999999999999998,0.8,null,0,0,0,0,0,0,0,0,5.0702629940600004E-4,6.7603506587466668E-4,6.7603506587466668E-4,"<1%"]
["Brompton Drive Brierley Hill",233,3.43,3.43,0,0,0,{"$f":"I118-#REF!","v":{"$error":"#REF!"}},{"$f":"#REF!/D118","v":{"$error":"#REF!"}},{"$f":"IF(I118>=0.005,I118,IF(#REF!=0,I118,\"<1%\"))","v":{"$error":"#REF!"}},0,0,0,0,0,1,null,0,0,0,0,0,0,0,0,5.0900705329747997E-2,1.4839855781267636E-2,1.4839855781267636E-2,1.4839855781267636E-2]
["Woodbury Close, Brielery Hill",234,1.5,1.5,0,0,0,{"$f":"I119-#REF!","v":{"$error":"#REF!"}},{"$f":"#REF!/D119","v":{"$error":"#REF!"}},{"$f":"IF(I119>=0.005,I119,IF(#REF!=0,I119,\"<1%\"))","v":{"$error":"#REF!"}},0,0,0,0,0,1,null,0,3.7078756039749999E-2,2.4719170693166665E-2,2.4719170693166665E-2,5.5945007529367E-2,1.2577500993078004E-2,3.7296671686244669E-2,1.2577500993078004E-2,0.13473458189220799,7.7245553601727329E-2,8.9823054594805329E-2,7.7245553601727329E-2]
["Bryce Road, Pernsnett",235,4.7300000000000004,4.7300000000000004,0,0,0,{"$f":"I120-#REF!","v":{"$error":"#REF!"}},{"$f":"#REF!/D120","v":{"$error":"#REF!"}},{"$f":"IF(I120>=0.005,I120,IF(#REF!=0,I120,\"<1%\"))","v":{"$error":"#REF!"}},0,0,0,0,0,1,null,0,7.9251283090539994E-3,1.6755028137534881E-3,"<1%",2.7627605475570999E-2,4.1654285764306555E-3,5.8409313901841434E-3,"<1%",0.59569134114151501,0.12177354418076067,0.12593897275719132,0.12177354418076067]
["Enville Street Stourbridge",236,0.42,0.42,0,0,0,{"$f":"I121-#REF!","v":{"$error":"#REF!"}},{"$f":"#REF!/D121","v":{"$error":"#REF!"}},{"$f":"IF(I121>=0.005,I121,IF(#REF!=0,I121,\"<1%\"))","v":{"$error":"#REF!"}},0,0,0,0,0,1,null,0,0,0,0,0,0,0,0,0,0,0,0]
[" Kingswinford Youth Centre, High Street, Kingswinford",237,4.68,4.68,0,0,0,{"$f":"I122-#REF!","v":{"$error":"#REF!"}},{"$f":"#REF!/D122","v":{"$error":"#REF!"}},{"$f":"IF(I122>=0.005,I122,IF(#REF!=0,I122,\"<1%\"))","v":{"$error":"#REF!"}},0,0,0,0,0,1,null,0,1.04E-2,2.2222222222222222E-3,"<1%",6.7870277260233994E-2,1.2279973773554272E-2,1.4502195995776495E-2,1.2279973773554272E-2,0.31339437811807502,5.4684636935436112E-2,6.6964610708990388E-2,5.4684636935436112E-2]
["Land off Back Lane, Walsall",239,18.100000000000001,18.100000000000001,0,0,0,{"$f":"I123-#REF!","v":{"$error":"#REF!"}},{"$f":"#REF!/D123","v":{"$error":"#REF!"}},{"$f":"IF(I123>=0.005,I123,IF(#REF!=0,I123,\"<1%\"))","v":{"$error":"#REF!"}},0,0,0,0,0,1,null,0,0,0,0,0,0,0,0,0,0,0,0]
["Located off Elan Road, Sedgley",240,3.46,3.46,0,0,0,{"$f":"I124-#REF!","v":{"$error":"#REF!"}},{"$f":"#REF!/D124","v":{"$error":"#REF!"}},{"$f":"IF(I124>=0.005,I124,IF(#REF!=0,I124,\"<1%\"))","v":{"$error":"#REF!"}},0,0,0,0,0,1,null,0,0.15985465045539801,4.6200766027571678E-2,4.6200766027571678E-2,0.26750668844095599,3.1113305776172821E-2,7.73140718037445E-2,3.1113305776172821E-2,0.66546936292451997,0.16121888004016244,0.19233218581633527,0.16121888004016244]
["Land adjacent to Anvil Crescent, Cannon Drive and Poole Crescent, Coseley",241,3.34,3.34,0,0,0,{"$f":"I125-#REF!","v":{"$error":"#REF!"}},{"$f":"#REF!/D125","v":{"$error":"#REF!"}},{"$f":"IF(I125>=0.005,I125,IF(#REF!=0,I125,\"<1%\"))","v":{"$error":"#REF!"}},0,0,0,0,0,1,null,0,0.01,2.9940119760479044E-3,"<1%",3.4145820588673E-2,7.2292876013991024E-3,1.0223299577447007E-2,7.2292876013991024E-3,0.236163199891749,6.3478257276370062E-2,7.070754487776916E-2,6.3478257276370062E-2]
["Land located off Higgins Avenue, Harding Street, Coseley",242,1.37,1.37,0,0,0,{"$f":"I126-#REF!","v":{"$error":"#REF!"}},{"$f":"#REF!/D126","v":{"$error":"#REF!"}},{"$f":"IF(I126>=0.005,I126,IF(#REF!=0,I126,\"<1%\"))","v":{"$error":"#REF!"}},0,0,0,0,0,1,null,0,1.7009131294640999E-2,1.2415424302657662E-2,1.2415424302657662E-2,3.4024547892748003E-2,1.2420012115406573E-2,2.4835436418064235E-2,1.2420012115406573E-2,0.12344403211638399,7.7685120816260569E-2,9.0105132931667137E-2,7.7685120816260569E-2]
["Green space land off Downfield Road, Gornal.",243,3.37,3.37,0,0,0,{"$f":"I127-#REF!","v":{"$error":"#REF!"}},{"$f":"#REF!/D127","v":{"$error":"#REF!"}},{"$f":"IF(I127>=0.005,I127,IF(#REF!=0,I127,\"<1%\"))","v":{"$error":"#REF!"}},0,0,0,0,0,1,null,0,0.10098976896648799,2.9967290494506822E-2,2.9967290494506822E-2,0.181588500411451,2.3916537520760537E-2,5.3883828015267358E-2,2.3916537520760537E-2,0.52066219236738498,0.13058262935383441,0.15449916687459495,0.13058262935383441]
["Grazing Land Wollaston Farm, Wollaston, Stourbridge",245,3.77,3.77,0,0,0,{"$f":"I128-#REF!","v":{"$error":"#REF!"}},{"$f":"#REF!/D128","v":{"$error":"#REF!"}},{"$f":"IF(I128>=0.005,I128,IF(#REF!=0,I128,\"<1%\"))","v":{"$error":"#REF!"}},0,0,0,0,0,1,null,0,0.33662707962522997,8.9291002553111398E-2,8.9291002553111398E-2,0.42841349239633703,2.4346528586500549E-2,0.11363753113961195,2.4346528586500549E-2,0.61118993934388999,0.13777281871957106,0.16211934730607161,0.13777281871957106]
["Lower Gornal STW, Lower Gornal",246,10.67,10.67,2.9677419E-2,0.03,2.8116213683223993E-3,{"$f":"I129-#REF!","v":{"$error":"#REF!"}},{"$f":"#REF!/D129","v":{"$error":"#REF!"}},{"$f":"IF(I129>=0.005,I129,IF(#REF!=0,I129,\"<1%\"))","v":{"$error":"#REF!"}},3.2294031695566001E-2,0.03,0,2.8116213683223993E-3,"<1%",0.99718837863167764,null,0,0.21462829773542,2.0115116938652297E-2,2.0115116938652297E-2,0.37489667851944403,1.5020466802626434E-2,3.5135583741278731E-2,1.5020466802626434E-2,1.06679348858184,8.4960178800170191E-2,9.9980645602796625E-2,8.4960178800170191E-2]
["Guys Lane, Lower Gornal",247,1.05,1.05,0,0,0,{"$f":"I130-#REF!","v":{"$error":"#REF!"}},{"$f":"#REF!/D130","v":{"$error":"#REF!"}},{"$f":"IF(I130>=0.005,I130,IF(#REF!=0,I130,\"<1%\"))","v":{"$error":"#REF!"}},0,0,0,{"$f":"L130/D130","v":0},0,{"$f":"1-N130","v":1},null,{"$f":"Q130/C130","v":0},5.5696469994344001E-2,5.3044257137470477E-2,5.3044257137470477E-2,9.1556928590183995E-2,{"$f":"X130-T130","v":3.4152817710323802E-2},{"$f":"V130/C130","v":8.7197074847794279E-2},3.4152817710323802E-2,0.15162747837735199,0.11025430455382096,{"$f":"Z130/C130","v":0.14440712226414476},0.11025430455382096]
["Land off Tenacre Lane, Lower Gornal, DY3 1XH",248,1.56,{"$f":"ROUND(C131,2)","v":1.56},0,{"$f":"ROUND(E131,2)","v":0},{"$f":"F131/D131","v":0},{"$f":"I131-#REF!","v":{"$error":"#REF!"}},{"$f":"#REF!/D131","v":{"$error":"#REF!"}},{"$f":"IF(I131>=0.005,I131,IF(#REF!=0,I131,\"<1%\"))","v":{"$error":"#REF!"}},0,{"$f":"ROUND(K131,2)","v":0},{"$f":"L131-F131","v":0},0,{"$f":"IF(N131>=0.005,N131,IF(K131=0,N131,\"<1%\"))","v":0},1,null,0,5.0723274842421E-2,{"$f":"S131/C131","v":3.2514919770782691E-2},{"$f":"IF(T131>=0.005,T131,IF(S131=0,T131,\"<1%\"))","v":3.2514919770782691E-2},0.10616401116862,3.5538933542435258E-2,6.8053853313217949E-2,{"$f":"IF(W131>=0.005,W131,IF(V131=0,W131,\"<1%\"))","v":3.5538933542435258E-2},0.31161154552986398,{"$f":"AB131-W131","v":0.16421205718183651},0.19975099072427177,{"$f":"IF(AA131>=0.005,AA131,IF(Z131=0,AA131,\"<1%\"))","v":0.16421205718183651}]
["Furber Place, Kingswinford, DY6 8DE",249,2.52,2.52,0,0,0,{"$f":"I132-#REF!","v":{"$error":"#REF!"}},{"$f":"#REF!/D132","v":{"$error":"#REF!"}},{"$f":"IF(I132>=0.005,I132,IF(#REF!=0,I132,\"<1%\"))","v":{"$error":"#REF!"}},0,0,0,0,0,1,null,0,0,0,0,1.44E-2,5.7142857142857143E-3,5.7142857142857143E-3,5.7142857142857143E-3,7.3647412995827999E-2,2.351087817294762E-2,2.9225163887233334E-2,2.351087817294762E-2]
["Severn Drive, Pensnett, DY5 4QS",250,0.95,0.95,0,0,0,{"$f":"I133-#REF!","v":{"$error":"#REF!"}},{"$f":"#REF!/D133","v":{"$error":"#REF!"}},{"$f":"IF(I133>=0.005,I133,IF(#REF!=0,I133,\"<1%\"))","v":{"$error":"#REF!"}},0,0,0,0,0,1,null,0,0,0,0,0,0,0,0,4.1482763643379002E-2,4.3666066993030529E-2,4.3666066993030529E-2,4.3666066993030529E-2]
["Pensnett Road, Pensnett, DY5 4NE",251,1.42,1.42,0,0,0,{"$f":"I134-#REF!","v":{"$error":"#REF!"}},{"$f":"#REF!/D134","v":{"$error":"#REF!"}},{"$f":"IF(I134>=0.005,I134,IF(#REF!=0,I134,\"<1%\"))","v":{"$error":"#REF!"}},0,0,0,0,0,1,null,0,9.9048079638555997E-2,6.9752168759546485E-2,6.9752168759546485E-2,0.26541888635324101,0.11716253993991901,0.1869147086994655,0.11716253993991901,0.70150711800495302,0.37685655724666767,0.49401909718658665,0.37685655724666767]
["Vicarage Lane, Pensnett",252,2.4900000000000002,2.4900000000000002,0,0,0,{"$f":"I135-#REF!","v":{"$error":"#REF!"}},{"$f":"#REF!/D135","v":{"$error":"#REF!"}},{"$f":"IF(I135>=0.005,I135,IF(#REF!=0,I135,\"<1%\"))","v":{"$error":"#REF!"}},0,0,0,0,0,1,null,0,6.2298917112959998E-2,2.5019645426891564E-2,2.5019645426891564E-2,0.10645522827583299,1.7733458298342566E-2,4.275310372523413E-2,1.7733458298342566E-2,0.166109185754201,4.8977058068806423E-2,6.6710516367148989E-2,4.8977058068806423E-2]
["Park Head Locks, Off Holly Hall Road, Dudley, DY2 0UN",253,2.67,2.67,0,0,0,{"$f":"I136-#REF!","v":{"$error":"#REF!"}},{"$f":"#REF!/D136","v":{"$error":"#REF!"}},{"$f":"IF(I136>=0.005,I136,IF(#REF!=0,I136,\"<1%\"))","v":{"$error":"#REF!"}},0,0,0,0,0,1,null,0,0,0,0,0,0,0,0,0.119214524107145,4.4649634497058055E-2,4.4649634497058055E-2,4.4649634497058055E-2]
["Elizabeth Grove, Tansley Hill, Dudley, DY2 7TG",254,1.04,1.04,0,0,0,{"$f":"I137-#REF!","v":{"$error":"#REF!"}},{"$f":"#REF!/D137","v":{"$error":"#REF!"}},{"$f":"IF(I137>=0.005,I137,IF(#REF!=0,I137,\"<1%\"))","v":{"$error":"#REF!"}},0,0,0,0,0,1,null,0,0,0,0,0,0,0,0,0,0,0,0]
["Brierley Hill Road/Cooper Avenue, Brierley Hill, DY5 3PB",255,4.7300000000000004,4.7300000000000004,0,0,0,{"$f":"I138-#REF!","v":{"$error":"#REF!"}},{"$f":"#REF!/D138","v":{"$error":"#REF!"}},{"$f":"IF(I138>=0.005,I138,IF(#REF!=0,I138,\"<1%\"))","v":{"$error":"#REF!"}},0,0,0,0,0,1,null,0,3.7841127525179999E-2,8.0002383774164902E-3,8.0002383774164902E-3,0.189611118566443,3.2086678867074628E-2,4.0086917244491115E-2,3.2086678867074628E-2,0.56095924282580401,8.6509355556985398E-2,0.11859603442406003,8.6509355556985398E-2]
["Lodge Crescent/Highbridge Road, Netherton, DY2 0HF",256,1.63,1.63,0,0,0,{"$f":"I139-#REF!","v":{"$error":"#REF!"}},{"$f":"#REF!/D139","v":{"$error":"#REF!"}},{"$f":"IF(I139>=0.005,I139,IF(#REF!=0,I139,\"<1%\"))","v":{"$error":"#REF!"}},0,0,0,0,0,1,null,0,0,0,0,0,0,0,0,4.9158337118369998E-2,3.0158489029674846E-2,3.0158489029674846E-2,3.0158489029674846E-2]
["Copse Road, Netherton, DY2 0AJ",257,0.76,0.76,0,0,0,{"$f":"I140-#REF!","v":{"$error":"#REF!"}},{"$f":"#REF!/D140","v":{"$error":"#REF!"}},{"$f":"IF(I140>=0.005,I140,IF(#REF!=0,I140,\"<1%\"))","v":{"$error":"#REF!"}},0,0,0,0,0,1,null,0,0,0,0,0,0,0,0,2.4303581475290999E-2,3.197839667801447E-2,3.197839667801447E-2,3.197839667801447E-2]
["Saltwells Road, Netherton, DY2  9RR",258,1.23,1.23,0,0,0,{"$f":"I141-#REF!","v":{"$error":"#REF!"}},{"$f":"#REF!/D141","v":{"$error":"#REF!"}},{"$f":"IF(I141>=0.005,I141,IF(#REF!=0,I141,\"<1%\"))","v":{"$error":"#REF!"}},0,0,0,0,0,1,null,0,1.136815950071E-3,9.2424060981382108E-4,"<1%",2.2146552206980001E-3,8.7629208994065061E-4,1.8005326997544717E-3,"<1%",9.7084666585330007E-2,7.8054331150165052E-2,7.8930623240105705E-2,7.8054331150165052E-2]
["Charles Road, Quarry Bank., DY5 1AG",259,0.72,0.72,0,0,0,{"$f":"I142-#REF!","v":{"$error":"#REF!"}},{"$f":"#REF!/D142","v":{"$error":"#REF!"}},{"$f":"IF(I142>=0.005,I142,IF(#REF!=0,I142,\"<1%\"))","v":{"$error":"#REF!"}},0,0,0,0,0,1,null,0,2.2831292075629998E-3,3.1710127882819445E-3,"<1%",6.0848322168700003E-3,5.2801430684819451E-3,8.4511558567638891E-3,5.2801430684819451E-3,2.3675817611949999E-2,2.7602936948115282E-2,3.2883080016597226E-2,2.7602936948115282E-2]
["Charlemont Community Centre, Beaconview Road, West Bromwich",263,0.05,0.05,0,0,0,{"$f":"I143-#REF!","v":{"$error":"#REF!"}},{"$f":"#REF!/D143","v":{"$error":"#REF!"}},{"$f":"IF(I143>=0.005,I143,IF(#REF!=0,I143,\"<1%\"))","v":{"$error":"#REF!"}},0,0,0,0,0,1,null,0,0,0,0,0,0,0,0,0,0,0,0]
["Three Fields, Dunsley Road, Norton, Stourbridge, DY8 3LR",264,4.59,4.59,0,0,0,{"$f":"I144-#REF!","v":{"$error":"#REF!"}},{"$f":"#REF!/D144","v":{"$error":"#REF!"}},{"$f":"IF(I144>=0.005,I144,IF(#REF!=0,I144,\"<1%\"))","v":{"$error":"#REF!"}},0,0,0,0,0,1,null,0,0,0,0,0,0,0,0,0,0,0,0]
["Portway Close, Kingswinford, DY6 8HD",265,1.54,1.54,0,0,0,{"$f":"I145-#REF!","v":{"$error":"#REF!"}},{"$f":"#REF!/D145","v":{"$error":"#REF!"}},{"$f":"IF(I145>=0.005,I145,IF(#REF!=0,I145,\"<1%\"))","v":{"$error":"#REF!"}},0,0,0,0,0,1,null,0,0,0,0,0,0,0,0,0,0,0,0]
["Mob Lane, Pelsall, Walsall",266,40.11,40.11,0,0,0,{"$f":"I146-#REF!","v":{"$error":"#REF!"}},{"$f":"#REF!/D146","v":{"$error":"#REF!"}},{"$f":"IF(I146>=0.005,I146,IF(#REF!=0,I146,\"<1%\"))","v":{"$error":"#REF!"}},0,0,0,0,0,1,null,0,6.6160760502400001E-4,1.6494829344901522E-5,"<1%",1.0481996079629999E-3,9.6382947628770856E-6,2.6133124107778608E-5,"<1%",0.11367466438951,2.8244346144744702E-3,2.8340729092373473E-3,"<1%"]
["Tenacre Lane, Eve lane, Dudley, DY1 2TU",267,3.96,3.96,0,0,0,{"$f":"I147-#REF!","v":{"$error":"#REF!"}},{"$f":"#REF!/D147","v":{"$error":"#REF!"}},{"$f":"IF(I147>=0.005,I147,IF(#REF!=0,I147,\"<1%\"))","v":{"$error":"#REF!"}},0,0,0,0,0,1,null,0,0.101311645793079,2.5583748937646211E-2,2.5583748937646211E-2,0.197977202487889,2.4410494114851012E-2,4.9994243052497223E-2,2.4410494114851012E-2,0.35484927370789998,6.5197908336638882E-2,8.9608402451489891E-2,6.5197908336638882E-2]
["Land to the South of Bentley Lane, Willenhall, Walsall",269,11.31,11.31,0,0,0,{"$f":"I148-#REF!","v":{"$error":"#REF!"}},{"$f":"#REF!/D148","v":{"$error":"#REF!"}},{"$f":"IF(I148>=0.005,I148,IF(#REF!=0,I148,\"<1%\"))","v":{"$error":"#REF!"}},0,0,0,0,0,1,null,0,0.119216755972958,1.0540827230146595E-2,1.0540827230146595E-2,0.17157007105825001,4.6289403258436782E-3,1.5169767555990274E-2,"<1%",0.29620419490286398,2.1560643662031122E-2,2.6189583987874798E-2,2.1560643662031122E-2]
["Land off Wynall Lane South, Wollescote, DY9 9AJ",271,0.88,0.88,0,0,0,{"$f":"I149-#REF!","v":{"$error":"#REF!"}},{"$f":"#REF!/D149","v":{"$error":"#REF!"}},{"$f":"IF(I149>=0.005,I149,IF(#REF!=0,I149,\"<1%\"))","v":{"$error":"#REF!"}},0,0,0,0,0,1,null,0,0,0,0,2.22534917891E-4,2.528805885125E-4,2.528805885125E-4,"<1%",1.679959376841E-3,1.6561641578977271E-3,1.9090447464102272E-3,"<1%"]
["Oxley Park Golf Club land adjacent to 1A Ribbesford Avenue, Wolverhampton, WV10 6DU",270,0.06,0.06,0,0,0,{"$f":"I150-#REF!","v":{"$error":"#REF!"}},{"$f":"#REF!/D150","v":{"$error":"#REF!"}},{"$f":"IF(I150>=0.005,I150,IF(#REF!=0,I150,\"<1%\"))","v":{"$error":"#REF!"}},0,0,0,0,0,1,null,0,0,0,0,0,0,0,0,0,0,0,0,7.6331530481000003E-4,{"$f":"AD150/C150","v":1.2721921746833334E-2},7.6331499999999998E-4,{"$f":"AF150/C150","v":1.2721916666666666E-2},{"$f":"AG150-AE150","v":-5.0801666675454049E-9}]
["Land off Timmis Road, Lye",273,0.63,0.63,0,0,0,{"$f":"I151-#REF!","v":{"$error":"#REF!"}},{"$f":"#REF!/D151","v":{"$error":"#REF!"}},{"$f":"IF(I151>=0.005,I151,IF(#REF!=0,I151,\"<1%\"))","v":{"$error":"#REF!"}},0,0,0,0,0,1,null,0,9.2574001047720008E-3,1.4694285880590477E-2,1.4694285880590477E-2,4.1369059911305003E-2,5.0970888581798421E-2,6.5665174462388898E-2,5.0970888581798421E-2,0.61335662810441705,0.92261106079029209,0.97358194937209053,0.92261106079029209]
["Ketley Farm, Dudley Road, Kingswinford",274,1.1499999999999999,1.1499999999999999,0,0,0,{"$f":"I152-#REF!","v":{"$error":"#REF!"}},{"$f":"#REF!/D152","v":{"$error":"#REF!"}},{"$f":"IF(I152>=0.005,I152,IF(#REF!=0,I152,\"<1%\"))","v":{"$error":"#REF!"}},0,0,0,0,0,1,null,0,0,0,0,1.4E-2,1.2173913043478262E-2,1.2173913043478262E-2,1.2173913043478262E-2,4.9086652028835998E-2,3.0510132198987822E-2,4.2684045242466086E-2,3.0510132198987822E-2]
["Land off Cradley Road, DY2 9SW",275,0.39,0.39,0,0,0,{"$f":"I153-#REF!","v":{"$error":"#REF!"}},{"$f":"#REF!/D153","v":{"$error":"#REF!"}},{"$f":"IF(I153>=0.005,I153,IF(#REF!=0,I153,\"<1%\"))","v":{"$error":"#REF!"}},0,0,0,0,0,1,null,0,0,0,0,0.31263464236815802,0.80162728812348205,0.80162728812348205,0.80162728812348205,0.38661636929628901,0.18969673571315637,0.99132402383663842,0.18969673571315637]
["Land at Greenwood Road and Lazy Hill Road, Aldridge, Walsall",277,2.65,2.65,0,0,0,{"$f":"I154-#REF!","v":{"$error":"#REF!"}},{"$f":"#REF!/D154","v":{"$error":"#REF!"}},{"$f":"IF(I154>=0.005,I154,IF(#REF!=0,I154,\"<1%\"))","v":{"$error":"#REF!"}},0,0,0,0,0,1,null,0,0,0,0,0,0,0,0,3.0921348449999998E-5,1.1668433377358491E-5,1.1668433377358491E-5,"<1%"]
["Open Space at Grassy Lane, Wolverhampton",278,3.2,3.2,0,0,0,{"$f":"I155-#REF!","v":{"$error":"#REF!"}},{"$f":"#REF!/D155","v":{"$error":"#REF!"}},{"$f":"IF(I155>=0.005,I155,IF(#REF!=0,I155,\"<1%\"))","v":{"$error":"#REF!"}},0,0,0,0,0,1,null,0,0,0,0,0.107956160293891,3.3736300091840934E-2,3.3736300091840934E-2,3.3736300091840934E-2,0.38742377522823401,8.7333629666982188E-2,0.12106992975882312,8.7333629666982188E-2,1.6824605196699999E-2,5.2576891239687496E-3,1.7650875E-2,5.5158984374999998E-3,2.5820931353125014E-4]
["Clent View Road, Stourbridge",280,21.52,21.52,0,0,0,{"$f":"I156-#REF!","v":{"$error":"#REF!"}},{"$f":"#REF!/D156","v":{"$error":"#REF!"}},{"$f":"IF(I156>=0.005,I156,IF(#REF!=0,I156,\"<1%\"))","v":{"$error":"#REF!"}},0,0,0,0,0,1,null,0,0,0,0,0,0,0,0,6.8543017650158994E-2,3.1850844632973509E-3,3.1850844632973509E-3,"<1%"]
[" Aldridge School and land to the south of Bosty Lane",281,64.44,64.44,0,0,0,{"$f":"I157-#REF!","v":{"$error":"#REF!"}},{"$f":"#REF!/D157","v":{"$error":"#REF!"}},{"$f":"IF(I157>=0.005,I157,IF(#REF!=0,I157,\"<1%\"))","v":{"$error":"#REF!"}},0,0,0,0,0,1,null,0,0.60355776644335501,9.3661974929136419E-3,9.3661974929136419E-3,0.96883959297217503,5.6685572087029797E-3,1.5034754701616622E-2,5.6685572087029797E-3,3.2911711910907999,4.5404862888919609E-2,5.1073420097622592E-2,4.5404862888919609E-2]
["Northwood Park Road, Wolverhampton",282,7.3,7.3,0,0,0,{"$f":"I158-#REF!","v":{"$error":"#REF!"}},{"$f":"#REF!/D158","v":{"$error":"#REF!"}},{"$f":"IF(I158>=0.005,I158,IF(#REF!=0,I158,\"<1%\"))","v":{"$error":"#REF!"}},0,0,0,0,0,1,null,0,0,0,0,0,0,0,0,0,0,0,0,0.54730623357899999,7.497345665465753E-2,0.54279873899999997,7.435599164383562E-2,-6.1746501082191041E-4]
["Colton Hills Community School (part of) Playing Field, Wolverhampton",283,5.25,5.25,0,0,0,{"$f":"I159-#REF!","v":{"$error":"#REF!"}},{"$f":"#REF!/D159","v":{"$error":"#REF!"}},{"$f":"IF(I159>=0.005,I159,IF(#REF!=0,I159,\"<1%\"))","v":{"$error":"#REF!"}},0,0,0,0,0,1,null,0,0,0,0,2.4799999999999999E-2,4.7238095238095234E-3,4.7238095238095234E-3,"<1%",0.33781678033568502,5.9622243873463814E-2,6.434605339727334E-2,5.9622243873463814E-2,0.33418531962199999,6.3654346594666664E-2,0.412031437,7.8482178476190476E-2,1.4827831881523812E-2]
[" Land at Former Bushbury Swimming Baths, Sandy Lane, Wolverhampton",284,0.83,0.83,0,0,0,{"$f":"I160-#REF!","v":{"$error":"#REF!"}},{"$f":"#REF!/D160","v":{"$error":"#REF!"}},{"$f":"IF(I160>=0.005,I160,IF(#REF!=0,I160,\"<1%\"))","v":{"$error":"#REF!"}},0,0,0,0,0,1,null,0,0,0,0,0,0,0,0,1.9594890000018999E-2,2.3608301204842169E-2,2.3608301204842169E-2,2.3608301204842169E-2,0.132626565439,0.15979104269759037,0.116068334,0.13984136626506025,-1.9949676432530122E-2]
["Land at Druids Heath Golf Club, Stonnall Road, Walsall",286,0.99,0.99,0,0,0,{"$f":"I161-#REF!","v":{"$error":"#REF!"}},{"$f":"#REF!/D161","v":{"$error":"#REF!"}},{"$f":"IF(I161>=0.005,I161,IF(#REF!=0,I161,\"<1%\"))","v":{"$error":"#REF!"}},0,0,0,0,0,1,null,0,0,0,0,0,0,0,0,0,0,0,0]
[" Land North of Showmen's Caravan Site, Goscote Lane, Pelsall",289,0.23,0.23,0,0,0,{"$f":"I162-#REF!","v":{"$error":"#REF!"}},{"$f":"#REF!/D162","v":{"$error":"#REF!"}},{"$f":"IF(I162>=0.005,I162,IF(#REF!=0,I162,\"<1%\"))","v":{"$error":"#REF!"}},0,0,0,{"$f":"L162/D162","v":0},0,1,null,{"$f":"Q162/C162","v":0},0,0,0,2.9987400049999999E-6,1.3038000021739129E-5,1.3038000021739129E-5,"<1%",2.5119911942279999E-2,0.10920397044467391,0.10921700844469565,0.10920397044467391]
["Land south of Castle Road,,,,, Walsall Wood",285,1.01,1.01,0,0,0,{"$f":"I163-#REF!","v":{"$error":"#REF!"}},{"$f":"#REF!/D163","v":{"$error":"#REF!"}},{"$f":"IF(I163>=0.005,I163,IF(#REF!=0,I163,\"<1%\"))","v":{"$error":"#REF!"}},0,0,0,0,0,1,null,0,0,0,0,0,0,0,0,0,0,0,0]
["Land adj. 74 Perton Road, Wightwick, Wolverhampton",292,0,0,0,0,0,{"$f":"I164-#REF!","v":{"$error":"#REF!"}},{"$f":"#REF!/D164","v":{"$error":"#REF!"}},{"$f":"IF(I164>=0.005,I164,IF(#REF!=0,I164,\"<1%\"))","v":{"$error":"#REF!"}},0,0,0,{"$error":"#DIV/0!"},0,0,null,0,0,{"$error":"#DIV/0!"},{"$error":"#DIV/0!"},0,0,0,0,0,0,0,0,3.90881830281E-2,{"$error":"#DIV/0!"},4.7160819E-2,{"$error":"#DIV/0!"},{"$error":"#DIV/0!"}]
["Land at Vicarage Road / Coronation Road, High Heath, Walsall",279,40.11,40.11,0.31817348600000001,0.32,7.9780603340812769E-3,{"$f":"I165-#REF!","v":{"$error":"#REF!"}},{"$f":"#REF!/D165","v":{"$error":"#REF!"}},{"$f":"IF(I165>=0.005,I165,IF(#REF!=0,I165,\"<1%\"))","v":{"$error":"#REF!"}},3.3403250586861999,3.34,3.02,8.3271004736973325E-2,8.3271004736973325E-2,0.91672899526302665,null,{"$f":"Q165/C165","v":0},0.32270359483160499,8.0454648424733224E-3,8.0454648424733224E-3,0.65389966279135803,8.2571944143543519E-3,{"$f":"V165/C165","v":1.6302659256827674E-2},8.2571944143543519E-3,2.7356560465809001,5.9946646188510269E-2,{"$f":"Z165/C165","v":6.8203840602864621E-2},5.9946646188510269E-2]
["Land at Park Lane, Cradley",296,2.81,2.81,0,0,0,{"$f":"I166-#REF!","v":{"$error":"#REF!"}},{"$f":"#REF!/D166","v":{"$error":"#REF!"}},{"$f":"IF(I166>=0.005,I166,IF(#REF!=0,I166,\"<1%\"))","v":{"$error":"#REF!"}},0,0,0,0,0,1,null,0,3.1199839999899E-2,1.1103145907437367E-2,1.1103145907437367E-2,5.0035889594416003E-2,6.7032204962693964E-3,1.7806366403706763E-2,6.7032204962693964E-3,0.16331521813863101,5.1416074214987187E-2,5.8119294711256583E-2,5.1416074214987187E-2]
["Foxcote Farm, Oldnall Road, Wollescote",295,64.19,64.19,0,0,0,{"$f":"I167-#REF!","v":{"$error":"#REF!"}},{"$f":"#REF!/D167","v":{"$error":"#REF!"}},{"$f":"IF(I167>=0.005,I167,IF(#REF!=0,I167,\"<1%\"))","v":{"$error":"#REF!"}},0,0,0,0,0,1,null,0,0.39281472999984401,6.1195627044686712E-3,6.1195627044686712E-3,0.58018611228454497,2.9190120312307371E-3,9.0385747356994083E-3,"<1%",1.96861426949888,2.7749538669795591E-2,3.066855070102633E-2,2.7749538669795591E-2]
["Oxley Park Golf Club land adjacent to 21 Oxley Links Road",299,0.14000000000000001,0.14000000000000001,0,0,0,{"$f":"I168-#REF!","v":{"$error":"#REF!"}},{"$f":"#REF!/D168","v":{"$error":"#REF!"}},{"$f":"IF(I168>=0.005,I168,IF(#REF!=0,I168,\"<1%\"))","v":{"$error":"#REF!"}},0,0,0,0,0,1,null,0,0,0,0,0,0,0,0,0,0,0,0,2.5016492804600002E-3,1.7868923431857142E-2,2.5016489999999999E-3,1.7868921428571428E-2,-2.0032857143970073E-9]
["Oxley Park Golf Club land adjacent to 139 Oxley Moor Road",298,0.125,0.13,0,0,0,{"$f":"I169-#REF!","v":{"$error":"#REF!"}},{"$f":"#REF!/D169","v":{"$error":"#REF!"}},{"$f":"IF(I169>=0.005,I169,IF(#REF!=0,I169,\"<1%\"))","v":{"$error":"#REF!"}},0,0,0,0,0,1,null,0,0,0,0,8.9269427336809998E-3,7.1415541869447999E-2,7.1415541869447999E-2,7.1415541869447999E-2,1.2577678978827E-2,2.9205889961168005E-2,0.100621431830616,2.9205889961168005E-2,3.5962251376099999E-2,0.28769801100879999,4.3459001999999997E-2,0.34767201599999997,5.9974004991199981E-2]
["land at Albutts Road, Brownhills",297,2.2000000000000002,2.2000000000000002,0,0,0,{"$f":"I170-#REF!","v":{"$error":"#REF!"}},{"$f":"#REF!/D170","v":{"$error":"#REF!"}},{"$f":"IF(I170>=0.005,I170,IF(#REF!=0,I170,\"<1%\"))","v":{"$error":"#REF!"}},0,0,0,0,0,1,null,0,1.04E-2,4.7272727272727267E-3,"<1%",1.2822780592078E-2,1.1012639054900006E-3,5.8285366327627272E-3,"<1%",0.13038130419583499,5.8162965274434993E-2,5.9264229179924993E-2,5.8162965274434993E-2]
["Oxely Golf Club Clubhouse",300,0.75,0.75,0,0,0,{"$f":"I171-#REF!","v":{"$error":"#REF!"}},{"$f":"#REF!/D171","v":{"$error":"#REF!"}},{"$f":"IF(I171>=0.005,I171,IF(#REF!=0,I171,\"<1%\"))","v":{"$error":"#REF!"}},0,0,0,0,0,1,null,0,0,0,0,0,0,0,0,0,0,0,0,1.83976120749E-2,2.4530149433200001E-2,1.8397612000000001E-2,2.4530149333333334E-2,-9.9866667019332667E-11]
["Oxley Golf Club",301,1.75,1.75,0,0,0,{"$f":"I172-#REF!","v":{"$error":"#REF!"}},{"$f":"#REF!/D172","v":{"$error":"#REF!"}},{"$f":"IF(I172>=0.005,I172,IF(#REF!=0,I172,\"<1%\"))","v":{"$error":"#REF!"}},0,0,0,0,0,1,null,0,7.6298879998922001E-2,4.3599359999384003E-2,4.3599359999384003E-2,0.11531326166265,2.2293932379273136E-2,6.589329237865714E-2,2.2293932379273136E-2,0.40790059638062998,0.21079212269537256,0.23308605507464569,0.21079212269537256,0.33112372171999999,0.18921355526857142,0.35390689199999997,0.20223250971428569,1.301895444571427E-2]
["Groundkeepers Compound, Oxley Park Golf Club",303,0.1,0.1,0,0,0,{"$f":"I173-#REF!","v":{"$error":"#REF!"}},{"$f":"#REF!/D173","v":{"$error":"#REF!"}},{"$f":"IF(I173>=0.005,I173,IF(#REF!=0,I173,\"<1%\"))","v":{"$error":"#REF!"}},0,0,0,0,0,1,null,0,0,0,0,0,0,0,0,0,0,0,0,1.82478714001E-4,1.8247871400099999E-3,1.8247900000000001E-4,1.82479E-3,2.8599900000342293E-9]
["Land at Queslett Raod, Great Barr",304,0.56000000000000005,0.56000000000000005,0,0,0,{"$f":"I174-#REF!","v":{"$error":"#REF!"}},{"$f":"#REF!/D174","v":{"$error":"#REF!"}},{"$f":"IF(I174>=0.005,I174,IF(#REF!=0,I174,\"<1%\"))","v":{"$error":"#REF!"}},0,0,0,0,0,1,null,0,0,0,0,0,0,0,0,2.1007790052478E-2,3.7513910807996424E-2,3.7513910807996424E-2,3.7513910807996424E-2]
["Roway Lane, Oldbury",158,3.43,3.43,0,0,0,{"$f":"I175-#REF!","v":{"$error":"#REF!"}},{"$f":"#REF!/D175","v":{"$error":"#REF!"}},{"$f":"IF(I175>=0.005,I175,IF(#REF!=0,I175,\"<1%\"))","v":{"$error":"#REF!"}},0,0,0,0,0,1,null,0,2.5355545184030999E-2,7.3922872256650136E-3,7.3922872256650136E-3,3.8302357380722997E-2,3.7745808153620986E-3,1.1166868041027112E-2,"<1%",0.28274870305038702,7.8659443397578716E-2,8.2434024212940812E-2,7.8659443397578716E-2]
["Walsall Wood",159,3.11,3.11,0,0,0,{"$f":"I176-#REF!","v":{"$error":"#REF!"}},{"$f":"#REF!/D176","v":{"$error":"#REF!"}},{"$f":"IF(I176>=0.005,I176,IF(#REF!=0,I176,\"<1%\"))","v":{"$error":"#REF!"}},0,0,0,0,0,1,null,0,3.5821083811780001E-2,1.151803337999357E-2,1.151803337999357E-2,4.8790449390004001E-2,4.1702140122906756E-3,1.5688247392284246E-2,"<1%",0.16675029709396899,4.9447244860368167E-2,5.3617458872658841E-2,4.9447244860368167E-2]
["Goscote Lodge C, Walsall",156,14.63,14.63,0.44257498499999998,0.44,3.007518796992481E-2,{"$f":"I177-#REF!","v":{"$error":"#REF!"}},{"$f":"#REF!/D177","v":{"$error":"#REF!"}},{"$f":"IF(I177>=0.005,I177,IF(#REF!=0,I177,\"<1%\"))","v":{"$error":"#REF!"}},0.62730364535683203,0.63,0.19,4.3062200956937795E-2,4.3062200956937795E-2,0.9569377990430622,null,0,0.60398592663814998,4.1284068806435405E-2,4.1284068806435405E-2,1.08228124036357,3.2692776057786734E-2,7.3976844864222138E-2,3.2692776057786734E-2,2.49318532639457,0.13772317243124743,0.17041594848903416,0.13772317243124743]
["SHLAA",null,null,null,null,null,null,null,null,null,null,null,null,null,null,null,null,null,null,{"$error":"#DIV/0!"},null,null,null,null,0,null,0,null,0]
["55-77 Lichfield Street, Wolverhampton City Centre",39540,0.121801374999,0.12,0,0,0,null,null,null,0,{"$f":"ROUND(K179,2)","v":0},{"$f":"L179-F179","v":0},{"$f":"L179/D179","v":0},{"$f":"IF(N179>=0.005,N179,IF(K179=0,N179,\"<1%\"))","v":0},{"$f":"1-N179","v":1},null,null,0,0,{"$f":"IF(T179>=0.005,T179,IF(S179=0,T179,\"<1%\"))","v":0},0,{"$f":"X179-T179","v":0},{"$f":"V179/C179","v":0},0,0,0,{"$f":"Z179/C179","v":0},0]
["Springvale Sports and SOther Commitmential Club, Millfields Road",39520,2.8573877021,2.86,0,0,0,null,null,null,0,0,0,0,0,1,null,null,0,0,0,0.206393260539597,7.2231451261552976E-2,7.2231451261552976E-2,7.2231451261552976E-2,1.08188268839993,0.30639504300270604,0.37862649426425904,0.30639504300270604]
["TeleCompleted During 2017/18 House, Church Street, Wolverhampton City Centre",39360,0.5810826161,0.57999999999999996,0,0,0,null,null,null,0,0,0,0,0,1,null,null,0,0,0,0,0,0,0,4.1200000000000001E-2,7.0902138282019758E-2,7.0902138282019758E-2,7.0902138282019758E-2]
["Former Wednesfield High School Playing Fields",39350,7.5725582478,7.57,0,0,0,null,null,null,0,0,0,0,0,1,null,null,0.14804774947631999,1.9550559352822572E-2,1.9550559352822572E-2,0.25704943291229798,1.439430108941657E-2,3.3944860442239141E-2,1.439430108941657E-2,0.64143724005595204,7.0311186681813728E-2,8.4705487771230298E-2,7.0311186681813728E-2]
["Land at Sweetbriar Road / Pump Street",39340,0.16245438500000001,0.16,0,0,0,null,null,null,0,0,0,0,0,1,null,null,0,0,0,0,0,0,0,0,0,0,0]
["Fmr Ettingshall Primary School, Herbert Street",39330,0.82427375344999998,0.82,0,0,0,null,null,null,0,0,0,0,0,1,null,null,0,0,0,1.3714000005300001E-4,1.6637676436863382E-4,1.6637676436863382E-4,"<1%",1.3714000005300001E-4,0,1.6637676436863382E-4,"<1%"]
["Fmr Bilston Leisure Centre, Prouds Lane, Bilston",39320,0.90179846435,0.9,0,0,0,null,null,null,0,0,0,0,0,1,null,null,2.2399980765999E-2,2.4839231437530227E-2,2.4839231437530227E-2,3.9150803112492999E-2,1.8574906709968381E-2,4.3414138147498608E-2,1.8574906709968381E-2,0.17761946481316701,0.17838646751591467,0.19696137422588306,0.17838646751591467]
["The Manse, Leacroft Avenue",39310,0.33530188500000002,0.34,0,0,0,null,null,null,0,0,0,0,0,1,null,null,0,0,0,0,0,0,0,0,0,0,0]
["Land Adjacent To Halfway House 115 Tettenhall Road Wolverhampton West Midlands",39300,0.42291393760000001,0.42,0,0,0,null,null,null,0,0,0,0,0,1,null,null,0,0,0,0,0,0,0,0,0,0,0]
["Land Adjacent To 37 Bowdler Road Wolverhampton West Midlands WV2 1EN",39290,2.0369136449999999E-2,0.02,0,0,0,null,null,null,0,0,0,0,0,1,null,null,0,0,0,0,0,0,0,0,0,0,0]
["Garage Site Behind 23 To 33 Beach Avenue Wolverhampton West Midlands",39280,9.8589074999899995E-2,0.1,0,0,0,null,null,null,0,0,0,0,0,1,null,null,0,0,0,0,0,0,0,0,0,0,0]
["87 Rayleigh Road Wolverhampton West Midlands WV3 0AX",39270,2.1877209049899999E-2,0.02,0,0,0,null,null,null,0,0,0,0,0,1,null,null,0,0,0,0,0,0,0,0,0,0,0]
["Land Formerly 37 - 39 Brooklands Parade Wolverhampton West Midlands WV1 2ND",39260,7.5156575000000003E-2,0.08,0,0,0,null,null,null,0,0,0,0,0,1,null,null,0,0,0,0,0,0,0,0,0,0,0]
["1 Wem Gardens Wolverhampton West Midlands WV11 3HU",39250,3.1660279E-2,0.03,0,0,0,null,null,null,0,0,0,0,0,1,null,null,0,0,0,0,0,0,0,4.2360709991E-5,1.3379765222852268E-3,1.3379765222852268E-3,"<1%"]
["Land North East Of 36 Lord Street Bradley Wolverhampton West Midlands",39240,0.209850175,0.21,0,0,0,null,null,null,0,0,0,0,0,1,null,null,0,0,0,0,0,0,0,4.5009009896769996E-3,2.1448164099348497E-2,2.1448164099348497E-2,2.1448164099348497E-2]
["Medical Massage 37 Thornley Street Wolverhampton West Midlands WV1 1JP",39230,6.2877681500199999E-3,0.01,0,0,0,null,null,null,0,0,0,0,0,1,null,null,0,0,0,0,0,0,0,0,0,0,0]
["651 Stafford Road Wolverhampton West Midlands WV10 6QG",39220,3.4771429999900003E-2,{"$f":"ROUND(C195,2)","v":0.03},0,{"$f":"ROUND(E195,2)","v":0},{"$f":"F195/D195","v":0},null,null,null,0,0,0,0,0,1,null,null,0,{"$f":"S195/C195","v":0},{"$f":"IF(T195>=0.005,T195,IF(S195=0,T195,\"<1%\"))","v":0},0,0,0,{"$f":"IF(W195>=0.005,W195,IF(V195=0,W195,\"<1%\"))","v":0},0,{"$f":"AB195-W195","v":0},0,{"$f":"IF(AA195>=0.005,AA195,IF(Z195=0,AA195,\"<1%\"))","v":0}]
["National Childrens Home 83 Completed During 2017/18pton Road Wolverhampton West Midlands WV3 9QH",39200,0.19797902000000001,0.2,0,0,0,null,null,null,0,0,0,0,0,1,null,null,3.369491893414E-3,1.7019439198224136E-2,1.7019439198224136E-2,9.8226641645789998E-3,3.2595232925008918E-2,4.9614672123233054E-2,3.2595232925008918E-2,3.2876310596164998E-2,0.13346433538765873,0.16605956831266766,0.13346433538765873]
["Land Adjacent To 38 Maple Road Wolverhampton West Midlands WV3 7JD",39190,1.090136955E-2,0.01,0,0,0,null,null,null,0,0,0,0,0,1,null,null,0,0,0,0,0,0,0,6.0715700030000002E-5,5.5695479133628673E-3,5.5695479133628673E-3,5.5695479133628673E-3]
["92 Swan Bank Wolverhampton West Midlands WV4 5PZ",39180,3.5166712750000002E-2,0.04,0,0,0,null,null,null,0,0,0,0,0,1,null,null,0,0,0,0,0,0,0,0,0,0,0]
["73 Bellamy Lane Wolverhampton WV11 1LH",39170,3.9883426800000003E-2,0.04,0,0,0,null,null,null,0,0,0,0,0,1,null,null,0,0,0,0,0,0,0,0,0,0,0]
["1 Kingsway Road Wolverhampton West Midlands WV10 0SD",39160,2.2258282250000001E-2,0.02,0,0,0,null,null,null,0,0,0,0,0,1,null,null,0,0,0,2.042557472328E-3,9.1766177164367663E-2,9.1766177164367663E-2,9.1766177164367663E-2,6.7706643191469996E-3,0.21242011372279188,0.30418629088715954,0.21242011372279188]
["Land Rear Of 88 And 90 Trysull Road (Bamber Close) Wolverhampton West Midlands WV3 7JF",39150,4.7018511700099998E-2,0.05,0,0,0,null,null,null,0,0,0,0,0,1,null,null,0,0,0,2.7793646336398001E-2,0.59112135479054073,0.59112135479054073,0.59112135479054073,4.6882877393811001E-2,0.40599394509061848,0.99711529988115921,0.40599394509061848]
["Primeco Limited 66 - 70 Lichfield Street City Centre Wolverhampton West Midlands WV1 1DB",39140,5.2450684800099998E-2,0.05,0,0,0,null,null,null,0,0,0,0,0,1,null,null,0,0,0,0,0,0,0,0,0,0,0]
["Land Adjacent 186 Mount Road Penn Wolverhampton West Midlands WV4 5RU",39130,2.8907289799999999E-2,0.03,0,0,0,null,null,null,0,0,0,0,0,1,null,null,0,0,0,0,0,0,0,0,0,0,0]
["Land Rear Of 22 Manor Road Penn Wolverhampton West Midlands WV4 5PY",39120,0.15396544130000001,0.15,0,0,0,null,null,null,0,0,0,0,0,1,null,null,9.0864943021999996E-5,5.9016453468249826E-4,"<1%",9.0864943021999996E-5,0,5.9016453468249826E-4,"<1%",2.5906016906300001E-4,1.6825864744428203E-3,1.6825864744428203E-3,"<1%"]
["138 Penn Road Wolverhampton WV3 0DZ",39110,3.2285124999999998E-2,0.03,0,0,0,null,null,null,0,0,0,0,0,1,null,null,0,0,0,0,0,0,0,0,0,0,0]
["Land Between 79A Harrowby Road And Harrowby Road Allotment Site Fordhouses WV10 6EP",39100,0.1050669674,0.11,0,0,0,null,null,null,0,0,0,0,0,1,null,null,0,0,0,0,0,0,0,0,0,0,0]
["Land Between 28A And 54 - 56 Clare Crescent Wolverhampton West Midlands",39090,0.16114225765000001,0.16,0,0,0,null,null,null,0,0,0,0,0,1,null,null,0,0,0,0,0,0,0,4.391156804E-5,2.7250187927350288E-4,2.7250187927350288E-4,"<1%"]
["113 Blackhalve Lane Wolverhampton West Midlands WV11 1AZ",39080,4.7957792200000002E-2,0.05,0,0,0,null,null,null,0,0,0,0,0,1,null,null,0,0,0,0,0,0,0,0,0,0,0]
["Little Orchard Perton Road Wolverhampton West Midlands WV6 8DP",39070,0.37226865999999997,0.37,0,0,0,null,null,null,0,0,0,0,0,1,null,null,0,0,0,0,0,0,0,0,0,0,0]
["Land Adjacent 35 East Croft Road Wolverhampton West Midlands WV4 4NL",39060,2.34566968499E-2,0.02,0,0,0,null,null,null,0,0,0,0,0,1,null,null,0,0,0,0,0,0,0,0,0,0,0]
["10 Lever Street Wolverhampton West Midlands WV2 1AL",39050,1.20238095E-2,0.01,0,0,0,null,null,null,0,0,0,0,0,1,null,null,0,0,0,0,0,0,0,0,0,0,0]
["143-145 Aldersley Road Wolverhampton West Midlands WV6 9NF",39040,5.1599460700000002E-2,0.05,0,0,0,null,null,null,0,0,0,0,0,1,null,null,0,0,0,0,0,0,0,0,0,0,0]
["38 Rupert Street Wolverhampton West Midlands WV3 9NS",39030,5.695602365E-2,0.06,0,0,0,null,null,null,0,0,0,0,0,1,null,null,0,0,0,0,0,0,0,0,0,0,0]
["Flat 1 110 Hurst Road Lanesfield Wolverhampton West Midlands WV14 9EU",39020,2.96242E-2,0.03,0,0,0,null,null,null,0,0,0,0,0,1,null,null,0,0,0,0,0,0,0,0,0,0,0]
["Bramerton Childrens Residential Home 17 Bramerton Close Wolverhampton West Midlands WV11 1RT",39010,4.5252252899999998E-2,0.05,0,0,0,null,null,null,0,0,0,0,0,1,null,null,0,0,0,0,0,0,0,0,0,0,0]
["The Former British Legion Club Penn Road Wolverhampton West Midlands WV4 5LZ",39000,0.40787887989999999,0.41,0,0,0,null,null,null,0,0,0,0,0,1,null,null,0,0,0,0,0,0,0,0,0,0,0]
["The Otter And Vixen Old Fallings Lane Wolverhampton West Midlands WV10 8BN",38990,0.38018288365000003,0.38,0,0,0,null,null,null,0,0,0,0,0,1,null,null,0,0,0,0,0,0,0,4.4703746005001002E-2,0.11758484647129905,0.11758484647129905,0.11758484647129905]
["120 Stubby Lane Wolverhampton West Midlands WV11 3NJ",38980,9.9206950699900001E-2,0.1,0,0,0,null,null,null,0,0,0,0,0,1,null,null,0,0,0,0,0,0,0,0,0,0,0]
["Land adj 12 Lloyd Hill, Lower Penn",38970,0.10512982564999999,0.11,0,0,0,null,null,null,0,0,0,0,0,1,null,null,0,0,0,0,0,0,0,4.05063715101E-4,3.8529857021692873E-3,3.8529857021692873E-3,"<1%"]
["Northwood Park Lodge Northwood Park Road Wolverhampton West Midlands WV10 8EU",38960,4.8057282600000001E-2,0.05,0,0,0,null,null,null,0,0,0,0,0,1,null,null,0,0,0,0,0,0,0,0,0,0,0]
["133 Park Street South Wolverhampton West Midlands WV2 3JF",38950,2.1299624999899999E-2,0.02,0,0,0,null,null,null,0,0,0,0,0,1,null,null,0,0,0,0,0,0,0,0,0,0,0]
["368 - 370 Dudley Road Wolverhampton WV2 3AY",38940,4.3654869899999997E-2,0.04,0,0,0,null,null,null,0,0,0,0,0,1,null,null,0,0,0,0,0,0,0,1.2378716155984E-2,0.28355865415106873,0.28355865415106873,0.28355865415106873]
["Upper Floors 27 And 28 Market Street Wolverhampton West Midlands WV1 3AG",38930,2.1077498599900001E-2,0.02,0,0,0,null,null,null,0,0,0,0,0,1,null,null,0,0,0,0,0,0,0,0,0,0,0]
["23 Chetwynd Road Wolverhampton West Midlands WV2 4NZ",38920,2.2796849750000001E-2,0.02,0,0,0,null,null,null,0,0,0,0,0,1,null,null,0,0,0,0,0,0,0,0,0,0,0]
["Woodend Post Office 80 Lower Prestwood Road Wolverhampton West Midlands WV11 1JP",38910,2.1168820000000001E-2,0.02,0,0,0,null,null,null,0,0,0,0,0,1,null,null,0,0,0,0,0,0,0,9.1239232713989996E-3,0.43100764574496825,0.43100764574496825,0.43100764574496825]
["Hotel rear of The Old White Rose PH, 20 Lichfield St, Bilston WV14 0EB",38900,3.52257942E-2,0.04,0,0,0,null,null,null,0,0,0,0,0,1,null,null,0,0,0,0,0,0,0,0,0,0,0]
["1-3 St Johns Street Wolverhampton WV1 3NS",38890,1.8644337350000002E-2,0.02,0,0,0,null,null,null,0,0,0,0,0,1,null,null,0,0,0,0,0,0,0,0,0,0,0]
["Land North And South Of Lane Street, Bradley WV14 8UP",38880,0.39641814356900001,0.4,0,0,0,null,null,null,0,0,0,0,0,1,null,null,0,0,0,0,0,0,0,9.8283603927999997E-5,2.4792912615739771E-4,2.4792912615739771E-4,"<1%"]
["19 Raynor Road Wolverhampton West Midlands WV10 9QY",38870,5.5125857700000003E-2,0.06,0,0,0,null,null,null,0,0,0,0,0,1,null,null,0,0,0,0,0,0,0,0,0,0,0]
["13 - 15 Connaught Road Stowlawn Wolverhampton West Midlands WV14 6NU",38860,5.0456770650000003E-2,0.05,0,0,0,null,null,null,0,0,0,0,0,1,null,null,0,0,0,0,0,0,0,0,0,0,0]
["15 Riley Crescent Wolverhampton West Midlands WV3 7DR",38850,4.5667289350000001E-2,0.05,0,0,0,null,null,null,0,0,0,0,0,1,null,null,0,0,0,0,0,0,0,0,0,0,0]
["95 Cranmere Avenue Wolverhampton West Midlands WV6 8TR",38840,0.1269958803,0.13,0,0,0,null,null,null,0,0,0,0,0,1,null,null,0,0,0,0,0,0,0,0,0,0,0]
["Land North West Of Bilston Urban Village Medical Centre Bankfield Road Wolverhampton West Midlands",38830,0.4499486197,0.45,0,0,0,null,null,null,0,0,0,0,0,1,null,null,0,0,0,0,0,0,0,0,0,0,0]
["187 Leicester Street Wolverhampton West Midlands WV6 0PP",38820,1.7397870999999999E-2,0.02,0,0,0,null,null,null,0,0,0,0,0,1,null,null,0,0,0,1.96942735018E-4,1.1319933054912294E-2,1.1319933054912294E-2,1.1319933054912294E-2,4.6754618360800001E-4,1.5553825441630188E-2,2.6873758496542482E-2,1.5553825441630188E-2]
["436 Lichfield Road Wolverhampton West Midlands WV11 3HF",38810,5.4247329849999998E-2,0.05,0,0,0,null,null,null,0,0,0,0,0,1,null,null,6.7325396895909998E-3,0.12410822262049089,0.12410822262049089,1.1583427289744E-2,8.9421684229735413E-2,0.2135299068502263,8.9421684229735413E-2,2.2553680711866E-2,0.32633482902593042,0.41575651325566582,0.32633482902593042]
["Mount Court, Mount Road",38500,0.1105176501,0.11,0,0,0,null,null,null,0,0,0,0,0,1,null,null,0,0,0,0,0,0,0,0,0,0,0]
["5 Waterloo Road Wolverhampton  WV1 4DJ",38800,3.0243346800000001E-2,0.03,0,0,0,null,null,null,0,0,0,0,0,1,null,null,0,0,0,0,0,0,0,8.504479680885E-3,0.28120167179662137,0.28120167179662137,0.28120167179662137]
["Former Wood Hayes Pub Land North Of 434 Wood End Road Wolverhampton WV11 1YG",38790,0.12233000735000001,0.12,0,0,0,null,null,null,0,0,0,0,0,1,null,null,0,0,0,0,0,0,0,0,0,0,0]
["76 Finchfield Road West Wolverhampton West Midlands WV3 8BA",38780,0.25963567679999999,0.26,0,0,0,null,null,null,0,0,0,0,0,1,null,null,0,0,0,0,0,0,0,0,0,0,0]
["Land Behind 77 To 91 D'Urberville Road Wolverhampton West Midlands",38770,0.22791957765000001,0.23,0,0,0,null,null,null,0,0,0,0,0,1,null,null,0,0,0,0,0,0,0,1.9173478824781001E-2,8.4123878354251599E-2,8.4123878354251599E-2,8.4123878354251599E-2]
["5 Grove Lane Wolverhampton West Midlands WV6 8NH",38760,8.0554745750000004E-2,0.08,0,0,0,null,null,null,0,0,0,0,0,1,null,null,0,0,0,0,0,0,0,0,0,0,0]
["Samson And Lion (land), Newbolt Road Wolverhampton West Midlands WV14 7NP",38752,0.16446787500000001,0.16,0,0,0,null,null,null,0,{"$f":"ROUND(K242,2)","v":0},{"$f":"L242-F242","v":0},{"$f":"L242/D242","v":0},{"$f":"IF(N242>=0.005,N242,IF(K242=0,N242,\"<1%\"))","v":0},{"$f":"1-N242","v":1},null,null,0,0,0,0,{"$f":"X242-T242","v":0},{"$f":"V242/C242","v":0},0,4.779410988E-6,2.9059845200772489E-5,{"$f":"Z242/C242","v":2.9059845200772489E-5},"<1%"]
["466 Dudley Road Wolverhampton West Midlands WV2 3AF",38740,9.0669355500099993E-3,0.01,0,0,0,null,null,null,0,0,0,0,0,1,null,null,0,0,0,0,0,0,0,0,0,0,0]
["Building Behind 50 Lichfield Street Wheelers Fold Wolverhampton West Midlands",38720,9.1268825999700001E-3,0.01,0,0,0,null,null,null,0,0,0,0,0,1,null,null,0,0,0,0,0,0,0,4.1524375050999999E-5,4.5496777893403043E-3,4.5496777893403043E-3,"<1%"]
["The Angel Car Park, High Street, Wednesfield",38710,5.0558771500000002E-2,0.05,0,0,0,null,null,null,0,0,0,0,0,1,null,null,0,0,0,0,0,0,0,0,0,0,0]
["Land To The Rear Of 32 And 33 Quail Green / Tinacre Hill",38700,0.28670450749999998,0.28999999999999998,0,0,0,null,null,null,0,0,0,0,0,1,null,null,0,0,0,0,0,0,0,0,0,0,0]
["88A Great Brickkiln Street Wolverhampton WV3 0PU",38690,2.0384888050000001E-2,0.02,0,0,0,null,null,null,0,0,0,0,0,1,null,null,0,0,0,0,0,0,0,0,0,0,0]
["Martin And Co 11 Waterloo Road Wolverhampton West Midlands WV1 4DJ",38680,6.3468299950000001E-2,0.06,0,0,0,null,null,null,0,0,0,0,0,1,null,null,0,0,0,0,0,0,0,0,0,0,0]
["29 Vicarage Road All Saints Wolverhampton WV2 1BZ",38670,6.2609201000299996E-3,0.01,0,0,0,null,null,null,0,0,0,0,0,1,null,null,0,0,0,0,0,0,0,0,0,0,0]
["Coniston House Chapel Ash Wolverhampton WV3 0UD",38660,0.15879255014999999,0.16,0,0,0,null,null,null,0,0,0,0,0,1,null,null,0,0,0,0,0,0,0,0,0,0,0]
["25 Waterloo Road Wolverhampton WV1 4DJ",38650,2.71582555999E-2,0.03,0,0,0,null,null,null,0,0,0,0,0,1,null,null,0,0,0,0,0,0,0,0,0,0,0]
["Whiteheads Building  26A Snow Hill Wolverhampton",38640,3.0925664700000001E-2,0.03,0,0,0,null,null,null,0,0,0,0,0,1,null,null,0,0,0,0,0,0,0,3.71830290062E-4,1.2023356447436358E-2,1.2023356447436358E-2,1.2023356447436358E-2]
["5 StOther Commitmentkwell Road",38630,0.43505941069999998,0.44,0,0,0,null,null,null,0,0,0,0,0,1,null,null,0,0,0,0,0,0,0,0,0,0,0]
["Land rear of 45 Rookery Road",38620,0.470717,0.47,0,0,0,null,null,null,0,0,0,0,0,1,null,null,0,0,0,0,0,0,0,4.9722352500020002E-3,1.0563109575396683E-2,1.0563109575396683E-2,1.0563109575396683E-2]
["Former Danesmore Park Primary School, Russell Close (playing field)",38602,1.4768397875999999,1.48,0,0,0,null,null,null,0,0,0,0,0,1,null,null,0,0,0,0,0,0,0,3.8317851044959002E-2,2.5945841496611506E-2,2.5945841496611506E-2,2.5945841496611506E-2]
["31 Lichfield Street, Bilston",38590,3.0933749999999999E-2,0.03,0,0,0,null,null,null,0,0,0,0,0,1,null,null,0,0,0,0,0,0,0,6.5831006044130003E-3,0.21281288574495497,0.21281288574495497,0.21281288574495497]
["125 Parkfield Road",38570,8.4244103900000006E-2,0.08,0,0,0,null,null,null,0,0,0,0,0,1,null,null,0,0,0,4.5804000012600001E-4,5.4370570630047381E-3,5.4370570630047381E-3,5.4370570630047381E-3,5.1176482814443001E-2,0.60204145413572374,0.60747851119872853,0.60204145413572374]
["Land adj 31 Coalway Road",38560,0.25203995150000003,0.25,0,0,0,null,null,null,0,0,0,0,0,1,null,null,0,0,0,1.1506300000470001E-3,4.5652682965502001E-3,4.5652682965502001E-3,"<1%",7.0843616447320004E-3,2.3542821720805636E-2,2.8108090017355838E-2,2.3542821720805636E-2]
["109 Warstones Road",38550,2.0672125E-2,{"$f":"ROUND(C259,2)","v":0.02},0,{"$f":"ROUND(E259,2)","v":0},{"$f":"F259/D259","v":0},null,null,null,0,0,0,0,0,1,null,null,0,{"$f":"S259/C259","v":0},{"$f":"IF(T259>=0.005,T259,IF(S259=0,T259,\"<1%\"))","v":0},0,0,0,{"$f":"IF(W259>=0.005,W259,IF(V259=0,W259,\"<1%\"))","v":0},4.1241957497580002E-3,{"$f":"AB259-W259","v":0.19950516697040097},0.19950516697040097,{"$f":"IF(AA259>=0.005,AA259,IF(Z259=0,AA259,\"<1%\"))","v":0.19950516697040097}]
["3 Waterloo Road",38540,1.3862318E-2,0.01,0,0,0,null,null,null,0,0,0,0,0,1,null,null,0,0,0,0,0,0,0,1.6340093870999999E-3,0.11787418143920807,0.11787418143920807,0.11787418143920807]
["Land corner of Stafford St and Bone Mill Lane WV1 1NT",38610,0.60738343859999999,0.61,0,0,0,null,null,null,0,0,0,0,0,1,null,null,2.1999999999999999E-2,3.6220941503952296E-2,3.6220941503952296E-2,0.101834433604892,0.13143992498199802,0.16766086648595033,0.13143992498199802,0.212985307660048,0.21922045547054203,0.35066038045254005,0.21922045547054203]
["Corpus Christi RC Church, Griffiths Drive",38580,0.38047933500499997,0.38,0,0,0,null,null,null,0,0,0,0,0,1,null,null,0,0,0,0,0,0,0,0,0,0,0]
["6-7 Victoria Passage",38510,1.45207499981E-2,0.01,0,0,0,null,null,null,0,0,0,0,0,1,null,null,0,0,0,0,0,0,0,0,0,0,0]
["43 Lichfield Road, Wednesfield",38520,6.49199263062E-3,0.01,0,0,0,null,null,null,0,0,0,0,0,1,null,null,0,0,0,0,0,0,0,0,0,0,0]
["Oxley Moor House and Oxley Day Centre, Probert Road, WV10 6UF","D80",0.83191316501199997,0.83,0,0,0,null,null,null,0,0,0,0,0,1,null,null,0,0,0,0,0,0,0,4.6817068694937E-2,5.6276388767404213E-2,5.6276388767404213E-2,5.6276388767404213E-2]
["Land to rear Stowheath Day Centre, Stowheath Lane, WV1 2TW","D79",0.38759097499799999,0.39,2.2337880895700001E-4,0,0,null,null,null,1.2310169999612999E-2,0.01,0.01,2.564102564102564E-2,2.564102564102564E-2,0.97435897435897434,null,null,0,0,0,2.2758805440999999E-5,5.8718615522761947E-5,5.8718615522761947E-5,"<1%",9.0700042653793E-2,0.23395096815352809,0.23400968676905085,0.23395096815352809]
["Stowheath Day/Childrens Centres, Stowheath Lane, WV1 2TW","D78",1.137714275,1.1399999999999999,5.4350746368274E-2,0.05,4.3859649122807022E-2,null,null,null,0.20278776445567101,0.2,0.15000000000000002,0.17543859649122809,0.17543859649122809,0.82456140350877194,null,null,2.1180190629499999E-3,1.8616440959660103E-3,"<1%",4.0056821268214998E-2,3.3346511544179225E-2,3.5208155640145233E-2,3.3346511544179225E-2,0.65181340284899203,0.53956833814335947,0.5729148496875387,0.53956833814335947]
["Fmr Slim Avenue Allotments, WV14 8RY","D77",0.19522988999800001,0.2,0,0,0,null,null,null,0,0,0,0,0,1,null,null,1.1029649045620001E-3,5.6495698715667937E-3,5.6495698715667937E-3,3.298654525921E-2,0.16331300680943184,0.16896257668099862,0.16331300680943184,0.12231058720181399,0.46318218408099476,0.6264951908904266,0.46318218408099476]
["Reedham Gardens Open Space, WV4 4HE","D42",0.51639553000100002,0.52,0,0,0,null,null,null,0,0,0,0,0,1,null,null,0,0,0,0,0,0,0,1.8290075683615001E-2,3.5418733550190838E-2,3.5418733550190838E-2,3.5418733550190838E-2]
["Fmr Warstones Resource Centre, Warstones Drive, WV4 4PG","D76",0.42548013500100001,0.43,0,0,0,null,null,null,0,0,0,0,0,1,null,null,0,0,0,0,0,0,0,2.0872540503999999E-5,4.9056439506749102E-5,4.9056439506749102E-5,"<1%"]
["Fmr Merry Hill House, Langley Road, WV4 4YT","D75",0.36285093499900001,0.36,0,0,0,null,null,null,0,0,0,0,0,1,null,null,0,0,0,1.457530037779E-3,4.0168837866795546E-3,4.0168837866795546E-3,"<1%",8.5196364405970004E-3,1.946283093589786E-2,2.3479714722577413E-2,1.946283093589786E-2]
["Fmr Nelson Mandela House, Whitburn Close","D74",0.60085389000099998,0.6,0.27660624882264401,0.28000000000000003,0.46666666666666673,null,null,null,0.369256781565106,0.37,8.9999999999999969E-2,0.6166666666666667,0.6166666666666667,0.3833333333333333,null,null,0,0,0,0,0,0,0,0,0,0,0]
["Fmr Woden Community Resource Centre, Vicarage Road","D73",0.463764879997,0.46,0,0,0,null,null,null,0,0,0,0,0,1,null,null,0,0,0,0,0,0,0,7.5200000000000003E-2,0.16215113141056833,0.16215113141056833,0.16215113141056833]
["Garage Site Behind 17-23 School Road, Tettenhall Wood","D72",0.15700045500000001,0.16,0,0,0,null,null,null,0,0,0,0,0,1,null,null,0,0,0,0,0,0,0,0,0,0,0]
["Garage Site 2-14 Pointon Close","D71",0.19365367101299999,0.19,0,0,0,null,null,null,0,0,0,0,0,1,null,null,0,0,0,0,0,0,0,0,0,0,0]
["Garage Site 1-7 Townson Road","D70",6.8066649998499998E-2,7.0000000000000007E-2,0,0,0,null,null,null,0,0,0,0,0,1,null,null,0,0,0,0,0,0,0,3.9145513027999998E-5,5.7510562116488257E-4,5.7510562116488257E-4,"<1%"]
["Garage Site 94-96 Batmans Hill Road","D69",5.9979524999799999E-2,0.06,0,0,0,null,null,null,0,0,0,0,0,1,null,null,0,0,0,0,0,0,0,1.2680288151099999E-3,2.1141027961028836E-2,2.1141027961028836E-2,2.1141027961028836E-2]
["17 Ryan Avenue","D68",4.4925555179200001E-2,0.04,0,0,0,null,null,null,0,0,0,0,0,1,null,null,0,0,0,0,0,0,0,2.4889495347399E-2,0.55401642223717118,0.55401642223717118,0.55401642223717118]
["Land rear of 31-37 Cavendish Road","D67",0.120117260001,0.12,0,0,0,null,null,null,0,0,0,0,0,1,null,null,0,0,0,3.1304320080000002E-6,2.6061467002943115E-5,2.6061467002943115E-5,"<1%",1.803151187476E-3,1.4985529602098938E-2,1.501159106910188E-2,1.4985529602098938E-2]
["Garage Site Behind 5-7 Arnhem Close","D66",0.112845159376,0.11,0,0,0,null,null,null,0,0,0,0,0,1,null,null,1.2776750000007E-2,0.11322373126732779,0.11322373126732779,3.2085825155954997E-2,0.17111124006312203,0.28433497133044983,0.17111124006312203,7.4063260756276006E-2,0.48521519135692026,0.65632643142004232,0.48521519135692026]
["Garage Site Behind 19 and 21 Central Avenue","D65",0.101858605001,0.1,0,0,0,null,null,null,0,0,0,0,0,1,null,null,0,0,0,0,0,0,0,0,0,0,0]
["Waddensbrook Lane","D64",0.26547078500100002,0.27,8.0806710843259993E-2,0.08,0.29629629629629628,null,null,null,9.1908737816962002E-2,0.09,9.999999999999995E-3,0.33333333333333331,0.33333333333333331,0.66666666666666674,null,null,0,0,0,4.7314815452153998E-2,0.17822983968641132,0.17822983968641132,0.17822983968641132,0.20204227032856301,0.58284174236282205,0.76107158204923342,0.58284174236282205]
["Bradley Road","D63",6.3564620001099997E-2,0.06,0,0,0,null,null,null,0,0,0,0,0,1,null,null,0,0,0,0,0,0,0,0,0,0,0]
["Hylstone Crescent",39470,0.17165168,0.17,0,0,0,null,null,null,0,0,0,0,0,1,null,null,0,0,0,0,0,0,0,0,0,0,0]
["Fmr Garages rear 52-64 Foster Road",39390,0.17962241393299999,0.18,0,0,0,null,null,null,0,0,0,0,0,1,null,null,0,0,0,0,0,0,0,1.1996089052998E-2,6.6785034174368665E-2,6.6785034174368665E-2,6.6785034174368665E-2]
["Garages behind 23-33 Dereham Walk, Wilkinson Avenue",39450,5.3250425000800003E-2,0.05,0,0,0,null,null,null,0,0,0,0,0,1,null,null,0,0,0,0,0,0,0,0,0,0,0]
["Park View Road","D59",9.5297846103100006E-2,0.1,2.1947386605510001E-3,0,0,null,null,null,2.1947386605510001E-3,0,0,0,"<1%",1,null,null,0,0,0,0,0,0,0,8.7282451106299999E-4,9.1589112110541954E-3,9.1589112110541954E-3,9.1589112110541954E-3]
["Fairway Green Site B","D58",4.9253404996799997E-2,0.05,0,0,0,null,null,null,0,0,0,0,0,1,null,null,0,0,0,0,0,0,0,0,0,0,0]
["Garages 64-65 Fairway Green (Site A)",39410,4.7810999999500003E-2,0.05,0,0,0,null,null,null,0,0,0,0,0,1,null,null,0,0,0,0,0,0,0,0,0,0,0]
["Garage r/o 23 Whiston Avenue",39460,9.7286360002500002E-2,0.1,0,0,0,null,null,null,0,0,0,0,0,1,null,null,0,0,0,0,0,0,0,0,0,0,0]
["Land adj 17 Moat Green Avenue",39400,0.15643271000200001,0.16,0,0,0,null,null,null,0,0,0,0,0,1,null,null,0,0,0,0,0,0,0,1.686722280038E-3,1.0782414240707298E-2,1.0782414240707298E-2,1.0782414240707298E-2]
["84-94 Pond Lane","D54",9.2263791358000002E-2,0.09,0,0,0,null,null,null,0,0,0,0,0,1,null,null,0,0,0,0,0,0,0,1.4343610070000001E-6,1.5546304632490366E-5,1.5546304632490366E-5,"<1%"]
["Bradley Lane","D53",8.6728234949899993E-2,0.09,0,0,0,null,null,null,0,0,0,0,0,1,null,null,0,0,0,1.8152662558547999E-2,0.2093051077199275,0.2093051077199275,0.2093051077199275,5.4108921519182E-2,0.41458538826951485,0.62389049598944235,0.41458538826951485]
["Fmr Garages rear 3-9 Abingdon Road (Site B) WV1 2PP",39380,6.65100050005E-2,7.0000000000000007E-2,0,0,0,null,null,null,0,0,0,0,0,1,null,null,0,0,0,0,0,0,0,0,0,0,0]
["Abingdon Road Site A (Garage site r/o 19-21)","D51",8.9903699999799996E-2,0.09,0,0,0,null,null,null,0,0,0,0,0,1,null,null,0,0,0,0,0,0,0,2.4879160043439999E-2,0.27673121399336564,0.27673121399336564,0.27673121399336564]
["Land adj Westcroft Avenue WV10 8NH",39510,0.31109057499800002,0.31,0,0,0,null,null,null,0,0,0,0,0,1,null,null,0,0,0,0,0,0,0,1.0838150000013E-2,3.483921041350313E-2,3.483921041350313E-2,3.483921041350313E-2]
["Land at Marchant Road","D49",0.10688910499900001,0.11,0,0,0,null,null,null,0,0,0,0,0,1,null,null,7.5005995987600005E-4,7.0171787843393129E-3,7.0171787843393129E-3,3.9500599598760004E-3,2.9937569409248375E-2,3.695474819358769E-2,2.9937569409248375E-2,1.9906950381661001E-2,0.15630171458370151,0.18623928399294989,0.15630171458370151]
["Land at 625-661 CannOther Commitmentk Road, Springfield WV10 8PH",39490,0.11490783500100001,0.11,0,0,0,null,null,null,0,0,0,0,0,1,null,null,0,0,0,0,0,0,0,1.631891499E-6,1.4201742631264423E-5,1.4201742631264423E-5,"<1%"]
["Garages adj 12 Anslow Gardens WV11 2LL",39500,0.10347009612499999,0.1,0,0,0,null,null,null,0,0,0,0,0,1,null,null,0,0,0,0,0,0,0,0,0,0,0]
["Land adj 40 Wolverhampton Road",39480,0.19562019999499999,0.2,0,0,0,null,null,null,0,0,0,0,0,1,null,null,0,0,0,1.6840413059809999E-3,8.6087290884276964E-3,8.6087290884276964E-3,8.6087290884276964E-3,5.6626146934597998E-2,0.28086110549943877,0.28946983458786646,0.28086110549943877]
["Land adj 18-20 Peach Road",39430,3.6779825040599998E-2,0.04,0,0,0,null,null,null,0,0,0,0,0,1,null,null,0,0,0,3.2749918499000003E-5,8.9043160109784328E-4,8.9043160109784328E-4,"<1%",1.4629394085973999E-2,0.39686551394309949,0.39775594554419735,0.39686551394309949]
["Land rear 56-58 Peach Road",39420,0.121651197556,0.12,0,0,0,null,null,null,0,0,0,0,0,1,null,null,0,0,0,3.5786465243900002E-4,2.9417273288597366E-3,2.9417273288597366E-3,"<1%",4.7167643824269998E-3,3.5831128813848763E-2,3.8772856142708499E-2,3.5831128813848763E-2]
["Fmr Daisy Bank Community Centre","D41",0.477942335,0.48,0,0,0,null,null,null,0,0,0,0,0,1,null,null,0,0,0,0,0,0,0,1.2206100079938E-2,2.553885518414685E-2,2.553885518414685E-2,2.553885518414685E-2]
["Land adj 9 Ettingshall Road / junction Sweetbriar Road","D40",0.29612025999800001,0.3,0,0,0,null,null,null,0,0,0,0,0,1,null,null,0,0,0,2.4205676166879999E-3,8.1742722254274265E-3,8.1742722254274265E-3,8.1742722254274265E-3,0.195031004767105,0.65044667038897597,0.6586209426144034,0.65044667038897597]
["Fmr Bilston Tennis Club, Villiers Avenue","D39",0.27585633000199999,0.28000000000000003,0,0,0,null,null,null,0,0,0,0,0,1,null,null,0,0,0,0,0,0,0,1.8157562811459999E-3,6.5822534546618357E-3,6.5822534546618357E-3,6.5822534546618357E-3]
["Harrowby Court, Chetton Green","D36",3.0592778716899999E-2,0.03,0,0,0,null,null,null,0,{"$f":"ROUND(K306,2)","v":0},{"$f":"L306-F306","v":0},{"$f":"L306/D306","v":0},{"$f":"IF(N306>=0.005,N306,IF(K306=0,N306,\"<1%\"))","v":0},{"$f":"1-N306","v":1},null,null,0,0,0,0,{"$f":"X306-T306","v":0},{"$f":"V306/C306","v":0},0,0,0,{"$f":"Z306/C306","v":0},0]
["Patshull Court, Chetton Green","D37",3.1595240001899998E-2,0.03,0,0,0,null,null,null,0,0,0,0,0,1,null,null,0,0,0,0,0,0,0,0,0,0,0]
["Wobaston Court, Chetton Green","D38",2.9676204996099999E-2,0.03,0,0,0,null,null,null,0,0,0,0,0,1,null,null,0,0,0,0,0,0,0,0,0,0,0]
["Chetton Green District Office, 134-137 Chetton Green, WV10 6ER",39370,1.91592081808E-2,0.02,0,0,0,null,null,null,0,0,0,0,0,1,null,null,0,0,0,0,0,0,0,0,0,0,0]
["Samson And Lion (buildings), Newbolt Road WV14 7NP",38751,0.16446787500000001,0.16,0,0,0,null,null,null,0,0,0,0,0,1,null,null,0,0,0,0,0,0,0,4.779410988E-6,2.9059845200772489E-5,2.9059845200772489E-5,"<1%"]
["Former Danesmore Park Primary School, Russell Close (school buildings)",38601,1.4768397875999999,1.48,0,0,0,null,null,null,0,0,0,0,0,1,null,null,0,0,0,0,0,0,0,3.8317851044959002E-2,2.5945841496611506E-2,2.5945841496611506E-2,2.5945841496611506E-2]
["Northicote Secondary School, Northwood Park Road, WV10 8ER","D5a",4.7634367400100004,4.76,0,0,0,null,null,null,0,0,0,0,0,1,null,null,3.56E-2,7.473595629177026E-3,7.473595629177026E-3,8.6800000000000002E-2,1.0748542028479319E-2,1.8222137657656345E-2,1.0748542028479319E-2,0.39113983680442499,7.1364406700132083E-2,8.2112948728611398E-2,7.1364406700132083E-2]
["Beckminster House, Beckminster Road","D20",0.86295566000299995,0.86,0,0,0,null,null,null,0,0,0,0,0,1,null,null,0,0,0,0,0,0,0,8.3658955511999999E-5,9.6944674436354202E-5,9.6944674436354202E-5,"<1%"]
["Former Wolverhampton Environment Centre, Westacre Crescent","D33",0.95335190950600002,0.95,0,0,0,null,null,null,0,0,0,0,0,1,null,null,0,0,0,0,0,0,0,1.4794662594678E-2,1.5518574460446799E-2,1.5518574460446799E-2,1.5518574460446799E-2]
["Ackleton Gardens Rear of Nos 47-49 Church Road Bradmore Wolverhampton",30430,0.19807274460099999,0.2,0,0,0,null,null,null,0,0,0,0,0,1,null,null,0,0,0,0,0,0,0,0,0,0,0]
["Land adjacent to 32 Maple Road",30690,1.44831171997E-2,0.01,0,0,0,null,null,null,0,0,0,0,0,1,null,null,0,0,0,0,0,0,0,0,0,0,0]
["Land at the rear of 58A Hollybush Lane, Penn",40170,6.1422230000699997E-2,0.06,0,0,0,null,null,null,0,0,0,0,0,1,null,null,0,0,0,0,0,0,0,0,0,0,0]
["Land between 53 & 55 Leason Lane, The Scotlands",29880,5.9884060501499997E-2,0.06,0,0,0,null,null,null,0,0,0,0,0,1,null,null,0,0,0,0,0,0,0,1.304265509053E-3,2.1779844221156818E-2,2.1779844221156818E-2,2.1779844221156818E-2]
["32A Laburnum Road, Stowheath.",40160,3.2871114998800001E-2,0.03,1.377387219903E-3,0,0,null,null,null,3.0280493161679999E-3,0,0,0,"<1%",1,null,null,0,0,0,0,0,0,0,0,0,0,0]
["62 & 64 Villiers Avenue",31230,5.26637556002E-2,0.05,0,0,0,null,null,null,0,0,0,0,0,1,null,null,0,0,0,0,0,0,0,0,0,0,0]
["Land adjoining 1 Norfolk Road, Pennfields",31460,4.6720835199199999E-2,0.05,0,0,0,null,null,null,0,0,0,0,0,1,null,null,0,0,0,0,0,0,0,0,0,0,0]
["62/63 Worcester Street, Wolverhampton",31730,1.5779874999499999E-2,0.02,0,0,0,null,null,null,0,0,0,0,0,1,null,null,0,0,0,0,0,0,0,0,0,0,0]
["Land Adjacent To 162 Newhampton Road West Wolverhampton West Midlands WV6 0RR",32450,1.4406836000100001E-2,{"$f":"ROUND(C323,2)","v":0.01},0,{"$f":"ROUND(E323,2)","v":0},{"$f":"F323/D323","v":0},null,null,null,0,0,0,0,0,1,null,null,0,{"$f":"S323/C323","v":0},{"$f":"IF(T323>=0.005,T323,IF(S323=0,T323,\"<1%\"))","v":0},0,0,0,{"$f":"IF(W323>=0.005,W323,IF(V323=0,W323,\"<1%\"))","v":0},0,{"$f":"AB323-W323","v":0},0,{"$f":"IF(AA323>=0.005,AA323,IF(Z323=0,AA323,\"<1%\"))","v":0}]
["61 Wrottesley Road Wolverhampton West Midlands WV6 8SG",33040,0.10511597200099999,0.11,0,0,0,null,null,null,0,0,0,0,0,1,null,null,0,0,0,0,0,0,0,0,0,0,0]
["25 Shaw Road, Blakenhall",40140,7.0381250001100001E-2,7.0000000000000007E-2,0,0,0,null,null,null,0,0,0,0,0,1,null,null,0,0,0,0,0,0,0,0,0,0,0]
["Blunts Shoeshop, 5-15 Broad Street, Wolverhampton",40180,3.8363272998700002E-2,0.04,0,0,0,null,null,null,0,0,0,0,0,1,null,null,0,0,0,0,0,0,0,0,0,0,0]
["102 Napier Road",30790,5.9278119499599997E-2,0.06,0,0,0,null,null,null,0,0,0,0,0,1,null,null,0,0,0,0,0,0,0,1.4762911406600001E-4,2.4904486733422133E-3,2.4904486733422133E-3,"<1%"]
["Land adjacent to 50 Jeremy Road Goldthorn Park.",40150,2.1890625E-2,0.02,0,0,0,null,null,null,0,0,0,0,0,1,null,null,0,0,0,0,0,0,0,0,0,0,0]
["Culwell Industrial Estate",32730,4.2055100713,4.21,0,0,0,null,null,null,0,0,0,0,0,1,null,null,0,0,0,3.8829517475522997E-2,9.2330102216400308E-3,9.2330102216400308E-3,9.2330102216400308E-3,0.31145828364631101,6.4826563615032196E-2,7.4059573836672221E-2,6.4826563615032196E-2]
["Cornerstone Veterinary Centre, Northwood Park Road, Bushbury",31850,9.2465345000499993E-2,0.09,0,0,0,null,null,null,0,0,0,0,0,1,null,null,0,0,0,0,0,0,0,0,0,0,0]
["Garage Site Rear Of 104 And 106 Mount Road Lanesfield Wolverhampton West Midlands",32860,5.4385523249100003E-2,0.05,0,0,0,null,null,null,0,0,0,0,0,1,null,null,0,0,0,0,0,0,0,0,0,0,0]
["Goldthorn Hill Pumping Station and Allotments",27430,0.46382787499900002,0.46,0,0,0,null,null,null,0,0,0,0,0,1,null,null,0,0,0,0,0,0,0,0,0,0,0]
["85 Northwood Park Road Wolverhampton West Midlands WV10 8EX",37610,2.8896677601399998E-2,0.03,0,0,0,null,null,null,0,0,0,0,0,1,null,null,0,0,0,0,0,0,0,7.7769431278709999E-3,0.26912931774185067,0.26912931774185067,0.26912931774185067]
["Former Dale House, Showell Circus",32700,0.356851810002,0.36,0,0,0,null,null,null,0,0,0,0,0,1,null,null,0,0,0,0,0,0,0,3.0064236300800001E-4,8.4248518455410119E-4,8.4248518455410119E-4,"<1%"]
["76 Wrottesley Road Wolverhampton West Midlands WV6 8SH",32870,6.8723914450899995E-2,7.0000000000000007E-2,0,0,0,null,null,null,0,0,0,0,0,1,null,null,0,0,0,0,0,0,0,0,0,0,0]
["20 Lawley Road Wolverhampton West Midlands WV14 0NB",33530,0.113725874999,0.11,0,0,0,null,null,null,0,0,0,0,0,1,null,null,0,0,0,0,0,0,0,1.20712651057E-4,1.0614352367749331E-3,1.0614352367749331E-3,"<1%"]
["152 Dunstall Road Wolverhampton West Midlands WV6 0NL",33680,5.2057469999499999E-2,0.05,0,0,0,null,null,null,0,0,0,0,0,1,null,null,0,0,0,0,0,0,0,6.11441059707E-3,0.11745500880332309,0.11745500880332309,0.11745500880332309]
["New Cross Hospital, Wolverhampton Road",32710,23.636769529199899,23.64,0,0,0,null,null,null,0,0,0,0,0,1,null,null,7.5658471801248003E-2,3.2008803786736854E-3,"<1%",0.43007201691463998,1.4994161730754449E-2,1.8195042109428135E-2,1.4994161730754449E-2,1.9946015061606801,6.9391375967052818E-2,8.4385537697807267E-2,6.9391375967052818E-2]
["Land Adjacent To 1 Howard Road Britannia Road Wolverhampton West Midlands",33320,6.4414661351999997E-2,0.06,0,0,0,null,null,null,0,0,0,0,0,1,null,null,0,0,0,0,0,0,0,0,0,0,0]
["50-52 Willenhall Road Bilston Wolverhampton West Midlands WV14 6NW",33500,0.127117615001,0.13,0,0,0,null,null,null,0,0,0,0,0,1,null,null,0,0,0,0,0,0,0,0,0,0,0]
["Store Adjacent 35 Claremont Road Wolverhampton West Midlands WV3 0EA",32950,1.8826798000900001E-2,0.02,0,0,0,null,null,null,0,0,0,0,0,1,null,null,0,0,0,0,0,0,0,0,0,0,0]
["Land between 66 & 68 Redcotts Close, The Scotlands",29850,4.3255919548800002E-2,0.04,0,0,0,null,null,null,0,0,0,0,0,1,null,null,0,0,0,0,0,0,0,0,0,0,0]
["99 Wellington Road Bilston",31930,0.40287917099999998,0.4,0,0,0,null,null,null,0,0,0,0,0,1,null,null,1.1599999999999999E-2,2.8792751859589186E-2,2.8792751859589186E-2,6.8000373058995006E-2,0.13999327123068125,0.16878602309027044,0.13999327123068125,0.24782958511379699,0.47515291391125802,0.61514618514193931,0.47515291391125802]
["127 Canterbury Road Wolverhampton West Midlands WV4 4EQ",32470,3.0305927500299999E-2,0.03,0,0,0,null,null,null,0,0,0,0,0,1,null,null,0,0,0,0,0,0,0,0,0,0,0]
["21 Lichfield Street Bilston Wolverhampton West Midlands WV14 0AG",32230,3.3107967500499998E-2,0.03,0,0,0,null,null,null,0,0,0,0,0,1,null,null,0,0,0,0,0,0,0,0,0,0,0]
["1 Princess Street, City Centre WV1 1HQ",34470,2.02296249981E-2,0.02,0,0,0,null,null,null,0,0,0,0,0,1,null,null,0,0,0,0,0,0,0,0,0,0,0]
["Old Vine PH, Lower Vauxhall",34390,9.5575999998200004E-2,0.1,0,0,0,null,null,null,0,0,0,0,0,1,null,null,0,0,0,0,0,0,0,2.613665002E-5,2.7346457291048209E-4,2.7346457291048209E-4,"<1%"]
["Former Sons Of Rest, Hackett Close WV14 9SD",34770,9.8542512499400006E-2,0.1,0,0,0,null,null,null,0,0,0,0,0,1,null,null,0,0,0,0,0,0,0,0,0,0,0]
["1-3 Hinchliffe Avenue WV14 9PQ",34670,0.16984646249999999,0.17,0,0,0,null,null,null,0,0,0,0,0,1,null,null,0,0,0,3.0383093536100002E-4,1.7888564229649473E-3,1.7888564229649473E-3,"<1%",2.2671853559907001E-2,0.13169554605557948,0.13348440247854443,0.13169554605557948]
["Land rear of 28/30 Beccles Drive",40130,0.11305282305,0.11,0,0,0,null,null,null,0,0,0,0,0,1,null,null,0,0,0,0,0,0,0,0,0,0,0]
["48 Bolton Road Wolverhampton West Midlands WV11 1UA",33760,3.7939150000199998E-2,0.04,0,0,0,null,null,null,0,0,0,0,0,1,null,null,0,0,0,0,0,0,0,0,0,0,0]
["1-3 Hunter Street",34190,3.8242127500900003E-2,0.04,0,0,0,null,null,null,0,0,0,0,0,1,null,null,0,0,0,0,0,0,0,1.8065952448115E-2,0.47240971223920086,0.47240971223920086,0.47240971223920086]
["Land adjacent to and rear of 6 Bridgnorth Road, Wolverhampton, West Midlands",35620,0.28569695610399998,0.28999999999999998,0,0,0,null,null,null,5.7602730594896998E-2,0.06,0.06,0.20689655172413793,0.20689655172413793,0.7931034482758621,null,null,0,0,0,7.054475337648E-3,2.4692161351134646E-2,2.4692161351134646E-2,2.4692161351134646E-2,0.259516582848555,0.88367097414578422,0.90836313549691883,0.88367097414578422]
["106 Rosemary Crescent West, Wolverhampton, West Midlands, WV4 5AN",35170,6.5175249998400006E-2,7.0000000000000007E-2,0,0,0,null,null,null,0,0,0,0,0,1,null,null,0,0,0,0,0,0,0,7.7760307925569998E-3,0.11930956602004433,0.11930956602004433,0.11930956602004433]
["60 Avondale Road, Wolverhampton, West Midlands, WV6 0AJ",35640,2.1484030001E-2,0.02,0,0,0,null,null,null,0,0,0,0,0,1,null,null,0,0,0,2.3788600001480001E-3,0.11072689807439634,0.11072689807439634,0.11072689807439634,4.4182845141420004E-3,9.4927465373073533E-2,0.20565436344746987,9.4927465373073533E-2]
["Land adjacent to 26 Rooker Crescent, Wolverhampton, West Midlands, WV2 2DU",35440,4.9350625000299998E-2,0.05,0,0,0,null,null,null,0,0,0,0,0,1,null,null,0,0,0,0,0,0,0,0,0,0,0]
["Oriel Lodge, 796 Stafford Road WV10 6NT",34510,0.17109885985100001,0.17,0,0,0,null,null,null,0,0,0,0,0,1,null,null,0,0,0,0,0,0,0,0,0,0,0]
["176 Newhampton Road East Wolverhampton West Midlands WV1 4PQ",33690,3.7585934996999998E-2,0.04,0,0,0,null,null,null,0,0,0,0,0,1,null,null,0,0,0,3.9134242824300002E-4,1.0411938089985945E-2,1.0411938089985945E-2,1.0411938089985945E-2,2.4388597368135999E-2,0.63846369504465939,0.64887563313464536,0.63846369504465939]
["57 Wellington Road, Wolverhampton, West Midlands, WV14 6AQ",35120,3.2035207500299999E-2,0.03,0,0,0,null,null,null,0,0,0,0,0,1,null,null,0,0,0,0,0,0,0,1.4101999998100001E-4,4.4020317327327883E-3,4.4020317327327883E-3,"<1%"]
["Slade Hill Riches Street Wolverhampton West Midlands WV6 0EJ",33490,0.34457305999999999,0.34,0,0,0,null,null,null,0,0,0,0,0,1,null,null,0,0,0,0,0,0,0,0,0,0,0]
["187 Tettenhall Road, Wolverhampton, West Midlands, WV6 0BZ",35530,0.106197150001,0.11,0,0,0,null,null,null,0,0,0,0,0,1,null,null,0,0,0,0,0,0,0,0,0,0,0]
["122B Castlecroft Road, Castlecroft, Wolverhampton, West Midlands, WV3 8LU",35450,5.35617140028E-3,0.01,0,0,0,null,null,null,0,0,0,0,0,1,null,null,0,0,0,0,0,0,0,0,0,0,0]
["1 Wolseley Road",34260,5.26212499985E-2,0.05,0,0,0,null,null,null,0,0,0,0,0,1,null,null,0,0,0,0,0,0,0,1.8603932550751E-2,0.35354410150426524,0.35354410150426524,0.35354410150426524]
["Land adj 22 Marchant Road, Stowlawn",31220,0.10735894999999999,0.11,0,0,0,null,null,null,0,0,0,0,0,1,null,null,0,0,0,0,0,0,0,0,0,0,0]
["First Floor 1 - 13 Mount Pleasant Bilston WV14 7LJ",37650,3.62393324956E-3,3.0000000000000001E-3,0,0,0,null,null,null,0,0,0,0,0,1,null,null,0,0,0,0,0,0,0,0,0,0,0]
["64 Green Lanes, Wolverhampton, WV14 6DA",35220,6.0015624996200001E-2,0.06,0,0,0,null,null,null,0,0,0,0,0,1,null,null,0,0,0,5.8479999810000004E-6,9.7441291019968165E-5,9.7441291019968165E-5,"<1%",7.1957049996000005E-4,1.1892278052993544E-2,1.1989719344013513E-2,1.1892278052993544E-2]
["15-18 Queen Street, City Centre WV1 3JW",34680,1.5493320000199999E-2,0.02,0,0,0,null,null,null,0,0,0,0,0,1,null,null,0,0,0,0,0,0,0,0,0,0,0]
["203 Trysull Road WV3 7JP",34700,6.68543500002E-2,7.0000000000000007E-2,0,0,0,null,null,null,0,0,0,0,0,1,null,null,0,0,0,0,0,0,0,0,0,0,0]
["149 Merridale Street West Wolverhampton West Midlands WV3 0RW",33660,3.6340223497499997E-2,0.04,0,0,0,null,null,null,0,0,0,0,0,1,null,null,5.0496059002099998E-4,1.3895362807984339E-2,1.3895362807984339E-2,6.9877059010499995E-4,5.3332088091679729E-3,1.9228571617152312E-2,5.3332088091679729E-3,1.0719679231889999E-3,2.4164901549529882E-2,2.9498110358697857E-2,2.4164901549529882E-2]
["4-6 Broad Street",34200,1.39409999999E-2,0.01,0,0,0,null,null,null,0,{"$f":"ROUND(K370,2)","v":0},{"$f":"L370-F370","v":0},{"$f":"L370/D370","v":0},{"$f":"IF(N370>=0.005,N370,IF(K370=0,N370,\"<1%\"))","v":0},{"$f":"1-N370","v":1},null,null,0,0,0,0,{"$f":"X370-T370","v":0},{"$f":"V370/C370","v":0},0,0,0,{"$f":"Z370/C370","v":0},0]
["85 Prestwood Road West WV11 1HT",34690,7.2884469500099996E-2,7.0000000000000007E-2,0,0,0,null,null,null,0,0,0,0,0,1,null,null,0,0,0,0,0,0,0,0,0,0,0]
["Plot Adjoining 40 Bilston Road, Portobello WV13 2JL",34730,1.32256058001E-2,0.01,0,0,0,null,null,null,0,0,0,0,0,1,null,null,0,0,0,0,0,0,0,0,0,0,0]
["94 Completed During 2017/18pton Road WV3 9PS",34740,8.6032500005299994E-3,0.01,0,0,0,null,null,null,0,0,0,0,0,1,null,null,0,0,0,0,0,0,0,0,0,0,0]
["132 CannOther Commitmentk Road WV10 8PW",34720,2.9780935000000001E-2,0.03,0,0,0,null,null,null,0,0,0,0,0,1,null,null,0,0,0,0,0,0,0,0,0,0,0]
["The Meat Shop, 28 Victoria Street, Wolverhampton, West Midlands, WV1 3PW",35300,1.4681374999099999E-2,0.01,0,0,0,null,null,null,0,0,0,0,0,1,null,null,0,0,0,0,0,0,0,0,0,0,0]
["169 Caledonia Road, Wolverhampton, West Midlands, WV2 1JA",35100,0.109415936802,0.11,0,0,0,null,null,null,0,0,0,0,0,1,null,null,0,0,0,0,0,0,0,2.2378000002400001E-4,2.0452230869160695E-3,2.0452230869160695E-3,"<1%"]
["Garage Site Rear Of 44 To 62 Cheviot Road Wolverhampton West Midlands",33870,0.184197043,0.18,0,0,0,null,null,null,0,0,0,0,0,1,null,null,0,0,0,0,0,0,0,0,0,0,0]
["Royal Hospital Development Area (City Centre)",27370,5.0164572945000003,5.0199999999999996,0,0,0,null,null,null,0,0,0,0,0,1,null,null,7.9116075434190001E-3,1.5771304486321884E-3,"<1%",0.116241103385339,2.1594820703585278E-2,2.3171951152217467E-2,2.1594820703585278E-2,0.705555110708316,0.11905326404775517,0.14064808475134044,0.11905326404775517]
["49 & 50 Bridge Street, Portobello, Wolverhampton, West Midlands, WV13 3EQ",35190,6.1263965001200002E-2,0.06,0,0,0,null,null,null,2.3779637957580002E-3,0,0,0,"<1%",1,null,null,0,0,0,3.233179471402E-3,5.2774571011501958E-2,5.2774571011501958E-2,5.2774571011501958E-2,2.8994308936793001E-2,0.42049399618334216,0.47326856719484411,0.42049399618334216]
["Land To The Side Of 17 Regent Street WV14 6AP",34500,3.3181749999199997E-2,0.03,0,0,0,null,null,null,0,0,0,0,0,1,null,null,0,0,0,0,0,0,0,0,0,0,0]
["Garage Site Adjacent 42 To 44 Elizabeth Avenue, Bradley WV14 8DY",34590,8.2406643999899998E-2,0.08,0,0,0,null,null,null,0,0,0,0,0,1,null,null,0,0,0,0,0,0,0,4.8359852502600001E-4,5.8684409600102978E-3,5.8684409600102978E-3,5.8684409600102978E-3]
["85 Northwood Park Road, Wolverhampton, West Midlands, WV10 8EX",35110,7.5079197501300002E-2,0.08,0,0,0,null,null,null,0,0,0,0,0,1,null,null,0,0,0,0,0,0,0,2.3113277443510001E-2,0.30785195117608699,0.30785195117608699,0.30785195117608699]
["26 Clarendon Street, Wolverhampton, West Midlands, WV3 9PP",35430,7.8197941101599999E-2,0.08,0,0,0,null,null,null,0,0,0,0,0,1,null,null,0,0,0,0,0,0,0,0,0,0,0]
["Garage Site adj 142 Prosser St, Heath Town",34360,4.47822649987E-2,0.04,0,0,0,null,null,null,0,0,0,0,0,1,null,null,0,0,0,0,0,0,0,0,0,0,0]
["323 Tettenhall Road WV6 0JZ",34860,6.6897845001000003E-2,7.0000000000000007E-2,0,0,0,null,null,null,0,0,0,0,0,1,null,null,0,0,0,2.7408879972000001E-5,4.0971244995396022E-4,4.0971244995396022E-4,"<1%",9.5605083766199996E-3,0.14250234064349152,0.14291205309344548,0.14250234064349152]
["Garage site to rear of 2 To 6, Wolmer Road, Wolverhampton, West Midlands",35350,0.107516224997,0.11,0,0,0,null,null,null,0,0,0,0,0,1,null,null,0,0,0,0,0,0,0,0,0,0,0]
["Land Behind 28 To 40 Bradley Road Wolverhampton West Midlands",35990,0.16931062499999999,{"$f":"ROUND(C387,2)","v":0.17},0,{"$f":"ROUND(E387,2)","v":0},{"$f":"F387/D387","v":0},null,null,null,0,0,0,0,0,1,null,null,0,{"$f":"S387/C387","v":0},{"$f":"IF(T387>=0.005,T387,IF(S387=0,T387,\"<1%\"))","v":0},0,0,0,{"$f":"IF(W387>=0.005,W387,IF(V387=0,W387,\"<1%\"))","v":0},0,{"$f":"AB387-W387","v":0},0,{"$f":"IF(AA387>=0.005,AA387,IF(Z387=0,AA387,\"<1%\"))","v":0}]
["8 Newhampton Road East, Wolverhampton, West Midlands, WV1 4AJ",35040,2.75048774973E-2,0.03,0,0,0,null,null,null,0,0,0,0,0,1,null,null,0,0,0,0,0,0,0,0,0,0,0]
["223 Broad Lanes Bilston WV14 0RY",33700,6.9658450000899999E-2,7.0000000000000007E-2,0,0,0,null,null,null,4.8042922049409999E-2,0.05,0.05,0.7142857142857143,0.7142857142857143,0.2857142857142857,null,null,0,0,0,8.6315326395310001E-3,0.1239122122214818,0.1239122122214818,0.1239122122214818,4.3391111562134002E-2,0.49900017761167387,0.62291238983315567,0.49900017761167387]
["Land adj 123 Gorsebrook Road Wolverhampton West Midlands WV6 0PE",33650,2.1986680000600001E-2,0.02,0,0,0,null,null,null,0,0,0,0,0,1,null,null,0,0,0,0,0,0,0,0,0,0,0]
["25 Grove Lane Wolverhampton West Midlands WV6 8NJ",33710,0.25447175999900001,0.25,0,0,0,null,null,null,0,0,0,0,0,1,null,null,0,0,0,0,0,0,0,0,0,0,0]
["25 Tettenhall Road WV3 9NB",34940,1.2274500001200001E-2,0.01,0,0,0,null,null,null,0,0,0,0,0,1,null,null,0,0,0,0,0,0,0,0,0,0,0]
["7 Foley Avenue WV6 8LT",34520,5.83874997011E-2,0.06,0,0,0,null,null,null,0,0,0,0,0,1,null,null,0,0,0,0,0,0,0,0,0,0,0]
["Land at the rear of 81 Lichfield Street, Wolverhampton, West Midlands, WV1 1EQ",35130,1.6577624999799999E-2,0.02,0,0,0,null,null,null,0,0,0,0,0,1,null,null,0,0,0,0,0,0,0,0,0,0,0]
["241 Steelhouse Lane, Wolverhampton, West Midlands, WV2 2AB",35320,6.7244189999199996E-2,7.0000000000000007E-2,0,0,0,null,null,null,0,0,0,0,0,1,null,null,0,0,0,0,0,0,0,0,0,0,0]
["Land Adjacent To 251 Moseley Road, Bilston WV14 6HX",34800,5.8587849998300003E-2,0.06,0,0,0,null,null,null,0,0,0,0,0,1,null,null,0,0,0,1.0800000000000001E-2,0.18433856166958465,0.18433856166958465,0.18433856166958465,3.1239046324456E-2,0.34886151864335468,0.53320008031293931,0.34886151864335468]
["48 Arnhem Road, Wolverhampton, West Midlands, WV13 3TX",35240,2.8585000001700001E-2,0.03,0,0,0,null,null,null,0,0,0,0,0,1,null,null,0,0,0,0,0,0,0,0,0,0,0]
["70 Dudley Road, Wolverhampton,West Midlands, WV2 3BY",35270,6.5430900002699998E-3,0.01,0,0,0,null,null,null,0,0,0,0,0,1,null,null,0,0,0,0,0,0,0,0,0,0,0]
["25 Spring Road Lanesfield Wolverhampton West Midlands WV4 6LQ",32420,2.9531999998600001E-2,0.03,0,0,0,null,null,null,0,0,0,0,0,1,null,null,0,0,0,0,0,0,0,0,0,0,0]
["11 Pineways Drive Wolverhampton West Midlands WV6 0LL",33270,8.3255375000400006E-2,0.08,0,0,0,null,null,null,0,0,0,0,0,1,null,null,0,0,0,0,0,0,0,9.2891600025999998E-5,1.1157429778624346E-3,1.1157429778624346E-3,"<1%"]
["Fmr Rookery Lodge, Woodcross Lane",36440,1.0413656600000001,1.04,0,0,0,null,null,null,0,0,0,0,0,1,null,null,0,0,0,0,0,0,0,2.5188204400074E-2,2.4187665646737379E-2,2.4187665646737379E-2,2.4187665646737379E-2]
["Land to the rear of 71 Mill Lane, Tettenhall Wood, Wolverhampton, West Midlands, WV6 8HE",35520,5.4150167051400001E-2,0.05,0,0,0,null,null,null,0,0,0,0,0,1,null,null,0,0,0,0,0,0,0,0,0,0,0]
["Land Adjacent To 327 Prestwood Road WV11 1RH",34710,4.7348210001E-2,0.05,0,0,0,null,null,null,0,0,0,0,0,1,null,null,0,0,0,0,0,0,0,3.4888815010000001E-5,7.3685605029763838E-4,7.3685605029763838E-4,"<1%"]
["Land adjacent to 6 Lawrence Avenue, Heath Town, Wolverhampton, West Midlands, WV10 0QJ",35250,3.5718537499200002E-2,0.04,0,0,0,null,null,null,0,0,0,0,0,1,null,null,0,0,0,0,0,0,0,0,0,0,0]
["Shop South Corner of Bushbury Road, Lawrence Avenue, Heath Town, Wolverhampton, West Midlands",35260,3.0646950000299999E-2,0.03,0,0,0,null,null,null,0,0,0,0,0,1,null,null,0,0,0,0,0,0,0,1.1349125003E-4,3.7031825362357118E-3,3.7031825362357118E-3,"<1%"]
["Garage Site to the rear of 30 to 36 Bargery Road, Wolverhampton, West Midlands",35380,4.5060982498600001E-2,0.05,0,0,0,null,null,null,0,0,0,0,0,1,null,null,0,0,0,0,0,0,0,2.8543685000580001E-3,6.3344568666399634E-2,6.3344568666399634E-2,6.3344568666399634E-2]
["10 Finchfield Lane, Wolverhampton, West Midlands, WV3 8EF",35150,6.8843750000200002E-2,7.0000000000000007E-2,0,0,0,null,null,null,0,0,0,0,0,1,null,null,0,0,0,0,0,0,0,0,0,0,0]
["134 Bridgnorth Road, Wolverhampton, West Midlands, WV6 8BB",35210,0.12559574999600001,0.13,0,0,0,null,null,null,0,0,0,0,0,1,null,null,0,0,0,2.5519153085744001E-2,0.20318484571776305,0.20318484571776305,0.20318484571776305,9.1746837466665995E-2,0.52730832359400071,0.73049316931176378,0.52730832359400071]
["41-45 Spring Road, Wolverhampton, West Midlands, WV4 6LQ",35280,5.6601600000400001E-2,0.06,0,0,0,null,null,null,0,0,0,0,0,1,null,null,0,0,0,0,0,0,0,0,0,0,0]
["88 Richmond Road, Wolverhampton, West Midlands, WV3 9JD",35290,0.28423575000200002,0.28000000000000003,0,0,0,null,null,null,0,0,0,0,0,1,null,null,0,0,0,0,0,0,0,1.7110074999999999E-6,6.0196773276688822E-6,6.0196773276688822E-6,"<1%"]
["Garage Site To The Rear Of 18 To 24 Chapel Street Bradley",34890,0.210922325001,0.21,0,0,0,null,null,null,0,0,0,0,0,1,null,null,0,0,0,0,0,0,0,3.3972816988999997E-5,1.6106790492110748E-4,1.6106790492110748E-4,"<1%"]
["1 - 21 Finchfield Road West",30660,0.30121862150099998,0.3,0,0,0,null,null,null,0,0,0,0,0,1,null,null,0,0,0,0,0,0,0,0,0,0,0]
["Supermarket 5 Warstones Drive Wolverhampton West Midlands WV4 4PP",35850,5.4213099999600001E-2,0.05,0,0,0,null,null,null,0,0,0,0,0,1,null,null,0,0,0,0,0,0,0,0,0,0,0]
["Former Chubb Site, Wednesfield Road, Heath Town (north)",33600,2.5697072649999999,2.57,0,0,0,null,null,null,0,0,0,0,0,1,null,null,0.213242372715409,8.2983138048375718E-2,8.2983138048375718E-2,0.381822081325431,6.5602689810670703E-2,0.14858582785904642,6.5602689810670703E-2,0.68358463515555301,0.20041385007546031,0.266016539886131,0.20041385007546031]
["Land adjacent to 39 Stratton Street, Wolverhampton, West Midlands",35480,2.92324280487E-2,0.03,0,0,0,null,null,null,0,0,0,0,0,1,null,null,0,0,0,0,0,0,0,0,0,0,0]
["124 Wolverhampton Street",34210,3.2136750000799998E-2,0.03,0,0,0,null,null,null,0,0,0,0,0,1,null,null,3.2230639919999999E-6,1.0029215748075852E-4,"<1%",1.0740759015E-5,2.3392829152956844E-4,3.3422044901032695E-4,"<1%",1.4130818210041E-2,0.43947507183104767,0.43970900012257724,0.43947507183104767]
["1 Cherrington Gardens Wolverhampton West Midlands WV6 8AJ",36190,6.1734675000299999E-2,0.06,0,0,0,null,null,null,0,0,0,0,0,1,null,null,0,0,0,0,0,0,0,1.3818097049972999E-2,0.22383040082264707,0.22383040082264707,0.22383040082264707]
["Portobello Flats, New Street & South Street",27480,1.728239375,1.73,0,0,0,null,null,null,0,0,0,0,0,1,null,null,1.3883475997500001E-4,8.0333061486346482E-5,"<1%",3.4342374639907997E-2,1.979097362015201E-2,1.9871306681638355E-2,1.979097362015201E-2,0.125870715331587,5.3040786350359602E-2,7.2831759970511611E-2,5.3040786350359602E-2]
["107 Windsor Avenue Wolverhampton West Midlands WV4 4BJ",35750,8.4092749998899999E-2,0.08,0,0,0,null,null,null,0,0,0,0,0,1,null,null,0,0,0,0,0,0,0,0,0,0,0]
["Staffordshire Volunteer, Collingwood Road (New Build)",35330,5.7399160001000003E-2,0.06,0,0,0,null,null,null,0,0,0,0,0,1,null,null,0,0,0,0,0,0,0,0,0,0,0]
["142 Newhampton Road West Wolverhampton West Midlands WV6 0RR",36090,2.6000875000399999E-2,0.03,0,0,0,null,null,null,0,0,0,0,0,1,null,null,0,0,0,0,0,0,0,0,0,0,0]
["23 Chapel Ash WV3 0TZ",34570,2.4710852500500001E-2,0.02,0,0,0,null,null,null,0,0,0,0,0,1,null,null,0,0,0,0,0,0,0,3.08158798015E-4,1.247058546477766E-2,1.247058546477766E-2,1.247058546477766E-2]
["Former Substation  169 Wellington Road Wolverhampton West Midlands WV14 6RN",35780,6.2427118898800003E-2,0.06,0,0,0,null,null,null,0,0,0,0,0,1,null,null,0,0,0,0,0,0,0,2.12426363064E-4,3.4027897941015395E-3,3.4027897941015395E-3,"<1%"]
["Land Adjacent To 38 King Street Bradley Wolverhampton West Midlands WV14 8PQ",36060,4.7706375000699998E-2,0.05,0,0,0,null,null,null,0,0,0,0,0,1,null,null,0,0,0,0,0,0,0,0,0,0,0]
["29 Lichfield Street, City Centre",37010,9.4757600009099992E-3,0.01,0,0,0,null,null,null,0,0,0,0,0,1,null,null,0,0,0,0,0,0,0,0,0,0,0]
["18 Chapel Ash Wolverhampton West Midlands WV3 0TN",36010,1.44709699984E-2,0.01,0,0,0,null,null,null,0,0,0,0,0,1,null,null,0,0,0,0,0,0,0,0,0,0,0]
["229 Trysull Road Wolverhampton West Midlands WV3 7JP",36020,7.4586685000200006E-2,7.0000000000000007E-2,0,0,0,null,null,null,0,0,0,0,0,1,null,null,0,0,0,0,0,0,0,3.7063175550090997E-2,0.49691410135725445,0.49691410135725445,0.49691410135725445]
["Land at Railway Drive, Bilston",37140,0.276452855,0.28000000000000003,0,0,0,null,null,null,0,0,0,0,0,1,null,null,0,0,0,0,0,0,0,9.8779079890000008E-6,3.5730895197302271E-5,3.5730895197302271E-5,"<1%"]
["The Firs 49 Completed During 2017/18pton Road West Wolverhampton West Midlands WV3 9DU",35760,4.5559545000500003E-2,0.05,0,0,0,null,null,null,0,0,0,0,0,1,null,null,0,0,0,0,0,0,0,0,0,0,0]
["Land Between 5 to 9 Martin Street",30870,5.1725000001900001E-2,0.05,0,0,0,null,null,null,0,0,0,0,0,1,null,null,0,0,0,0,0,0,0,0,0,0,0]
["1 Haden Hill Wolverhampton West Midlands WV3 9PT",33260,2.8012553999299999E-2,0.03,0,0,0,null,null,null,0,0,0,0,0,1,null,null,0,0,0,0,0,0,0,3.8296037937999998E-5,1.3671026904207653E-3,1.3671026904207653E-3,"<1%"]
["Land at 131 - 133 Ashley Street",31200,2.16560000015E-2,0.02,0,0,0,null,null,null,0,0,0,0,0,1,null,null,0,0,0,0,0,0,0,0,0,0,0]
["32 Upper Villiers Street Wolverhampton West Midlands WV2 4NU",36050,2.7798097501499999E-2,0.03,0,0,0,null,null,null,0,0,0,0,0,1,null,null,0,0,0,0,0,0,0,0,0,0,0]
["Land Outline Planning Permissionosite 14 Sycamore Drive Wolverhampton West Midlands",36180,0.15229824599799999,0.15,0,0,0,null,null,null,0,{"$f":"ROUND(K434,2)","v":0},{"$f":"L434-F434","v":0},{"$f":"L434/D434","v":0},{"$f":"IF(N434>=0.005,N434,IF(K434=0,N434,\"<1%\"))","v":0},{"$f":"1-N434","v":1},null,null,0,0,0,0,{"$f":"X434-T434","v":0},{"$f":"V434/C434","v":0},0,0,0,{"$f":"Z434/C434","v":0},0]
["Auxiliary Fire Service, Old Completed During 2017/18rades Club 5C Market Street Wolverhampton West Midlands WV1 3AE",36170,3.3434999999700003E-2,0.03,0,0,0,null,null,null,0,0,0,0,0,1,null,null,0,0,0,0,0,0,0,0,0,0,0]
["Former Joan O Callaghan Completed During 2017/18munity Centre 81 & 83 Guy Avenue  Wolverhampton  West Midlands  WV10 9SB",36100,5.9511374998099997E-2,0.06,0,0,0,null,null,null,0,0,0,0,0,1,null,null,0,0,0,0,0,0,0,2.4435601991893E-2,0.41060388862924352,0.41060388862924352,0.41060388862924352]
["1-9 Hincks Street Wolverhampton West Midlands WV2 2JZ",35940,4.7257499994700003E-3,4.0000000000000001E-3,0,0,0,null,null,null,0,0,0,0,0,1,null,null,0,0,0,0,0,0,0,4.7257222511020002E-3,0.9999941282615451,0.9999941282615451,0.9999941282615451]
["Land at Rookery Street",27040,0.21340797190300001,0.21,0,0,0,null,null,null,0,0,0,0,0,1,null,null,0,0,0,0,0,0,0,0,0,0,0]
["93 Bushbury Road WV10 0LZ",34820,7.0537610000600007E-2,7.0000000000000007E-2,0,0,0,null,null,null,0,0,0,0,0,1,null,null,0,0,0,0,0,0,0,6.7973151048000003E-5,9.6364409068327962E-4,9.6364409068327962E-4,"<1%"]
["Land At Rear Of 2 - 10 Dickinson Avenue Wolverhampton West Midlands WV10 9DJ",33220,0.114691388251,0.11,0,0,0,null,null,null,0,0,0,0,0,1,null,null,0,0,0,0,0,0,0,1.0761669993E-5,9.3831543563220994E-5,9.3831543563220994E-5,"<1%"]
["239 - 241 Prestwood Road Wolverhampton West Midlands",33210,2.35116530006E-2,0.02,0,0,0,null,null,null,0,0,0,0,0,1,null,null,0,0,0,0,0,0,0,0,0,0,0]
["Polypipe┬áFactory, Chestom┬áRoad, Wolverhampton WV14┬á0RD",34050,1.4232546234900001,1.42,0,0,0,null,null,null,0,0,0,0,0,1,null,null,6.2272758098099997E-4,4.3753771862268279E-4,"<1%",4.5270797970267999E-2,3.1370402493268765E-2,3.1807940211891449E-2,3.1370402493268765E-2,0.15799597780362601,7.9639936202276745E-2,0.11101033869554551,7.9639936202276745E-2]
["Former G & P Batteries Site, Grove Street, Heath Town",34400,0.62023289250199998,0.62,0,0,0,null,null,null,0,0,0,0,0,1,null,null,0,0,0,0,0,0,0,3.1784326236945999E-2,5.1245792703332821E-2,5.1245792703332821E-2,5.1245792703332821E-2]
["Garage Site between 10-16 Watson Road, Lanesfield",34350,4.17107559989E-2,0.04,0,0,0,null,null,null,0,0,0,0,0,1,null,null,0,0,0,0,0,0,0,0,0,0,0]
["Staffordshire Volunteer, Collingwood Road (Conversion)",35360,0.29546974000199999,0.3,0,0,0,null,null,null,0,0,0,0,0,1,null,null,0,0,0,0,0,0,0,1.43084849944E-4,4.8426227993103956E-4,4.8426227993103956E-4,"<1%"]
["20 - 24 Broad Street, City Centre WV1 1HP",34830,5.8185690000700001E-2,0.06,0,0,0,null,null,null,0,0,0,0,0,1,null,null,0,0,0,0,0,0,0,0,0,0,0]
["Former Britannia Inn Car Park Hall Green Street Wolverhampton West Midlands WV14 8TH",32320,0.106204560251,0.11,0,0,0,null,null,null,0,0,0,0,0,1,null,null,0,0,0,0,0,0,0,0,0,0,0]
["The Holly Bush Public House 494 Penn Road Wolverhampton West Midlands WV4 4HU",32590,8.4438597750300007E-2,0.08,0,0,0,null,null,null,0,0,0,0,0,1,null,null,0,0,0,0,0,0,0,2.96528399E-6,3.5117636590423654E-5,3.5117636590423654E-5,"<1%"]
["Land adj 56 Newhampton Road West",26060,5.91971800018E-2,0.06,0,0,0,null,null,null,0,0,0,0,0,1,null,null,0,0,0,0,0,0,0,7.0679237072959998E-3,0.11939629061859174,0.11939629061859174,0.11939629061859174]
["71 Leicester Street, Wolverhampton, West Midlands, WV6 0PR",35070,1.38052224987E-2,0.01,0,0,0,null,null,null,0,0,0,0,0,1,null,null,0,0,0,1.844115327985E-3,0.13358099285677252,0.13358099285677252,0.13358099285677252,1.2937310304926E-2,0.80355061122597737,0.93713160408274987,0.80355061122597737]
["21 Kinfare Drive WV6 8JW",34560,3.2423749999499998E-2,{"$f":"ROUND(C451,2)","v":0.03},0,{"$f":"ROUND(E451,2)","v":0},{"$f":"F451/D451","v":0},null,null,null,0,0,0,0,0,1,null,null,0,{"$f":"S451/C451","v":0},{"$f":"IF(T451>=0.005,T451,IF(S451=0,T451,\"<1%\"))","v":0},0,0,0,{"$f":"IF(W451>=0.005,W451,IF(V451=0,W451,\"<1%\"))","v":0},0,{"$f":"AB451-W451","v":0},0,{"$f":"IF(AA451>=0.005,AA451,IF(Z451=0,AA451,\"<1%\"))","v":0}]
["Garage Site Rear Of 8 To 14 Collingwood Road Wolverhampton West Midlands",33360,0.14622691000099999,0.15,0,0,0,null,null,null,0,0,0,0,0,1,null,null,0,0,0,0,0,0,0,0,0,0,0]
["55 Beechwood Avenue, Wolverhampton, West Midlands, WV11 1DU",35050,8.9464650002199997E-2,0.09,0,0,0,null,null,null,0,0,0,0,0,1,null,null,0,0,0,0,0,0,0,1.58219999913E-4,1.7685197439336012E-3,1.7685197439336012E-3,"<1%"]
["Land At Junction With Parry Road Woodside Wolverhampton",33970,0.163900069999,0.16,0,0,0,null,null,null,0,0,0,0,0,1,null,null,0,0,0,0,0,0,0,0,0,0,0]
["Mount Bungalow, Deans Road WV1 2BH",34920,0.14883303000199999,0.15,0,0,0,null,null,null,0,0,0,0,0,1,null,null,9.3064552496309998E-3,6.2529502016494196E-2,6.2529502016494196E-2,1.1256414762730999E-2,1.31016583689373E-2,7.5631160385431495E-2,1.31016583689373E-2,2.419571286971E-2,0.1494678523733009,0.16256951074223822,0.1494678523733009]
["446 Wolverhampton Road East, Wolverhampton, West Midlands, WV4 6AR",35090,0.103731,0.1,0,0,0,null,null,null,0,0,0,0,0,1,null,null,0,0,0,0,0,0,0,0,0,0,0]
["8 - 10 Completed During 2017/18pton Road Wolverhampton West Midlands WV3 9PH",35860,3.3336672499999997E-2,0.03,0,0,0,null,null,null,0,0,0,0,0,1,null,null,0,0,0,0,0,0,0,0,0,0,0]
["17 Hughes Road, Wolverhampton, West Midlands, WV14 6QU",35610,2.9172375000899999E-2,0.03,0,0,0,null,null,null,0,0,0,0,0,1,null,null,0,0,0,8.770228002E-6,3.0063469298366788E-4,3.0063469298366788E-4,"<1%",4.4733000009000003E-5,1.2327680555967936E-3,1.5334027485804616E-3,"<1%"]
["Land To The Rear Of 201 Castlecroft Road Castlecroft Wolverhampton West Midlands WV3 8NA",35810,7.8115295100700005E-2,0.08,0,0,0,null,null,null,0,0,0,0,0,1,null,null,0,0,0,0,0,0,0,0,0,0,0]
["270 Bilston Road Wolverhampton West Midlands WV2 2HU",35730,0.117503582498,0.12,0,0,0,null,null,null,0,0,0,0,0,1,null,null,0,0,0,1.3599999999999999E-2,0.11574115197918737,0.11574115197918737,0.11574115197918737,3.1862977804078998E-2,0.15542485953047303,0.27116601150966041,0.15542485953047303]
["Niphon Works, Lower Villiers Street",37180,0.145957500001,0.15,0,0,0,null,null,null,0,0,0,0,0,1,null,null,0,0,0,4.5848882692600001E-4,3.1412488356052878E-3,3.1412488356052878E-3,"<1%",9.5448772372059999E-3,6.2253658840537469E-2,6.5394907676142755E-2,6.2253658840537469E-2]
["Land rear of 18-32 Turner Avenue, Woodcross",28940,0.25603748500000001,0.26,0,0,0,null,null,null,0,0,0,0,0,1,null,null,0,0,0,0,0,0,0,0,0,0,0]
["Former Sunbeam Factory, Paul Street",36850,0.92961036500100003,0.93,0,0,0,null,null,null,0,0,0,0,0,1,null,null,3.105977029719E-3,3.3411600673317137E-3,"<1%",2.2200565290962E-2,2.0540420998019379E-2,2.3881581065351092E-2,2.0540420998019379E-2,8.0488361678381998E-2,6.6042479439300306E-2,8.6582900437319685E-2,6.6042479439300306E-2]
["34 Trysull Road",34240,0.109970616452,0.11,0,0,0,null,null,null,0,0,0,0,0,1,null,null,0,0,0,0,0,0,0,0,0,0,0]
["Land adj 61 Wergs Road, Tettenhall",25470,0.41152977499799998,0.41,0,0,0,null,null,null,0,0,0,0,0,1,null,null,0,0,0,0,0,0,0,0,0,0,0]
["Thompson Avenue Open Space",36460,3.1158795008000002,3.12,0,0,0,null,null,null,0,0,0,0,0,1,null,null,1.6016474873601999E-2,5.1402741567797405E-3,5.1402741567797405E-3,7.8946148851952003E-2,2.019644019038376E-2,2.5336714347163499E-2,2.019644019038376E-2,0.29312648799388102,7.387859959168129E-2,9.4075039782065051E-2,7.387859959168129E-2]
["Land Rear Of The Cedars Completed During 2017/18pton Road West Wolverhampton West Midlands WV3 9DX",37850,0.78640308500099998,0.79,0,0,0,null,null,null,0,0,0,0,0,1,null,null,0,0,0,0,0,0,0,0,0,0,0]
["Fmr Long Acres PH, Dilloways Lane",37040,0.44736025000099999,0.45,0,0,0,null,null,null,0,0,0,0,0,1,null,null,0,0,0,0,0,0,0,0,0,0,0]
["St Marks Road, adjoining Sainsbury's",27350,7.5231745433999997,7.52,0,0,0,null,null,null,0,0,0,0,0,1,null,null,3.2064665197800002E-4,4.2621190047929953E-5,"<1%",1.2282935308467999E-2,1.5900586364813757E-3,1.6326798265293057E-3,"<1%",8.7287664981359994E-2,1.0012445662443407E-2,1.1602504298924784E-2,1.0012445662443407E-2]
["Land Adjacent To Sunnyside Taylor Road Wolverhampton West Midlands",37750,0.36942012960199999,0.37,0,0,0,null,null,null,0,0,0,0,0,1,null,null,1.0800000000000001E-2,2.9235006797370608E-2,2.9235006797370608E-2,1.3603446638032E-2,7.5887760665677151E-3,3.6823782863938323E-2,7.5887760665677151E-3,2.9282909507008001E-2,7.1678451570855173E-2,7.9267227637422888E-2,7.1678451570855173E-2]
["57 Albert Road Wolverhampton West Midlands WV6 0AG",36070,0.218268962501,0.22,0,0,0,null,null,null,0,0,0,0,0,1,null,null,0,0,0,0,0,0,0,0,0,0,0]
["Site Of Sutherland House Old Heath Road Wolverhampton West Midlands",33560,0.33045034149699998,0.33,0,0,0,null,null,null,0,0,0,0,0,1,null,null,0,0,0,0,0,0,0,6.6195781053999999E-5,2.0031990511530751E-4,2.0031990511530751E-4,"<1%"]
["6 Park Crescent Wolverhampton West Midlands WV1 4PY",33430,3.2559625002700002E-2,0.03,0,0,0,null,null,null,0,0,0,0,0,1,null,null,1.4042568660399999E-3,4.3128778845688553E-2,4.3128778845688553E-2,3.1238412960120001E-3,5.2813397876339291E-2,9.5942176722027844E-2,5.2813397876339291E-2,6.6422336988590002E-3,0.15118875811618809,0.20400215599252738,0.15118875811618809]
["24 Uplands Avenue",37070,4.1377375001500002E-2,0.04,0,0,0,null,null,null,0,0,0,0,0,1,null,null,0,0,0,0,0,0,0,0,0,0,0]
["Land at the rear of 216 Compton Road, Wolverhampton, West Midlands, WV3 9JX",35500,6.8941843101400002E-2,7.0000000000000007E-2,0,0,0,null,null,null,0,0,0,0,0,1,null,null,6.8941843101369998E-2,0.99999999999956479,0.99999999999956479,6.8941809810886004E-2,-4.8287777776323537E-7,0.99999951712178703,"<1%",6.8941825799706993E-2,1.0000002319170807,0.99999974903930278,1.0000002319170807]
["Former St Judes House 51 St Judes Road West Wolverhampton West Midlands WV6 0DB",35710,8.7985107301300006E-2,0.09,0,0,0,null,null,null,0,0,0,0,0,1,null,null,0,0,0,2.4622822532999999E-5,2.7985216235152776E-4,2.7985216235152776E-4,"<1%",5.3038332495009997E-3,6.000118189194955E-2,6.0281034054301075E-2,6.000118189194955E-2]
["Land Adjacent To 51 Brierley Lane Wolverhampton West Midlands",37740,0.23401620000199999,0.23,0,0,0,null,null,null,0,0,0,0,0,1,null,null,1.8800000000000001E-2,8.0336318596060136E-2,8.0336318596060136E-2,2.5952507000128001E-2,3.0564153251214546E-2,0.11090047184727468,3.0564153251214546E-2,6.1031953670355001E-2,0.23023810603610573,0.26080225928732026,0.23023810603610573]
["Land Adjacent To The White Cottage Stockwell End Wolverhampton West Midlands",37290,7.0533280049999994E-2,7.0000000000000007E-2,0,0,0,null,null,null,0,0,0,0,0,1,null,null,0,0,0,0,0,0,0,0,0,0,0]
["61 Probert Road Wolverhampton West Midlands WV10 6UE",35930,6.4241024999500004E-2,0.06,0,0,0,null,null,null,0,0,0,0,0,1,null,null,3.1578654999289998E-3,4.9156524198572138E-2,4.9156524198572138E-2,1.5240271797102E-2,0.18807928885423356,0.23723581305280569,0.18807928885423356,5.511060149771E-2,0.66979309873825787,0.8578723875924914,0.66979309873825787]
["4 Merridale Lane",37060,2.4717750001099999E-2,0.02,0,0,0,null,null,null,0,0,0,0,0,1,null,null,0,0,0,0,0,0,0,4.7040399998430002E-3,0.19031020216782107,0.19031020216782107,0.19031020216782107]
["Land Adjacent To 24 Cullwick Street Wolverhampton West Midlands WV1 2SX",35740,2.1334432499400001E-2,0.02,0,0,0,null,null,null,0,0,0,0,0,1,null,null,0,0,0,0,0,0,0,0,0,0,0]
["112 Bunkers Hill Lane, Bilston",26290,0.203962437503,0.2,0,0,0,null,null,null,0,0,0,0,0,1,null,null,0,0,0,0,0,0,0,7.6886592910199996E-4,3.7696447371133768E-3,3.7696447371133768E-3,"<1%"]
["56 Oak Street",37100,4.2959979000499998E-2,0.04,0,0,0,null,null,null,0,0,0,0,0,1,null,null,0,0,0,0,0,0,0,3.3608229008799998E-4,7.8231483791947019E-3,7.8231483791947019E-3,7.8231483791947019E-3]
["Land Adjacent To 2 Marsh Lane Wolverhampton West Midlands",35920,6.0770082999199997E-2,0.06,0,0,0,null,null,null,0,0,0,0,0,1,null,null,0,0,0,0,0,0,0,2.6408988378036E-2,0.43457219530839969,0.43457219530839969,0.43457219530839969]
["Garage Site Rear Of 6 To 52 Junction Road",34640,0.21278080849799999,0.21,0,0,0,null,null,null,0,0,0,0,0,1,null,null,0,0,0,0,0,0,0,0,0,0,0]
["The British Oak Public House 155 Willenhall Road Wolverhampton West Midlands WV1 2HU",35790,4.0498899600100002E-2,0.04,0,0,0,null,null,null,0,0,0,0,0,1,null,null,0,0,0,0,0,0,0,4.37215040057E-4,1.0795726411685526E-2,1.0795726411685526E-2,1.0795726411685526E-2]
["Land at 4 to 10 Marchant Road",31120,0.21700257999899999,0.22,0,0,0,null,null,null,0,0,0,0,0,1,null,null,0,0,0,0,0,0,0,0,0,0,0]
["Garage Site Rear of 2-22 Hawkley Road",34340,0.23777599999599999,0.24,0,0,0,null,null,null,0,0,0,0,0,1,null,null,0,0,0,0,0,0,0,1.6307861991E-5,6.8584979103333978E-5,6.8584979103333978E-5,"<1%"]
["53 - 54 Gordon Street Wolverhampton West Midlands WV2 1DB",35900,1.71018889993E-2,0.02,0,0,0,null,null,null,0,0,0,0,0,1,null,null,0,0,0,0,0,0,0,1.7269879999780001E-3,0.10098229499961599,0.10098229499961599,0.10098229499961599]
["Land Rear Of Bird In Hand Public House Thorneycroft Lane Wolverhampton West Midlands WV10 0NF",35830,0.12017938400100001,0.12,0,0,0,null,null,null,0,0,0,0,0,1,null,null,0,0,0,0,0,0,0,1.8320099766899999E-4,1.5243962114789638E-3,1.5243962114789638E-3,"<1%"]
["Former Bilston College Site, 40 and adj land, Mount Pleasant (new build)",33842,0.35432620000199999,0.35,0,0,0,null,null,null,0,0,0,0,0,1,null,null,0,0,0,0,0,0,0,1.1599999999999999E-2,3.273819435292824E-2,3.273819435292824E-2,3.273819435292824E-2]
["Land Adjacent To 57 Ashley Street Wolverhampton West Midlands",35880,1.55340000006E-2,0.02,0,0,0,null,null,null,0,0,0,0,0,1,null,null,0,0,0,0,0,0,0,1.7478152964000002E-5,1.1251546905706779E-3,1.1251546905706779E-3,"<1%"]
["Land Adjacent To  Kings Arms Public House 434 Dudley Road Wolverhampton West Midlands WV2 3AQ",35720,1.7901184450499999E-2,0.02,0,0,0,null,null,null,0,0,0,0,0,1,null,null,0,0,0,0,0,0,0,0,0,0,0]
["136 Hawksford Crescent Wolverhampton West Midlands WV10 9SN",36110,2.4651580000199999E-2,0.02,0,0,0,null,null,null,0,0,0,0,0,1,null,null,0,0,0,0,0,0,0,0,0,0,0]
["43 Taylor Street",37170,7.6515659001000005E-2,0.08,0,0,0,null,null,null,0,0,0,0,0,1,null,null,0,0,0,0,0,0,0,0,0,0,0]
["192 Merridale Street West Wolverhampton West Midlands WV3 0RP",32850,1.5855999999299999E-2,0.02,0,0,0,null,null,null,0,0,0,0,0,1,null,null,0,0,0,0,0,0,0,0,0,0,0]
["19-20 Waverley Crescent, Lanesfield",34280,0.26456729685000002,0.26,0,0,0,null,null,null,0,0,0,0,0,1,null,null,0,0,0,0,0,0,0,5.14082871148E-3,1.9431081515697165E-2,1.9431081515697165E-2,1.9431081515697165E-2]
["Land Adjacent To 5 Hilton Road Wolverhampton West Midlands WV4 6DT",35680,8.4545635001299996E-2,0.08,0,0,0,null,null,null,0,{"$f":"ROUND(K498,2)","v":0},{"$f":"L498-F498","v":0},{"$f":"L498/D498","v":0},{"$f":"IF(N498>=0.005,N498,IF(K498=0,N498,\"<1%\"))","v":0},{"$f":"1-N498","v":1},null,null,0,0,0,1.429587457556E-3,{"$f":"X498-T498","v":1.6909062869230544E-2},{"$f":"V498/C498","v":1.6909062869230544E-2},1.6909062869230544E-2,5.589878816335E-3,4.9207642224403776E-2,{"$f":"Z498/C498","v":6.611670509363432E-2},4.9207642224403776E-2]
["Open Space Adjacent To 74 Barnard Road Wolverhampton",34010,0.14486893000100001,0.14000000000000001,0,0,0,null,null,null,0,0,0,0,0,1,null,null,0,0,0,0,0,0,0,6.0240324997710001E-3,4.1582639560666435E-2,4.1582639560666435E-2,4.1582639560666435E-2]
["159 Parkfield Road",37020,2.41012199994E-2,0.02,0,0,0,null,null,null,0,0,0,0,0,1,null,null,0,0,0,0,0,0,0,8.628065159425E-3,0.35799288001353441,0.35799288001353441,0.35799288001353441]
["Thorneycroft Service Station Thorneycroft Lane Wolverhampton West Midlands WV10 0NF",35870,6.9169705497700004E-2,7.0000000000000007E-2,0,0,0,null,null,null,0,0,0,0,0,1,null,null,0,0,0,5.0869983502999998E-5,7.3543732963691024E-4,7.3543732963691024E-4,"<1%",1.531450804991E-3,2.1405047351795239E-2,2.2140484681432149E-2,2.1405047351795239E-2]
["Chestnut Cottage, 23A Birchfield Avenue Wolverhampton West Midlands WV6 8TE",35890,0.23397476499299999,0.23,0,0,0,null,null,null,0,0,0,0,0,1,null,null,0,0,0,0,0,0,0,0,0,0,0]
["24A Chapel Ash",37090,5.57643000011E-3,0.01,0,0,0,null,null,null,0,0,0,0,0,1,null,null,0,0,0,0,0,0,0,0,0,0,0]
["Land Between 20 & 22 Church Hill Penn Wolverhampton West Midlands WV4 5PN",32190,0.15275114370199999,0.15,0,0,0,null,null,null,0,0,0,0,0,1,null,null,0,0,0,0,0,0,0,8.8364849988999998E-5,5.7848895823254664E-4,5.7848895823254664E-4,"<1%"]
["Sharow 21 Perton Road",34300,0.17347767299899999,0.17,0,0,0,null,null,null,0,0,0,0,0,1,null,null,0,0,0,0,0,0,0,0,0,0,0]
["Land Adjacent To 6 Wrekin Drive Merry Hill Wolverhampton West Midlands WV3 7HZ",36120,6.1719874999200001E-2,0.06,0,0,0,null,null,null,0,0,0,0,0,1,null,null,3.90730000008E-4,6.3306997950508571E-3,6.3306997950508571E-3,3.90730000008E-4,0,6.3306997950508571E-3,"<1%",4.9023188797289998E-3,7.9428528975351007E-2,7.9428528975351007E-2,7.9428528975351007E-2]
["Land Between 26 And 35 Neville Avenue Wolverhampton West Midlands",35820,3.2472460001E-2,0.03,0,0,0,null,null,null,0,0,0,0,0,1,null,null,0,0,0,0,0,0,0,0,0,0,0]
["Land To The Rear Of 48 Primrose Lane WV10 8RN",34780,9.6464987998199997E-2,0.1,0,0,0,null,null,null,0,0,0,0,0,1,null,null,0,0,0,0,0,0,0,0,0,0,0]
["Cleobury House Mill Lane Tettenhall Wood Wolverhampton West Midlands WV6 8HE",35910,0.525274800002,0.53,0,0,0,null,null,null,0,0,0,0,0,1,null,null,0,0,0,0,0,0,0,0,0,0,0]
["Garage Site Adjacent To 41 Bulger Road Nelson Avenue, Stowlawn",31820,4.9937819548499997E-2,0.05,0,0,0,null,null,null,0,0,0,0,0,1,null,null,0,0,0,2.1983032508000001E-5,4.4020809692441439E-4,4.4020809692441439E-4,"<1%",7.1253662722889997E-3,0.14224456141666617,0.14268476951359058,0.14224456141666617]
["Roseville Ettingshall Road Ettingshall Wolverhampton West Midlands WV2 2JP",36000,4.4372375000100002E-2,0.04,0,0,0,null,null,null,0,0,0,0,0,1,null,null,0,0,0,4.3495828307174002E-2,0.98024566652283041,0.98024566652283041,0.98024566652283041,4.4372374172713003E-2,1.9754314830725761E-2,0.99999998135355617,1.9754314830725761E-2]
["374 Penn Road Wolverhampton West Midlands WV4 4DB",35840,7.4588689997200003E-2,7.0000000000000007E-2,0,0,0,null,null,null,0,0,0,0,0,1,null,null,0,0,0,0,0,0,0,0,0,0,0]
["Land To The Rear Of 98 And 100 Codsall Road WV6 9QP",34840,3.8987749998199997E-2,0.04,0,0,0,null,null,null,0,0,0,0,0,1,null,null,0,0,0,0,0,0,0,0,0,0,0]
["22 Dudding Road Wolverhampton West Midlands WV4 5DS",37390,6.0730200000399998E-2,0.06,0,0,0,null,null,null,0,0,0,0,0,1,null,null,0,0,0,1.0723564017434999E-2,0.17657712336472411,0.17657712336472411,0.17657712336472411,1.4767082317751E-2,6.6581672714553369E-2,0.24315879607927748,6.6581672714553369E-2]
["2 - 4 Cullwick Street Wolverhampton WV1 2SX",37990,2.2385938800300001E-2,{"$f":"ROUND(C515,2)","v":0.02},0,{"$f":"ROUND(E515,2)","v":0},{"$f":"F515/D515","v":0},null,null,null,0,0,0,0,0,1,null,null,0,{"$f":"S515/C515","v":0},{"$f":"IF(T515>=0.005,T515,IF(S515=0,T515,\"<1%\"))","v":0},0,0,0,{"$f":"IF(W515>=0.005,W515,IF(V515=0,W515,\"<1%\"))","v":0},0,{"$f":"AB515-W515","v":0},0,{"$f":"IF(AA515>=0.005,AA515,IF(Z515=0,AA515,\"<1%\"))","v":0}]
["36 Foley Avenue Wolverhampton West Midlands WV6 8LX",37450,3.6912529149399999E-2,0.04,0,0,0,null,null,null,0,0,0,0,0,1,null,null,0,0,0,0,0,0,0,0,0,0,0]
["Land Rear Of Daves Supersave 6 - 8 Wootton Avenue Wolverhampton WV11 3AA",37840,1.3253263900200001E-2,0.01,0,0,0,null,null,null,0,0,0,0,0,1,null,null,0,0,0,9.3933000021000003E-5,7.0875371326139889E-3,7.0875371326139889E-3,7.0875371326139889E-3,1.832433580202E-3,0.13117527827652817,0.13826281540914215,0.13117527827652817]
["The Lych Gate, Chamberlains Lane",30680,9.5069743399799997E-2,0.1,0,0,0,null,null,null,0,0,0,0,0,1,null,null,0,0,0,0,0,0,0,0,0,0,0]
["Herian House Fold Street Wolverhampton West Midlands WV1 4LP",37950,1.9521551599799999E-2,0.02,0,0,0,null,null,null,0,0,0,0,0,1,null,null,0,0,0,5.6651953448999999E-5,2.9020210386135701E-3,2.9020210386135701E-3,"<1%",4.1888596106E-4,1.8555595120559536E-2,2.1457616159173104E-2,1.8555595120559536E-2]
["Land South West of 6 Aldersley Road Wolverhampton West Midlands",38390,1.1923375000499999E-2,0.01,0,0,0,null,null,null,0,0,0,0,0,1,null,null,0,0,0,0,0,0,0,0,0,0,0]
["Garage Site Rear Of 55 To 63 Renton Road Wolverhampton West Midlands",33350,9.9151669999400005E-2,0.1,0,0,0,null,null,null,0,0,0,0,0,1,null,null,0,0,0,0,0,0,0,2.6493508297999998E-4,2.672018363196537E-3,2.672018363196537E-3,"<1%"]
["Brook House 25 Broad Lane South Wolverhampton West Midlands WV11 3RY",37640,0.18593557000200001,0.19,0,0,0,null,null,null,0,0,0,0,0,1,null,null,0,0,0,0,0,0,0,0,0,0,0]
["Land Between 5 And 17 Welbury Gardens Wolverhampton West Midlands",38260,7.2033520000400003E-2,7.0000000000000007E-2,0,0,0,null,null,null,0,0,0,0,0,1,null,null,0,0,0,0,0,0,0,0,0,0,0]
["84 Bhylls Lane Wolverhampton West Midlands WV3 8DZ",33200,7.9519000000599999E-2,0.08,0,0,0,null,null,null,0,0,0,0,0,1,null,null,0,0,0,1.5271999999880001E-3,1.9205472905550584E-2,1.9205472905550584E-2,1.9205472905550584E-2,3.7007129599230001E-3,2.7333253183749798E-2,4.6538726089300382E-2,2.7333253183749798E-2]
["Connaught Hotel, Tettenhall Road",38460,0.32896770525500002,0.33,0,0,0,null,null,null,0,0,0,0,0,1,null,null,0,0,0,0,0,0,0,3.60628707283E-3,1.0962434960096095E-2,1.0962434960096095E-2,1.0962434960096095E-2]
["Garage Site Adjacent To 2 Bagridge Road Wolverhampton West Midlands",37680,8.5201700000000005E-2,0.09,0,0,0,null,null,null,0,0,0,0,0,1,null,null,0,0,0,0,0,0,0,1.4749400639987E-2,0.17311157688152934,0.17311157688152934,0.17311157688152934]
["37 Cartwright Street Wolverhampton WV2 3BT",37460,1.29075000002E-2,0.01,0,0,0,null,null,null,0,0,0,0,0,1,null,null,0,0,0,0,0,0,0,0,0,0,0]
["Land To The Rear Of 12 Lloyd Hill Lower Penn South Staffordshire WV4 5NE",37860,3.7257538699899999E-2,0.04,0,0,0,null,null,null,0,0,0,0,0,1,null,null,0,0,0,0,0,0,0,0,0,0,0]
["172 And 173 Stafford Street Wolverhampton WV1 1NA",37370,1.9202875001799999E-2,0.02,0,0,0,null,null,null,0,0,0,0,0,1,null,null,0,0,0,0,0,0,0,0,0,0,0]
["129 Green Lanes Bilston  Wolverhampton WV14 6BZ",37350,9.9895749999799999E-2,0.1,0,0,0,null,null,null,0,0,0,0,0,1,null,null,0,0,0,0,0,0,0,1.7909999960000001E-6,1.7928690620007215E-5,1.7928690620007215E-5,"<1%"]
["8 and 11 Mount Pleasant, Wolverhampton, West Midlands, WV14 7LJ",35200,3.6275062047999997E-2,0.04,0,0,0,null,null,null,0,0,0,0,0,1,null,null,0,0,0,0,0,0,0,0,0,0,0]
["229 - 231 Penn Road Wolverhampton West Midlands WV4 5TY",37400,0.38892099999000002,0.39,0,0,0,null,null,null,0,0,0,0,0,1,null,null,0,0,0,4.5358040037000003E-5,1.1662533017802139E-4,1.1662533017802139E-4,"<1%",2.0838963704965002E-2,5.3464857041565381E-2,5.35814823717434E-2,5.3464857041565381E-2]
["Land At Lane Street Adjacent To Daisy Bank Community Centre  Bradley Wolverhampton",37760,4.4026160001500003E-2,0.04,0,0,0,null,null,null,0,0,0,0,0,1,null,null,0,0,0,0,0,0,0,0,0,0,0]
["Orchard House 6 Elmsdale Wolverhampton West Midlands WV6 8ED",32900,0.170773495,0.17,0,0,0,null,null,null,0,0,0,0,0,1,null,null,0,0,0,0,0,0,0,0,0,0,0]
["110 Woodthorne Road South Wolverhampton West Midlands WV6 8SW",37320,5.9651586247899999E-2,0.06,0,0,0,null,null,null,0,0,0,0,0,1,null,null,0,0,0,0,0,0,0,0,0,0,0]
["575 Parkfield Road Wolverhampton West Midlands WV4 6EL",37570,1.50355000005E-2,0.02,0,0,0,null,null,null,0,0,0,0,0,1,null,null,0,0,0,0,0,0,0,0,0,0,0]
["36-42 Newbridge Street Wolverhampton West Midlands WV6 0EG",33180,4.78032357012E-2,0.05,0,0,0,null,null,null,0,0,0,0,0,1,null,null,0,0,0,0,0,0,0,0,0,0,0]
["19 Showell Road Wolverhampton West Midlands WV10 9LU",37380,6.1383999997599997E-3,0.01,0,0,0,null,null,null,0,0,0,0,0,1,null,null,0,0,0,0,0,0,0,0,0,0,0]
["Former Braybrook PRU, Bellamy Lane",37310,0.47937390000000002,0.48,0,0,0,null,null,null,0,0,0,0,0,1,null,null,0,0,0,2.8400176089004001E-2,5.9244310316026803E-2,5.9244310316026803E-2,5.9244310316026803E-2,7.6030426122251998E-2,9.9359289342302509E-2,0.15860359965832932,9.9359289342302509E-2]
["Land rear of 13/14 Church Green & 31 - 36 Parkview Road",31110,0.14968516724799999,0.15,0,0,0,null,null,null,1.085147630213E-2,0.01,0.01,6.6666666666666666E-2,6.6666666666666666E-2,0.93333333333333335,null,null,0,0,0,1.3599850039999999E-5,9.0856363994086485E-5,9.0856363994086485E-5,"<1%",2.168881797007E-3,1.4398767670788019E-2,1.4489624034782106E-2,1.4398767670788019E-2]
["Wightwick Court, Vale Head Drive, Wolverhampton",35030,0.59338944000000005,0.59,0,0,0,null,null,null,0,0,0,0,0,1,null,null,0,0,0,0,0,0,0,0,0,0,0]
["5 - 9 Chapel Ash Wolverhampton West Midlands WV3 0TZ",37540,4.8249880002100003E-2,0.05,0,0,0,null,null,null,0,0,0,0,0,1,null,null,0,0,0,0,0,0,0,0,0,0,0]
["King Charles Public House Cromwell Road Wolverhampton West Midlands WV10 8UT",38140,0.37261704170100002,0.37,0,0,0,null,null,null,0,0,0,0,0,1,null,null,0,0,0,0,0,0,0,1.24522250069E-4,3.3418291740107978E-4,3.3418291740107978E-4,"<1%"]
["Land Adjacent To 24 Essington Way Wolverhampton West Midlands",38270,8.1294421000199998E-2,0.08,0,0,0,null,null,null,0,0,0,0,0,1,null,null,0,0,0,0,0,0,0,2.4626539553586999E-2,0.30293025339987861,0.30293025339987861,0.30293025339987861]
["554 Wolverhampton Road East Wolverhampton WV4 6AA",37550,6.6485846299199999E-2,7.0000000000000007E-2,0,0,0,null,null,null,0,0,0,0,0,1,null,null,0,0,0,0,0,0,0,0,0,0,0]
["Land At Lawnside Green Wolverhampton West Midlands",38160,0.16981436220099999,0.17,0.14481436220135599,0.14000000000000001,0.82352941176470595,null,null,null,0.16981436220135601,0.17,0.03,1,1,0,null,null,5.5479639040756E-2,0.3267075783324368,0.3267075783324368,0.104144552919245,0.28657713780938621,0.61328471614182301,0.28657713780938621,0.16981439258029701,0.71342304108771426,1.0000001788971005,0.71342304108771426]
["Land Between 30 And 40 Wordsworth Avenue Wolverhampton West Midlands",38030,9.4491431401500001E-2,0.09,0,0,0,null,null,null,0,0,0,0,0,1,null,null,0,0,0,0,0,0,0,0,0,0,0]
["48 Dixon Street Wolverhampton West Midlands WV2 2BJ",37520,4.32690499997E-2,0.04,0,0,0,null,null,null,0,0,0,0,0,1,null,null,0,0,0,8.7040963467599995E-4,2.0116217820405922E-2,2.0116217820405922E-2,2.0116217820405922E-2,5.769096925869E-3,0.11321457927148768,0.1333307970918936,0.11321457927148768]
["61 Second Avenue Wolverhampton West Midlands WV10 9PD",38290,2.65083877003E-2,0.03,0,0,0,null,null,null,0,0,0,0,0,1,null,null,0,0,0,0,0,0,0,0,0,0,0]
["296 Aldersley Road Wolverhampton West Midlands WV6 9NP",38230,5.9530366299E-2,0.06,0,0,0,null,null,null,0,0,0,0,0,1,null,null,0,0,0,0,0,0,0,0,0,0,0]
["Fmr Police Station, Birmingham Road, WV2 3LN",37280,0.19154625,0.19,0,0,0,null,null,null,0,0,0,0,0,1,null,null,0,0,0,0,0,0,0,1.0456900000569999E-3,5.4592037174155065E-3,5.4592037174155065E-3,5.4592037174155065E-3]
["Garage Site Adjacent To 63 Meldon Drive Bilston",37690,9.9579234201200004E-2,0.1,0,0,0,null,null,null,0,0,0,0,0,1,null,null,0,0,0,4.2095239286570003E-2,0.42273110075858289,0.42273110075858289,0.42273110075858289,8.0877007451500005E-2,0.38945638090137724,0.81218748165996013,0.38945638090137724]
["Garage Site To The Rear Of 16 To 26 Bank Street Slater Street Wolverhampton",33910,0.110364872502,0.11,0,0,0,null,null,null,0,0,0,0,0,1,null,null,0,0,0,0,0,0,0,0,0,0,0]
["Fmr Borough Arms PH,Bunkers Hill Lane WV14 6JX",34910,0.22304479999900001,0.22,0,0,0,null,null,null,0,0,0,0,0,1,null,null,0,0,0,0,0,0,0,0,0,0,0]
["Former Garage Adjacent To 36 Redcotts Close Wolverhampton West Midlands",38300,5.2093959997599998E-2,0.05,0,0,0,null,null,null,0,0,0,0,0,1,null,null,0,0,0,0,0,0,0,0,0,0,0]
["46 - 48 Chapel Ash Wolverhampton West Midlands WV3 0TT",37490,4.6152950000399998E-2,0.05,0,0,0,null,null,null,0,0,0,0,0,1,null,null,0,0,0,0,0,0,0,1.7217670750109999E-3,3.7305677643489264E-2,3.7305677643489264E-2,3.7305677643489264E-2]
["Land Rear Of 195 CannOther Commitmentk Road Wolverhampton West Midlands WV10 0AH",37830,4.4697118199999997E-2,0.04,0,0,0,null,null,null,0,0,0,0,0,1,null,null,1.3293379572654E-2,0.29741021587056143,0.29741021587056143,2.3513899356579E-2,0.22866171680672248,0.52607193267728392,0.22866171680672248,4.0656743350478003E-2,0.68094375638188254,0.90960547318860496,0.68094375638188254]
["Former Evcap Centre 51A John Street/George Street Ettingshall  Wolverhampton WV2 2LY",37660,0.10454961240299999,0.1,0,0,0,null,null,null,0,0,0,0,0,1,null,null,0,0,0,0,0,0,0,0,0,0,0]
["Land Between 212 And 214 Lea Road Wolverhampton West Midlands",37800,2.83668424997E-2,0.03,0,0,0,null,null,null,0,0,0,0,0,1,null,null,0,0,0,0,0,0,0,0,0,0,0]
["Fmr Pennfields Special School, Birches Barn Road WV3 7BJ (school buildings)",37301,1.0662267002500001,1.07,0,0,0,null,null,null,0,0,0,0,0,1,null,null,0,0,0,0,0,0,0,3.4484965600501002E-2,3.2342995717904319E-2,3.2342995717904319E-2,3.2342995717904319E-2]
["Land adjacent to 35 Willis Pearson Avenue, Wolverhampton, West Midlands, WV14 8DA",35180,8.8797700051999995E-2,0.09,0,0,0,null,null,null,0,0,0,0,0,1,null,null,0,0,0,1.4800000000000001E-2,0.16667098349769319,0.16667098349769319,0.16667098349769319,4.6519199537409003E-2,0.35720744477429278,0.52387842827198594,0.35720744477429278]
["Land Adjacent To 3 Sandmere Rise Wolverhampton West Midlands WV10 9DD",38320,3.4172955001699999E-2,0.03,0,0,0,null,null,null,0,{"$f":"ROUND(K562,2)","v":0},{"$f":"L562-F562","v":0},{"$f":"L562/D562","v":0},{"$f":"IF(N562>=0.005,N562,IF(K562=0,N562,\"<1%\"))","v":0},{"$f":"1-N562","v":1},null,null,0,0,0,0,{"$f":"X562-T562","v":0},{"$f":"V562/C562","v":0},0,0,0,{"$f":"Z562/C562","v":0},0]
["Land Behind 58 And 60 Dixon Street Wolverhampton West Midlands",38150,6.5946169749600006E-2,7.0000000000000007E-2,0,0,0,null,null,null,0,0,0,0,0,1,null,null,0,0,0,0,0,0,0,0,0,0,0]
["Former 21 & 23 Hughes Road",31150,5.1621450000500002E-2,0.05,0,0,0,null,null,null,0,0,0,0,0,1,null,null,0,0,0,5.6751926007000001E-5,1.0993865148392829E-3,1.0993865148392829E-3,"<1%",1.857999574079E-3,3.4893395052919926E-2,3.5992781567759209E-2,3.4893395052919926E-2]
["Beckminster Club 22 Coalway Road Wolverhampton West Midlands WV3 7LX",37620,0.112997512501,0.11,0,0,0,null,null,null,0,0,0,0,0,1,null,null,0,0,0,0,0,0,0,4.0697339999829999E-3,3.6016137965399757E-2,3.6016137965399757E-2,3.6016137965399757E-2]
["Observer Buildings 2 Lower Street Wolverhampton West Midlands WV6 9AF",37900,0.194234027502,0.19,0,0,0,null,null,null,0,0,0,0,0,1,null,null,0,0,0,0,0,0,0,0,0,0,0]
["Land Behind 69 To 77 Completed During 2017/18pton Road Completed During 2017/18pton Road Wolverhampton West Midlands",37980,0.37832512690100001,0.38,0,0,0,null,null,null,0,0,0,0,0,1,null,null,0,0,0,0,0,0,0,0,0,0,0]
["46 Mount Road, Tettenhall, Wolverhampton, West Midlands, WV6 8HW",35160,0.29587799999999997,0.3,0,0,0,null,null,null,0,0,0,0,0,1,null,null,0,0,0,0,0,0,0,0,0,0,0]
["Land Between 25 And 31 Wordsworth Avenue Wolverhampton West Midlands",38050,1.8237044452100001E-2,0.02,0,0,0,null,null,null,0,0,0,0,0,1,null,null,0,0,0,0,0,0,0,0,0,0,0]
["Land South East Of 5 Sunset Place Wolverhampton West Midlands",38110,8.0361055001400006E-2,0.08,0,0,0,null,null,null,0,0,0,0,0,1,null,null,0,0,0,0,0,0,0,0,0,0,0]
["Tettenhall College, Wood Road",38450,0.93638446134999997,0.94,0,0,0,null,null,null,0,0,0,0,0,1,null,null,0,0,0,0,0,0,0,8.3515183003000004E-5,8.9188988551342334E-5,8.9188988551342334E-5,"<1%"]
["45 Bath Road Wolverhampton West Midlands WV1 4EW",37480,2.0576624999800001E-2,0.02,0,0,0,null,null,null,0,0,0,0,0,1,null,null,0,0,0,0,0,0,0,0,0,0,0]
["12 Birches Barn Road Wolverhampton West Midlands WV3 7BN",37340,2.94337900014E-2,0.03,0,0,0,null,null,null,0,0,0,0,0,1,null,null,0,0,0,0,0,0,0,0,0,0,0]
["Second Floor Chancel Court 2 Wellington Road Bilston  Wolverhampton",38120,0.13700275799799999,0.14000000000000001,0,0,0,null,null,null,0,0,0,0,0,1,null,null,0,0,0,0,0,0,0,1.0614390684984E-2,7.747574457690079E-2,7.747574457690079E-2,7.747574457690079E-2]
["46 Queen Street City Centre Wolverhampton West Midlands WV1 3BJ",37500,7.9603692501200002E-2,0.08,0,0,0,null,null,null,0,0,0,0,0,1,null,null,0,0,0,0,0,0,0,0,0,0,0]
["Hafod Mount Road Tettenhall Wood Wolverhampton West Midlands WV6 8HR",37700,0.18024337500000001,0.18,0,0,0,null,null,null,0,0,0,0,0,1,null,null,0,0,0,0,0,0,0,0,0,0,0]
["337 Bushbury Lane Wolverhampton West Midlands WV10 9UL",37440,6.34568028502E-2,0.06,0,0,0,null,null,null,0,0,0,0,0,1,null,null,0,0,0,0,0,0,0,1.392467753879E-2,0.21943553588196751,0.21943553588196751,0.21943553588196751]
["1 Claverley Drive Wolverhampton West Midlands WV4 4QL",38000,0.113775181569,0.11,0,0,0,null,null,null,0,0,0,0,0,1,null,null,0,0,0,0,0,0,0,9.2188524647500002E-4,8.1026919382757856E-3,8.1026919382757856E-3,8.1026919382757856E-3]
["Land Between 3 And 9 Hughes Road Wolverhampton West Midlands",38350,5.5661875001799997E-2,{"$f":"ROUND(C579,2)","v":0.06},0,{"$f":"ROUND(E579,2)","v":0},{"$f":"F579/D579","v":0},null,null,null,0,0,0,0,0,1,null,null,0,{"$f":"S579/C579","v":0},{"$f":"IF(T579>=0.005,T579,IF(S579=0,T579,\"<1%\"))","v":0},0,0,0,{"$f":"IF(W579>=0.005,W579,IF(V579=0,W579,\"<1%\"))","v":0},0,{"$f":"AB579-W579","v":0},0,{"$f":"IF(AA579>=0.005,AA579,IF(Z579=0,AA579,\"<1%\"))","v":0}]
["178 - 179 Dudley Road Wolverhampton West Midlands WV2 3DR",38380,2.03764300007E-2,0.02,0,0,0,null,null,null,0,0,0,0,0,1,null,null,0,0,0,5.3853999990999995E-4,2.6429556104356811E-2,2.6429556104356811E-2,2.6429556104356811E-2,1.400161970952E-3,4.2285227147856638E-2,6.8714783252213446E-2,4.2285227147856638E-2]
["Oak And Ivy 30 Oxford Street Bilston Wolverhampton West Midlands WV14 7DE",37890,2.6830176698900001E-2,0.03,0,0,0,null,null,null,0,0,0,0,0,1,null,null,0,0,0,0,0,0,0,0,0,0,0]
["The Former Haven Club 15 Claremont Street Wolverhampton West Midlands WV14 6BA",37910,0.103339585001,0.1,0,0,0,null,null,null,0,0,0,0,0,1,null,null,0,0,0,0,0,0,0,0,0,0,0]
["Land Between 175 - 177 Bushbury Road Wolverhampton WV10 0NJ",37790,2.1218004297199999E-2,0.02,0,0,0,null,null,null,0,0,0,0,0,1,null,null,0,0,0,0,0,0,0,0,0,0,0]
["Fmr Steelcraft Engineering, 6 Completed During 2017/18mercial Road",38480,0.19941475954900001,0.2,0,0,0,null,null,null,0,0,0,0,0,1,null,null,0,0,0,0,0,0,0,0,0,0,0]
[" Land Rear Of 10 Broad Street Bilston WV14 0BP",37930,2.09550545508E-2,0.02,0,0,0,null,null,null,0,0,0,0,0,1,null,null,0,0,0,0,0,0,0,0,0,0,0]
["33 High Street, Tettenhall",37210,0.29948667600099999,0.3,0,0,0,null,null,null,0,0,0,0,0,1,null,null,0,0,0,0,0,0,0,0,0,0,0]
["Land Adjacent 163 Caledonia Road Wolverhampton West Midlands",33450,6.7961964905300001E-2,7.0000000000000007E-2,0,0,0,null,null,null,0,0,0,0,0,1,null,null,0,0,0,0,0,0,0,0,0,0,0]
["Land To The Side Of  96 Coronation Road Heath Town Wolverhampton West Midlands WV10 0QH",37880,5.2019025000499999E-2,0.05,0,0,0,null,null,null,0,0,0,0,0,1,null,null,0,0,0,0,0,0,0,1.1543745433750001E-2,0.22191391387360765,0.22191391387360765,0.22191391387360765]
["Land To The Rear Of 42 - 48 Goldthorn Hill Wolverhampton West Midlands WV2 3HU",37870,4.2321371799200001E-2,0.04,0,0,0,null,null,null,0,0,0,0,0,1,null,null,0,0,0,0,0,0,0,0,0,0,0]
["The House In The Trees Wightwick Bank Wolverhampton West Midlands WV6 8DR",38100,0.21388262015100001,0.21,0,0,0,null,null,null,0,0,0,0,0,1,null,null,0,0,0,0,0,0,0,0,0,0,0]
["Henleaze StOther Commitmentkwell End Wolverhampton West Midlands WV6 9PH",38370,0.129335684999,0.13,0,0,0,null,null,null,0,0,0,0,0,1,null,null,0,0,0,0,0,0,0,0,0,0,0]
["Garage Site Behind 3 To 23 Lower Vauxhall Wolverhampton West Midlands",38200,4.8569649149100003E-2,0.05,0,0,0,null,null,null,0,0,0,0,0,1,null,null,0,0,0,0,0,0,0,0,0,0,0]
["46 Riches Street Wolverhampton WV6 0DR",37510,1.86143749989E-2,0.02,0,0,0,null,null,null,0,0,0,0,0,1,null,null,0,0,0,0,0,0,0,0,0,0,0]
["The Old Police Station 15 Mount Pleasant Wolverhampton West Midlands WV14 7LS",37920,0.11621947053999999,0.12,0,0,0,null,null,null,0,0,0,0,0,1,null,null,0,0,0,0,0,0,0,9.2596693389800002E-4,7.9673993487976193E-3,7.9673993487976193E-3,7.9673993487976193E-3]
["Sub-station Site At Rear Of Merridale Court Merridale Road Wolverhampton West Midlands WV3 9LE",38310,0.219733230753,0.22,0,0,0,null,null,null,0,0,0,0,0,1,null,null,0,0,0,0,0,0,0,0,0,0,0]
["Land Between 39 And 41 Daley Road Wolverhampton West Midlands",37810,0.178372133051,0.18,0,0,0,null,null,null,0,0,0,0,0,1,null,null,0,0,0,6.5666619404000006E-5,3.6814393751306808E-4,3.6814393751306808E-4,"<1%",3.0774142600966999E-2,0.1721596050700524,0.17252774900756546,0.1721596050700524]
["Chas Hunter Ltd Upper Villiers Street Wolverhampton West Midlands WV2 4NR",37960,3.3157259798900003E-2,0.03,0,0,0,null,null,null,0,0,0,0,0,1,null,null,6.2973020054E-5,1.8992226871561062E-3,"<1%",3.4895765703099997E-4,8.6250986574737259E-3,1.0524321344629833E-2,8.6250986574737259E-3,1.018604493621E-3,2.2095307666778446E-2,3.0720406324252172E-2,2.2095307666778446E-2]
["Land btwn 2 Church Walk & 77 - 81 Birches Barn Road, Bradmore",31280,3.2056260001600001E-2,0.03,0,0,0,null,null,null,0,0,0,0,0,1,null,null,0,0,0,0,0,0,0,0,0,0,0]
["Fmr Bushbury Arms PH, Showell Circus, Low Hill",28920,0.69578679179000003,0.7,0,0,0,null,null,null,0,0,0,0,0,1,null,null,0,0,0,0,0,0,0,0,0,0,0]
["Land Adjacent To 1 Wolseley Bank Wolverhampton",38340,3.9841530000599999E-2,0.04,0,0,0,null,null,null,0,0,0,0,0,1,null,null,2.5881999991799999E-4,6.4962364626584938E-3,6.4962364626584938E-3,3.2044720000110002E-3,7.3934208853139921E-2,8.0430445315798418E-2,7.3934208853139921E-2,1.9413877847483E-2,0.413343208635361,0.4872774174885009,0.413343208635361]
["49 Queen Street City Centre Wolverhampton West Midlands WV1 3BJ",37530,2.76602500003E-2,0.03,0,0,0,null,null,null,0,0,0,0,0,1,null,null,0,0,0,0,0,0,0,0,0,0,0]
["63 Gorsebrook Road Wolverhampton West Midlands WV6 0PD",38170,9.5343749990799993E-3,0.01,0,0,0,null,null,null,0,0,0,0,0,1,null,null,0,0,0,0,0,0,0,9.3462520009999996E-6,9.8026897430632297E-4,9.8026897430632297E-4,"<1%"]
["85 Fraser Street Wolverhampton West Midlands WV14 7PD",38130,1.05584999988E-2,0.01,0,0,0,null,null,null,0,0,0,0,0,1,null,null,0,0,0,0,0,0,0,1.3991579308459999E-3,0.13251483932424282,0.13251483932424282,0.13251483932424282]
["Garage site adj 86 Wentworth Road",34250,3.4436774348500003E-2,0.03,0,0,0,null,null,null,0,0,0,0,0,1,null,null,0,0,0,0,0,0,0,0,0,0,0]
["65 Gorsebrook Road Wolverhampton West Midlands WV6 0PD",38330,9.8595750007499997E-3,0.01,0,0,0,null,null,null,0,0,0,0,0,1,null,null,0,0,0,0,0,0,0,3.0318908996999999E-5,3.0750726065468031E-3,3.0750726065468031E-3,"<1%"]
["127 Bushbury Road Wolverhampton West Midlands WV10 0LZ",37940,7.4979559998199996E-2,7.0000000000000007E-2,0,0,0,null,null,null,0,0,0,0,0,1,null,null,0,0,0,0,0,0,0,0,0,0,0]
["28 Ellards Drive Wolverhampton West Midlands WV11 3ST",38190,3.0702838899099999E-2,0.03,0,0,0,null,null,null,0,0,0,0,0,1,null,null,0,0,0,0,0,0,0,1.8183677549252E-2,0.59224743382883149,0.59224743382883149,0.59224743382883149]
["Harrison House Marston Road Wolverhampton West Midlands WV2 4NJ",37710,0.148019282999,0.15,0,0,0,null,null,null,0,0,0,0,0,1,null,null,0,0,0,0,0,0,0,6.1361750645200002E-4,4.1455241102346481E-3,4.1455241102346481E-3,"<1%"]
["108 Moseley Road Bilston Wolverhampton West Midlands WV14 6JF",37970,3.9799578149899997E-2,0.04,0,0,0,null,null,null,0,0,0,0,0,1,null,null,0,0,0,0,0,0,0,0,0,0,0]
["Land Adjacent To 4 Rose Street Wolverhampton West Midlands",33380,6.7214202498999995E-2,7.0000000000000007E-2,0,0,0,null,null,null,0,0,0,0,0,1,null,null,0,0,0,0,0,0,0,2.957624669628E-3,4.400297198604719E-2,4.400297198604719E-2,4.400297198604719E-2]
["31 Tinacre Hill Wolverhampton West Midlands WV6 8DB",37430,0.13434083100399999,0.13,0,0,0,null,null,null,0,0,0,0,0,1,null,null,0,0,0,0,0,0,0,0,0,0,0]
["Garage site to the rear of 1 To 13 Carlton Avenue, Bilston, Wolverhampton, West Midlands",35340,8.5937697497000004E-2,0.09,0,0,0,null,null,null,0,0,0,0,0,1,null,null,0,0,0,0,0,0,0,0,0,0,0]
["6 Windmill Lane Wolverhampton West Midlands WV3 8HJ",37590,0.237683250002,0.24,2.5731519404137999E-2,0.03,0.125,null,null,null,7.4475459170623995E-2,7.0000000000000007E-2,4.0000000000000008E-2,0.29166666666666669,0.29166666666666669,0.70833333333333326,null,null,0,0,0,0,0,0,0,0,0,0,0]
["70 Upper Villiers Street Wolverhampton",30160,0.12489317140300001,0.12,0,0,0,null,null,null,0,0,0,0,0,1,null,null,0,0,0,0,0,0,0,0,0,0,0]
["115 Waterloo Road Wolverhampton West Midlands WV1 4RB",37330,2.5269500001099999E-2,0.03,0,0,0,null,null,null,0,0,0,0,0,1,null,null,0,0,0,0,0,0,0,0,0,0,0]
["Welsby 56 Green Lanes Wolverhampton West Midlands WV14 6BY",38240,2.1081499997599999E-2,0.02,0,0,0,null,null,null,0,0,0,0,0,1,null,null,0,0,0,0,0,0,0,0,0,0,0]
["Land Rear Of The Neachells Public House, Neachells Lane",34460,0.27022282950199999,0.27,0,0,0,null,null,null,0,0,0,0,0,1,null,null,4.1061035005509998E-3,1.5195250187107561E-2,1.5195250187107561E-2,1.086001925026E-2,2.4993875469944381E-2,4.018912565705194E-2,2.4993875469944381E-2,6.3147007180174006E-2,0.20869107001208284,0.23368494548202723,0.20869107001208284]
["3 Newhampton Road East Wolverhampton West Midlands WV1 4AJ",37420,4.6337625000099997E-2,0.05,0,0,0,null,null,null,0,0,0,0,0,1,null,null,0,0,0,0,0,0,0,0,0,0,0]
["Former Christ Church Of England Infant School Leicester Street Wolverhampton West Midlands WV6 0PS",38180,0.34891066749999999,0.35,0,0,0,null,null,null,0,0,0,0,0,1,null,null,0,0,0,0,0,0,0,3.6838426905174998E-2,0.10558125714277566,0.10558125714277566,0.10558125714277566]
["57 Mount Road Penn Wolverhampton West Midlands WV4 5SS",37560,7.0066122650400006E-2,7.0000000000000007E-2,0,0,0,null,null,null,0,0,0,0,0,1,null,null,0,0,0,0,0,0,0,1.636871996E-6,2.3361817866921098E-5,2.3361817866921098E-5,"<1%"]
["The Island House 160 Stafford Road Wolverhampton West Midlands WV10 6JT",38280,0.15895099444999999,0.16,0,0,0,null,null,null,0,0,0,0,0,1,null,null,0,0,0,0,0,0,0,8.3945530005999995E-5,5.2812208125194268E-4,5.2812208125194268E-4,"<1%"]
["39 Malins Road Wolverhampton West Midlands WV4 6AW",32600,2.4857750000600001E-2,0.02,0,0,0,null,null,null,0,0,0,0,0,1,null,null,0,0,0,1.1641839121656001E-2,0.46833841041023411,0.46833841041023411,0.46833841041023411,2.3011738886345001E-2,0.45739858854540577,0.92573699895563988,0.45739858854540577]
["Bird In Hand Public House Thorneycroft Lane Wolverhampton WV10 0NF",37630,0.106228362452,0.11,0,0,0,null,null,null,0,0,0,0,0,1,null,null,0,0,0,0,0,0,0,1.4E-2,0.1317915449023889,0.1317915449023889,0.1317915449023889]
["26 Granville Street Wolverhampton West Midlands WV2 1DG",37410,7.8467500003799994E-3,0.01,0,0,0,null,null,null,0,0,0,0,0,1,null,null,0,0,0,0,0,0,0,0,0,0,0]
["WMBC Training Centre Fifth Avenue Low Hill Wolverhampton West Midlands",32080,0.72004082230900002,0.72,0,0,0,null,null,null,0,0,0,0,0,1,null,null,0,0,0,0,0,0,0,9.9941232976999994E-5,1.387993984237063E-4,1.387993984237063E-4,"<1%"]
["Wolverhampton Street /Shale Street (Part 1 of 2)",36671,0.26874250963700003,0.27,0,0,0,null,null,null,0,{"$f":"ROUND(K626,2)","v":0},{"$f":"L626-F626","v":0},{"$f":"L626/D626","v":0},{"$f":"IF(N626>=0.005,N626,IF(K626=0,N626,\"<1%\"))","v":0},{"$f":"1-N626","v":1},null,null,0,0,0,0,{"$f":"X626-T626","v":0},{"$f":"V626/C626","v":0},0,0,0,{"$f":"Z626/C626","v":0},0]
["Land Rear Of 59 To 71 Newbridge Crescent Wolverhampton West Midlands",36040,0.28799452344400001,0.28999999999999998,0,0,0,null,null,null,0,0,0,0,0,1,null,null,0,0,0,0,0,0,0,1.1158480144473E-2,3.8745459500526734E-2,3.8745459500526734E-2,3.8745459500526734E-2]
["Former Bulls Head 153 Millfields Road Wolverhampton West Midlands WV4 6JE",38010,8.0641612500900003E-2,0.08,0,0,0,null,null,null,0,0,0,0,0,1,null,null,1.8723971000318002E-2,0.23218745781043296,0.23218745781043296,7.1740952499426996E-2,0.65743950120686512,0.88962695901729805,0.65743950120686512,8.0641656249540006E-2,0.34256104130014398,1.0000005425070091,0.34256104130014398]
["58-60 Lichfield Street, City Centre",38490,3.5047274340699999E-2,0.04,0,0,0,null,null,null,0,0,0,0,0,1,null,null,0,0,0,0,0,0,0,0,0,0,0]
["22 Lichfield Street City Centre Wolverhampton WV1 1DG",38360,1.4791000000799999E-2,0.01,0,0,0,null,null,null,0,0,0,0,0,1,null,null,0,0,0,0,0,0,0,0,0,0,0]
["Garage Site To The Rear Of 1 To 5 Baylis Avenue Wolverhampton West Midlands",33880,0.109728692148,0.11,0,0,0,null,null,null,0,0,0,0,0,1,null,null,0,0,0,0,0,0,0,0,0,0,0]
["Former St Judes Infant School, Riches Street",37190,0.351954374997,0.35,0,0,0,null,null,null,0,0,0,0,0,1,null,null,0,0,0,0,0,0,0,1.2864171082485E-2,3.6550678145696167E-2,3.6550678145696167E-2,3.6550678145696167E-2]
["Fmr Crown and Cushion, Bank Street, Bradley",38250,0.193049139595,0.19,0,0,0,null,null,null,0,0,0,0,0,1,null,null,0,0,0,0,0,0,0,0,0,0,0]
["Fmr Wulfruna Court, Dale St / Russell Street",32670,0.176795526201,0.18,0,0,0,null,null,null,0,0,0,0,0,1,null,null,0,0,0,0,0,0,0,2.5247456463000001E-5,1.4280596916403868E-4,1.4280596916403868E-4,"<1%"]
["Land Corner of Riches St / Sweetman St",38470,5.3641169450500001E-2,0.05,0,0,0,null,null,null,0,0,0,0,0,1,null,null,3.1514616213900002E-4,5.8750800060355969E-3,5.8750800060355969E-3,6.8805535749400003E-4,6.9519214285423091E-3,1.2827001434577906E-2,6.9519214285423091E-3,9.5122512797710009E-3,0.1703792474705417,0.17733116889908401,0.1703792474705417]
["RDP Electronics Ltd, Grove Street",36480,0.35437967810299997,0.35,0,0,0,null,null,null,0,0,0,0,0,1,null,null,2.8226175171040002E-3,7.9649531040084359E-3,7.9649531040084359E-3,1.0183513890537E-2,2.0771214683742573E-2,2.873616778775101E-2,2.0771214683742573E-2,3.6487444140331997E-2,8.2190231456876622E-2,0.10296144614061919,8.2190231456876622E-2]
["Land Between Elysium And Orchard House 10 Old Lane Wightwick Wolverhampton West Midlands",31980,0.143295987165,0.14000000000000001,0,0,0,null,null,null,0,0,0,0,0,1,null,null,0,0,0,0,0,0,0,0,0,0,0]
["Land Between 182 And Showell Park Medical Centre Fifth Avenue Wolverhampton West Midlands",38210,0.177939476397,0.18,0,0,0,null,null,null,0,0,0,0,0,1,null,null,0,0,0,0,0,0,0,0,0,0,0]
["Land Behind 54 To 57 Rose Street Wolverhampton West Midlands",37780,6.4055114788399994E-2,0.06,0,0,0,null,null,null,0,0,0,0,0,1,null,null,0,0,0,0,0,0,0,0,0,0,0]
["58 Green Lanes Wolverhampton WV14 6DA",37580,2.13902671073E-2,0.02,0,0,0,null,null,null,0,0,0,0,0,1,null,null,0,0,0,0,0,0,0,2.7261600000000001E-7,1.2744861886599E-5,1.2744861886599E-5,"<1%"]
["Fmr ADAS offices, Wergs Road",36420,3.5678368539299998,3.57,0,0,0,null,null,null,0,0,0,0,0,1,null,null,0,0,0,0,0,0,0,0,0,0,0]
["Shopping Core / Southside, Wolverhampton City Centre",36770,3.88203499361,3.88,0,0,0,null,null,null,0,0,0,0,0,1,null,null,4.3839089609892003E-2,1.1292811549110986E-2,1.1292811549110986E-2,0.15905389019229099,2.9678970120580468E-2,4.0971781669691454E-2,2.9678970120580468E-2,0.42504147440499301,7.9810376344515793E-2,0.10948934646509625,7.9810376344515793E-2]
["Westside, Wolverhampton City Centre",36780,5.71391081312,{"$f":"ROUND(C643,2)","v":5.71},0,{"$f":"ROUND(E643,2)","v":0},{"$f":"F643/D643","v":0},null,null,null,0,0,0,0,0,1,null,null,0.19839068514490801,{"$f":"S643/C643","v":3.4720647842345229E-2},{"$f":"IF(T643>=0.005,T643,IF(S643=0,T643,\"<1%\"))","v":3.4720647842345229E-2},0.33866348803253998,2.4549351131898052E-2,5.9269998974243281E-2,{"$f":"IF(W643>=0.005,W643,IF(V643=0,W643,\"<1%\"))","v":2.4549351131898052E-2},0.83621288649610004,{"$f":"AB643-W643","v":0.1217975054861698},0.14634685661806784,{"$f":"IF(AA643>=0.005,AA643,IF(Z643=0,AA643,\"<1%\"))","v":0.1217975054861698}]
["Fmr Bushbury Reservoir, Showell Road",36510,2.4217468477600002,2.42,0,0,0,null,null,null,0,0,0,0,0,1,null,null,0.50839999999999996,0.2099311083940279,0.2099311083940279,1.2233905298644701,0.29523751853989283,0.50516862693392073,0.29523751853989283,1.78302823112345,0.44101954844985708,0.73625706698974991,0.44101954844985708]
["Burton Crescent / Taylors Playing Field",35670,0.880767242979,0.88,0,0,0,null,null,null,0,0,0,0,0,1,null,null,0,0,0,0,0,0,0,0,0,0,0]
["Cambridge Street Open Space, Canalside Quarter",36810,0.42978871232999999,0.43,0,0,0,null,null,null,0,0,0,0,0,1,null,null,0,0,0,7.7061907636069996E-3,1.7930184163817777E-2,1.7930184163817777E-2,1.7930184163817777E-2,2.8944888332186999E-2,4.9416601598118559E-2,6.734678576193634E-2,4.9416601598118559E-2]
["Former St Luke's Junior School, Goldthorn Road (playing fields)",36891,2.2099849973499999,2.21,0,0,0,null,null,null,0,0,0,0,0,1,null,null,0,0,0,4.0003101204960003E-3,1.8101073651145981E-3,1.8101073651145981E-3,"<1%",0.120001555322707,5.2489607549964575E-2,5.4299714915079171E-2,5.2489607549964575E-2]
["Fmr Bass Brewery Playing Field",35660,1.43371497775,1.43,0,0,0,null,null,null,0,0,0,0,0,1,null,null,2.7540373059811999E-2,1.920909907981325E-2,1.920909907981325E-2,6.8554571198152003E-2,2.8606939855441573E-2,4.7816038935254823E-2,2.8606939855441573E-2,0.59135366134621004,0.38385555828644902,0.41246249814189057,0.38385555828644902]
["60 Fordhouse Road Wolverhampton West Midlands WV10 9EE",37600,4.6909447314100003E-2,0.05,0,0,0,null,null,null,0,0,0,0,0,1,null,null,0,0,0,0,0,0,0,4.0219879997199998E-3,8.5739402828373848E-2,8.5739402828373848E-2,8.5739402828373848E-2]
["Rear Of 11-13 Church Road Bradmore Wolverhampton West Midlands WV3 7ET",33050,2.2683990541199999E-2,0.02,0,0,0,null,null,null,0,0,0,0,0,1,null,null,0,0,0,0,0,0,0,0,0,0,0]
["10 Wergs Road, Tettenhall",31910,0.156383850396,0.16,0,0,0,null,null,null,0,0,0,0,0,1,null,null,0,0,0,0,0,0,0,0,0,0,0]
["1 Red Lion Street, Wolverhampton City Centre",38440,8.0864010035500006E-2,0.08,0,0,0,null,null,null,0,0,0,0,0,1,null,null,0,0,0,0,0,0,0,0,0,0,0]
["Beazer House, Hare Street",36990,0.63994739588000005,0.64,0.47865611747115899,0.48,0.75,null,null,null,0.56109096775574696,0.56000000000000005,8.0000000000000071E-2,0.87500000000000011,0.87500000000000011,0.12499999999999989,null,null,1.7296990589077001E-2,2.7028769396415284E-2,2.7028769396415284E-2,6.9789019249864997E-2,8.2025536784325087E-2,0.10905430618074037,8.2025536784325087E-2,0.18543183444190001,0.20773552113342805,0.28976105791775314,0.20773552113342805]
["27 Newbolds Road, Wolverhampton, West Midlands, WV10 0SA",35460,3.1657543305099997E-2,0.03,0,0,0,null,null,null,0,0,0,0,0,1,null,null,0,0,0,9.4509164675050002E-3,0.29853600377078116,0.29853600377078116,0.29853600377078116,1.4512282962786E-2,0.15987868820085033,0.45841469197163148,0.15987868820085033]
["Cable St / Steelhouse Lane",32130,7.9130386005100002,7.91,0,0,0,null,null,null,0,0,0,0,0,1,null,null,0.124391152678619,1.5719770742758907E-2,1.5719770742758907E-2,0.24611510099504499,1.5382706247456045E-2,3.1102476990214952E-2,1.5382706247456045E-2,0.82156515238095895,8.8441525360362538E-2,0.10382423160781859,8.8441525360362538E-2]
["Former site of 84 Brooklands Parade",30910,2.5497734999300001E-2,0.03,0,0,0,null,null,null,0,0,0,0,0,1,null,null,0,0,0,0,0,0,0,0,0,0,0]
["Land Adjacent To 34 Thorneycroft Lane Wolverhampton West Midlands",36080,5.5310723794199997E-2,0.06,0,0,0,null,null,null,0,0,0,0,0,1,null,null,0,0,0,0,0,0,0,1.6971009977000001E-5,3.0683037235501912E-4,3.0683037235501912E-4,"<1%"]
["31 Copthorne Road Wolverhampton West Midlands WV3 0AB",33330,5.6831118500399999E-2,0.06,0,0,0,null,null,null,0,0,0,0,0,1,null,null,0,0,0,0,0,0,0,0,0,0,0]
["New Cross Farm, Wednesfield Road",27600,0.47100172634900001,0.47,0,0,0,null,null,null,0,0,0,0,0,1,null,null,0,0,0,2.0468227184899999E-4,4.345679864819344E-4,4.345679864819344E-4,"<1%",2.6689689686600001E-4,1.3209001482703822E-4,5.6665800130897262E-4,"<1%"]
["Monkey House PH, Kent Road",34180,0.44332631533099998,0.44,0,0,0,null,null,null,0,0,0,0,0,1,null,null,4.2153539999946997E-2,9.508467813031575E-2,9.508467813031575E-2,8.4692189999949E-2,9.5953361054692723E-2,0.19103803918500847,9.5953361054692723E-2,0.26412171140209001,0.49981932887662633,0.59577268993131904,0.49981932887662633]
["470 Dudley Road WV2 3AF",34870,0.16771563975100001,0.17,0,0,0,null,null,null,0,0,0,0,0,1,null,null,0,0,0,0,0,0,0,0,0,0,0]
["Car Sales, 242 - 244 Dudley Road Blakenhall Wolverhampton West Midlands WV2 3JU",32060,0.175033458,0.18,0,0,0,null,null,null,0,0,0,0,0,1,null,null,0,0,0,0,0,0,0,0,0,0,0]
["1 Park Road West WV1 4PS",34600,2.1451025733199999E-2,0.02,0,0,0,null,null,null,0,0,0,0,0,1,null,null,0,0,0,0,0,0,0,0,0,0,0]
["Land To The Rear Of 38 To 60 Humphries Crescent WV14 8BB",34880,0.20141296499700001,0.2,0,0,0,null,null,null,0,0,0,0,0,1,null,null,0,0,0,0,0,0,0,2.12E-2,0.10525638208203612,0.10525638208203612,0.10525638208203612]
["198, 200-206 Coleman St, Whitmore Reans",34440,0.245727169853,0.25,0,0,0,null,null,null,0,0,0,0,0,1,null,null,0,0,0,0,0,0,0,0,0,0,0]
["Fmr Jennie Lee Centre, Wednesfield (previously developed)",36431,6.7961851087499996,6.8,0,0,0,null,null,null,0,0,0,0,0,1,null,null,4.3999999999999997E-2,6.4742203597942865E-3,6.4742203597942865E-3,7.5600000000000001E-2,4.649667349306808E-3,1.1123887709101095E-2,"<1%",0.497040541620202,6.8485559791618009E-2,7.3135227140924811E-2,6.8485559791618009E-2]
["Land adjacent to 36 Derry Street and 203 Birmingham Road, Wolverhampton, West Midlands, WV2 1EY",35400,8.7618282240500001E-2,0.09,0,0,0,null,null,null,0,0,0,0,0,1,null,null,0,0,0,0,0,0,0,0,0,0,0]
["75 - 76 Dudley Road Wolverhampton West Midlands",33470,7.7516500000500005E-2,0.08,0,0,0,null,null,null,0,0,0,0,0,1,null,null,0,0,0,0,0,0,0,4.9718249935999998E-5,6.4138925178096665E-4,6.4138925178096665E-4,"<1%"]
["Goodyear site, Stafford Road",30490,28.288178990700001,28.29,0,0,0,null,null,null,0,0,0,0,0,1,null,null,0.31879840897681799,1.1269668828157015E-2,1.1269668828157015E-2,0.90310280707623203,2.0655426363482412E-2,3.1925095191639427E-2,2.0655426363482412E-2,2.9753276607080599,8.4523760380430163E-2,0.10517918674391258,8.4523760380430163E-2]
["Crane foundry, Canalside Quarter",32640,1.4877104274999999,1.49,0,0,0,null,null,null,0,0,0,0,0,1,null,null,3.1933955264395998E-2,2.1465168674026786E-2,2.1465168674026786E-2,0.22256426132197599,0.1281367008887084,0.14960186956273519,0.1281367008887084,0.68019246091947705,0.32907086339683334,0.45720756428554177,0.32907086339683334]
["Horseley Fields / Edward Vaughan Stamping Works, Canalside Quarter",32660,1.36053174999,1.36,0,0,0,null,null,null,0,0,0,0,0,1,null,null,0,0,0,1.241108255042E-3,9.1222292684542069E-4,9.1222292684542069E-4,"<1%",0.112547542008838,8.1810978504995635E-2,8.2723201431841059E-2,8.1810978504995635E-2]
["The Orchard, Bilston Town Centre",40120,1.5613713335399999,1.56,0,0,0,null,null,null,0,0,0,0,0,1,null,null,7.3043779644337004E-2,4.6781811651895384E-2,4.6781811651895384E-2,0.14044266739285,4.3166469308555631E-2,8.9948280960451016E-2,4.3166469308555631E-2,0.20661974467796199,8.916575701041099E-2,0.13233222631896663,8.916575701041099E-2]
["Heath Town Estate Masterplan (excl East of Qualcast Rd)",36740,19.975110768499899,19.98,0,0,0,null,null,null,0,0,0,0,0,1,null,null,0.48988454674975701,2.4524747443317764E-2,2.4524747443317764E-2,1.13356911351539,3.2224330279094257E-2,5.6749077722412021E-2,3.2224330279094257E-2,2.86754255022222,0.11133144688056192,0.14355577715965617,0.11133144688056192]
["East of Qualcast Road",36610,2.0181392444699999,2.02,0,0,0,null,null,null,0,0,0,0,0,1,null,null,1.2799990000000001E-2,6.3424711823398044E-3,6.3424711823398044E-3,8.3097979799546001E-2,3.4833072094590543E-2,4.1175543276930349E-2,3.4833072094590543E-2,0.207685979900331,6.807656631089673E-2,0.10290963840548728,6.807656631089673E-2]
["Mill Street Depot, Canalside Quarter",36830,0.73509284431499999,0.74,0,0,0,null,null,null,0,0,0,0,0,1,null,null,2.1481654948399999E-4,2.9223050005904749E-4,"<1%",2.1481953803500001E-4,4.0655422279579911E-9,2.9223456560127544E-4,"<1%",1.417152593413E-3,1.9278511766531723E-3,1.9278552421954003E-3,"<1%"]
["Culwell Street Depot, Canalside Quarter",36820,1.2391475350000001,1.24,0,0,0,null,null,null,0,0,0,0,0,1,null,null,0,0,0,0,0,0,0,3.5382524099592E-2,2.8553923645251812E-2,2.8553923645251812E-2,2.8553923645251812E-2]
["Stafford Street / CannOther Commitmentk Road, Canalside Quarter",36800,0.30998146500099999,0.31,0,0,0,null,null,null,0,0,0,0,0,1,null,null,0,0,0,0,0,0,0,0,0,0,0]
["Express & Star Buildings, Castle St / Tower St",36840,0.51740239413900002,0.52,0,0,0,null,null,null,0,0,0,0,0,1,null,null,0,0,0,0,0,0,0,0,0,0,0]
["Former Eye Infirmary, Chapel Ash",32690,0.96337253635499998,0.96,0,0,0,null,null,null,0,0,0,0,0,1,null,null,0,0,0,0,0,0,0,5.8741220314228001E-2,6.0974563938142025E-2,6.0974563938142025E-2,6.0974563938142025E-2]
["Interchange, Wolverhampton City Centre",36790,0.83644748411799996,0.84,0,0,0,null,null,null,0,0,0,0,0,1,null,null,1.6400000000000001E-2,1.9606730023574808E-2,1.9606730023574808E-2,3.4799999999999998E-2,2.1997794660596117E-2,4.1604524684170925E-2,2.1997794660596117E-2,0.241861719718822,0.26715570787382231,0.28915350253441841,0.26715570787382231]
["Tower / Fort Works, Pelham Street",36910,1.3910688040900001,1.39,0,0,0,null,null,null,0,0,0,0,0,1,null,null,0,0,0,4.3198016417499998E-4,3.1053831622483247E-4,3.1053831622483247E-4,"<1%",1.7133885475098001E-2,1.2006527111970526E-2,1.2317065428195358E-2,1.2006527111970526E-2]
["Land at Grimstone St / Culwell St, Canalside Quarter",28840,1.1750774239999999,1.18,0,0,0,null,null,null,0,0,0,0,0,1,null,null,0,0,0,0,0,0,0,0,0,0,0]
["Reliance Trading Estate",36660,0.72970484941400005,0.73,0,0,0,null,null,null,0,0,0,0,0,1,null,null,0,0,0,0,0,0,0,1.8337584581471E-2,2.5130139392930254E-2,2.5130139392930254E-2,2.5130139392930254E-2]
["Bus Depot, Park Lane",36710,2.7730663201599999,2.77,0,0,0,null,null,null,0,0,0,0,0,1,null,null,5.8799999999999998E-2,2.1203964568942357E-2,2.1203964568942357E-2,0.25789291593921199,7.1795223392899149E-2,9.2999187961841506E-2,7.1795223392899149E-2,0.82028198279387199,0.22400800959524789,0.29580323298814704,0.22400800959524789]
["Bluebird Industrial Estate and site to rear, Park Lane",36720,3.7244289837700002,3.72,0,0,0,null,null,null,0,0,0,0,0,1,null,null,0.16797954309532101,4.5102093187258496E-2,4.5102093187258496E-2,0.31856867398599897,4.043281038433072E-2,8.5534903571589216E-2,4.043281038433072E-2,0.95363750107006395,0.21561650757172224,0.25604931795605296,0.21561650757172224]
["Assa Abloy building and former petrol station, CannOther Commitmentk Road",36730,3.0821095488400001,3.08,0,0,0,null,null,null,0,0,0,0,0,1,null,null,1.7542783394211E-2,5.6918104681949085E-3,5.6918104681949085E-3,0.113691114389208,3.119562412412755E-2,3.6887434592322459E-2,3.119562412412755E-2,0.39052874568132501,9.5512638347693607E-2,0.12670826247182115,9.5512638347693607E-2]
["Ceandess, Dixon Street",36650,0.72376983409999995,0.72,0,0,0,null,null,null,0,0,0,0,0,1,null,null,0,0,0,0,0,0,0,3.6712071572593E-2,5.0723406589947298E-2,5.0723406589947298E-2,5.0723406589947298E-2]
["West of Qualcast Road",36620,3.4101009366900001,3.41,0,0,0,null,null,null,0,0,0,0,0,1,null,null,2.7200010049999002E-2,7.9763064363721076E-3,7.9763064363721076E-3,8.2902020200453994E-2,1.63344168353333E-2,2.4310723271705408E-2,1.63344168353333E-2,0.22800752691648701,5.0527981419013247E-2,6.6862398254346547E-2,5.0527981419013247E-2]
["Showell Road / Bushbury Lane",36700,2.0653690186500002,2.0699999999999998,0,0,0,null,null,null,0,0,0,0,0,1,null,null,5.9084388846895999E-2,2.860718269392638E-2,2.860718269392638E-2,0.28982750151880399,0.1117200415946638,0.14032722428859018,0.1117200415946638,0.62868694761131805,0.19267444768757136,0.30439448928223517,0.19267444768757136]
["South of Oxford Street",36690,5.1964443400100002,5.2,0,0,0,null,null,null,0,{"$f":"ROUND(K690,2)","v":0},{"$f":"L690-F690","v":0},{"$f":"L690/D690","v":0},{"$f":"IF(N690>=0.005,N690,IF(K690=0,N690,\"<1%\"))","v":0},{"$f":"1-N690","v":1},null,null,4.6337547908145003E-2,8.9171642908535097E-3,8.9171642908535097E-3,0.171025044321962,{"$f":"X690-T690","v":2.3994771858477568E-2},{"$f":"V690/C690","v":3.2911936149331078E-2},2.3994771858477568E-2,1.1260570584777101,0.19270283612081682,{"$f":"Z690/C690","v":0.21669760797929438},0.19270283612081682]
["Old Heath Road",36630,10.1090403123999,10.11,0,0,0,null,null,null,0,0,0,0,0,1,null,null,4.3719623406699999E-4,4.3248045368928696E-5,"<1%",8.4624453854962006E-2,8.3279178853040738E-3,8.3711659306730021E-3,8.3279178853040738E-3,0.40291910716394502,3.1529387527724939E-2,3.9857305413029009E-2,3.1529387527724939E-2]
["Dixon St Wharf / Rough Hills Works, D'Urberville Road",28870,3.6121506918500002,3.61,0,0,0,null,null,null,0,0,0,0,0,1,null,null,2.5013109803409999E-3,6.9247138165764836E-4,"<1%",3.1090404832150001E-3,1.6824588859075125E-4,8.6071727024839961E-4,"<1%",0.20268386545408201,5.5943440124784118E-2,5.6111686013374872E-2,5.5943440124784118E-2]
["Ablow Street, Blakenhall Character Area",36860,0.958034878561,0.96,0,0,0,null,null,null,0,0,0,0,0,1,null,null,2.9687122619225001E-2,3.0987517556580028E-2,3.0987517556580028E-2,4.5310478044827997E-2,1.6307710476125659E-2,4.7295228032705687E-2,1.6307710476125659E-2,0.20155058113400301,0.194071458011705,0.21037916848783067,0.194071458011705]
["Moorfield Road, Blakenhall Character Area",36900,1.8699110906400001,1.87,0,0,0,null,null,null,0,0,0,0,0,1,null,null,1.3324712276109999E-3,7.1258533856545297E-4,"<1%",2.9914045968380001E-2,1.5284991293883715E-2,1.5997576632449169E-2,1.5284991293883715E-2,0.33854005933487502,0.16576108144693602,0.18104607274081974,0.16576108144693602]
["Dudley Road / Bell Place, Blakenhall Character Area",36870,0.67970261740299998,0.68,0,0,0,null,null,null,0,0,0,0,0,1,null,null,0,0,0,0,0,0,0,8.6592711866700001E-4,1.2739793793578793E-3,1.2739793793578793E-3,"<1%"]
["Delta Trading Estate, Bilston Road",36640,2.0181164383199999,2.02,0,0,0,null,null,null,0,0,0,0,0,1,null,null,1.11137344003E-4,5.5069837345716945E-5,"<1%",1.9197375010910001E-2,9.4574511680780519E-3,9.5125210054237685E-3,9.4574511680780519E-3,3.4096146284789998E-2,7.43758305163905E-3,1.6895034219717102E-2,7.43758305163905E-3]
["Alexander Metals Open Space",36490,4.0759891616299999,4.08,0,0,0,null,null,null,5.3813347703446E-2,0.05,0.05,1.2254901960784314E-2,1.2254901960784314E-2,0.98774509803921573,null,null,0,0,0,1.300797492169E-3,3.1913664158243429E-4,3.1913664158243429E-4,"<1%",0.13129009644550699,3.1891473161168776E-2,3.2210609802751214E-2,3.1891473161168776E-2]
["Greenway Road",36680,3.7854909698500001,3.79,0,0,0,null,null,null,0,0,0,0,0,1,null,null,0.111566422966508,2.9472114411338513E-2,2.9472114411338513E-2,0.26665013391268499,4.0967925212702913E-2,7.0440039624041426E-2,4.0967925212702913E-2,0.64672889500567099,0.12987620046521348,0.17084412567791638,0.12987620046521348]
["Ward Street Master Plan, Ettingshall (1) Former Bilston Gas Works",28861,24.1234957942,24.12,0,0,0,null,null,null,0,0,0,0,0,1,null,null,6.9563476500123997E-2,2.8836399622002174E-3,"<1%",0.19704610349993201,5.2845834653225763E-3,8.1682234275227937E-3,5.2845834653225763E-3,2.3414703781964699,9.177723535943616E-2,9.7061818824758742E-2,9.177723535943616E-2]
["Ward Street Master Plan, Ettingshall (2) Maxxiom, former Elm Energy & John Roberts Open Space",28862,24.1234957942,24.12,0,0,0,null,null,null,0,0,0,0,0,1,null,null,0.34046234554951499,1.4113308802921182E-2,1.4113308802921182E-2,0.64793316821702696,1.2745699267244552E-2,2.6859008070165735E-2,1.2745699267244552E-2,2.8778373531794799,0.10655033385045129,0.11929603311769585,0.10655033385045129]
["Ward Street Master Plan, Ettingshall (3) Bilston Primary School Playing Fields",28863,24.1234957942,24.12,0,0,0,null,null,null,0,0,0,0,0,1,null,null,2.7103922400218999E-2,1.1235487025365364E-3,"<1%",6.8265189334686005E-2,1.7062728920226972E-3,2.8298215945592336E-3,"<1%",1.1446200302213001,4.5742075389924912E-2,4.7448348281947612E-2,4.5742075389924912E-2]
["Bushbury Hall Farm, Bushbury Lane",30542,0.325175150001,0.33,0,0,0,null,null,null,0,0,0,0,0,1,null,null,0,0,0,0,0,0,0,0,0,0,0]
["Garage Site adj to 49 Glentworth Gardens",34320,0.12858083849900001,0.13,0,0,0,null,null,null,0,0,0,0,0,1,null,null,0,0,0,0,0,0,0,0,0,0,0]
["Fmr Pennfields Special School, Birches Barn Road WV3 7BJ (school playing fields)",37302,1.0662267002500001,1.07,0,0,0,null,null,null,0,0,0,0,0,1,null,null,0,0,0,0,0,0,0,3.4484965600501002E-2,3.2342995717904319E-2,3.2342995717904319E-2,3.2342995717904319E-2]
["Former St Luke's Junior School, Goldthorn Road (built area)",36892,2.2099849973499999,2.21,0,0,0,null,null,null,0,0,0,0,0,1,null,null,0,0,0,4.0003101204960003E-3,1.8101073651145981E-3,1.8101073651145981E-3,"<1%",0.120001555322707,5.2489607549964575E-2,5.4299714915079171E-2,5.2489607549964575E-2]
["Former Bilston College Site, 40 and adj land, Mount Pleasant (conversion)",33841,0.35432620000199999,0.35,0,0,0,null,null,null,0,0,0,0,0,1,null,null,0,0,0,0,0,0,0,1.1599999999999999E-2,3.273819435292824E-2,3.273819435292824E-2,3.273819435292824E-2]
["Land at Cambridge Street, Wolverhampton (private)",31750,0.43581769373000001,{"$f":"ROUND(C707,2)","v":0.44},0,{"$f":"ROUND(E707,2)","v":0},{"$f":"F707/D707","v":0},null,null,null,0,0,0,0,0,1,null,null,0,{"$f":"S707/C707","v":0},{"$f":"IF(T707>=0.005,T707,IF(S707=0,T707,\"<1%\"))","v":0},8.0460030229169994E-3,1.8461854896377153E-2,1.8461854896377153E-2,{"$f":"IF(W707>=0.005,W707,IF(V707=0,W707,\"<1%\"))","v":1.8461854896377153E-2},2.4684569616487E-2,{"$f":"AB707-W707","v":3.8177813413601352E-2},5.6639668309978505E-2,{"$f":"IF(AA707>=0.005,AA707,IF(Z707=0,AA707,\"<1%\"))","v":3.8177813413601352E-2}]
["Wolverhampton Street /Shale Street (Part 2 of 2) - Formcast Shale Street Bilston",36672,0.25135622096900001,0.25,0,0,0,null,null,null,0,0,0,0,0,1,null,null,0,0,0,0,0,0,0,0,0,0,0]
["Fmr St Judes SOther Commitmential Services Area Office, St Judes Road",40190,5.6668580987300002E-2,0.06,0,0,0,null,null,null,0,0,0,0,0,1,null,null,0,0,0,0,0,0,0,0,0,0,0]
["49-53 High Street, Wednesfield WV11 1ST",34660,6.7345395099400004E-2,7.0000000000000007E-2,0,0,0,null,null,null,0,0,0,0,0,1,null,null,0,0,0,0,0,0,0,3.2509137510490997E-2,0.48272250036559111,0.48272250036559111,0.48272250036559111]
["38 King Street, Bradley, Wolverhampton, West Midlands, WV14 8PQ",35470,9.4681750000799994E-2,0.09,0,0,0,null,null,null,0,0,0,0,0,1,null,null,0,0,0,0,0,0,0,0,0,0,0]
["Bushbury Hall Farm, Bushbury Lane",30541,0.325175150001,0.33,0,0,0,null,null,null,0,0,0,0,0,1,null,null,0,0,0,0,0,0,0,0,0,0,0]
["First Floor And Second Floor 28 - 36 Church Street Bilston Wolverhampton WV14 0AX",38070,6.3436155948800005E-2,0.06,0,0,0,null,null,null,0,0,0,0,0,1,null,null,0,0,0,0,0,0,0,0,0,0,0]
["Garage Site Between 62 And 64 Olinthus Avenue Wolverhampton West Midlands",38020,0.113783092499,0.11,0,0,0,null,null,null,0,0,0,0,0,1,null,null,0,0,0,4.6241539104180003E-2,0.40640079372589039,0.40640079372589039,0.40640079372589039,9.9375860882932002E-2,0.4669790617548823,0.87337985548077268,0.4669790617548823]
["Garage Site To The Rear Of 11 To 14 Tonadine Close Wolverhampton West Midlands",33890,0.133191894551,0.13,0,0,0,null,null,null,0,0,0,0,0,1,null,null,0,0,0,0,0,0,0,0,0,0,0]
["219 Prestwood Road Heath Town Wolverhampton West Midlands WV11 1RF",31580,3.0626832977600001E-2,0.03,0,0,0,null,null,null,0,0,0,0,0,1,null,null,0,0,0,0,0,0,0,4.0469563507000002E-5,1.3213760474874703E-3,1.3213760474874703E-3,"<1%"]
["Land At Junction With Canal Bridge And Birmingham Canal Highfields Road Wolverhampton",33960,0.22338806321099999,0.22,0,0,0,null,null,null,0,0,0,0,0,1,null,null,0,0,0,5.0926650000269998E-3,2.2797390902739287E-2,2.2797390902739287E-2,2.2797390902739287E-2,0.124227616063478,0.5333093870415212,0.55610677794426044,0.5333093870415212]
["591 Willenhall Road Wolverhampton West Midlands WV13 3LP",33780,0.10542396983500001,0.11,0,0,0,null,null,null,0,0,0,0,0,1,null,null,0,0,0,0,0,0,0,2.9609070275228001E-2,0.28085709845274676,0.28085709845274676,0.28085709845274676]
["Former Farndale Junior School, Gatis St, Whitmore Reans",28880,0.76271604247799996,0.76,0,0,0,null,null,null,0,0,0,0,0,1,null,null,0,0,0,0,0,0,0,2.6578692270744001E-2,3.4847427863706752E-2,3.4847427863706752E-2,3.4847427863706752E-2]
["Fmr Tettenhall Wood Special School (land), School Road",36751,0.29917012502000001,0.3,0,0,0,null,null,null,0,0,0,0,0,1,null,null,0,0,0,0,0,0,0,0,0,0,0]
["Fmr Tettenhall Wood Special School (buildings), School Road",36752,0.29917012502000001,0.3,0,0,0,null,null,null,0,0,0,0,0,1,null,null,0,0,0,0,0,0,0,0,0,0,0]
["Corner House, Dunstall Road",38530,0.140788903035,0.14000000000000001,0,0,0,null,null,null,0,0,0,0,0,1,null,null,0,0,0,0,0,0,0,6.1728900366890002E-3,4.3845004141799621E-2,4.3845004141799621E-2,4.3845004141799621E-2]
["The Tapworks / Broome Road, Showell Road, Low Hill",29010,3.99330828597,3.99,0,0,0,null,null,null,0,0,0,0,0,1,null,null,1.0906550000049E-2,2.7312066134157057E-3,"<1%",4.4740120000019999E-2,8.4725664980189758E-3,1.1203773111434681E-2,8.4725664980189758E-3,0.84105000692107701,0.20214227881107055,0.21061484530908953,0.20214227881107055]
["Bilston Urban Village - Phase 2",27412,13.1804143605,13.18,1.61398155213784,1.61,0.12215477996965099,null,null,null,4.0303990577727804,4.03,2.42,0.30576631259484072,0.30576631259484072,0.69423368740515934,null,null,0.24310998270178799,1.8444790584911899E-2,1.8444790584911899E-2,0.38733596181867802,1.094244650980903E-2,2.9387237094720929E-2,1.094244650980903E-2,1.5082399487120199,0.10348794296504849,0.11443038947485751,0.10348794296504849]
["Bilston Urban Village - Phase 1",27411,2.0470815825000002,2.0499999999999998,0,0,0,null,null,null,0,0,0,0,0,1,null,null,1.3599999999999999E-2,6.6436042980714954E-3,6.6436042980714954E-3,3.6485510000027997E-2,1.117957886762825E-2,1.7823183165699745E-2,1.117957886762825E-2,0.113761421517603,4.4392911496273987E-2,5.5572490363902237E-2,4.4392911496273987E-2]
["Former Riley Hayes And Completed During 2017/18pany Solicitors 24A Darlington Street Wolverhampton West Midlands WV1 4HW",37670,9.0722335187099993E-3,0.01,0,0,0,null,null,null,0,0,0,0,0,1,null,null,0,0,0,0,0,0,0,0,0,0,0]
["Fmr Garages r/o 19-25 Wrekin Drive, Merry Hill",39440,0.181010909996,0.18,0,0,0,null,null,null,0,0,0,0,0,1,null,null,0,0,0,0,0,0,0,1.4956749051310001E-3,8.2628992095783154E-3,8.2628992095783154E-3,8.2628992095783154E-3]
["Land rear 12 Mount Road, Penn",39530,0.126739657501,0.13,0,0,0,null,null,null,0,0,0,0,0,1,null,null,0,0,0,0,0,0,0,0,0,0,0]
["Crown House Birch Street Wolverhampton West Midlands WV1 4DS",39550,0.40835050549599999,0.41,0,0,0,null,null,null,0,0,0,0,0,1,null,null,0,0,0,0,0,0,0,0.01,2.4488766061042517E-2,2.4488766061042517E-2,2.4488766061042517E-2]
["Network House School Street Wolverhampton WV1 4LJ",39560,0.21806734419599999,0.22,0,0,0,null,null,null,0,0,0,0,0,1,null,null,1.508889192839E-3,6.9193725378835407E-3,6.9193725378835407E-3,3.740437784694E-3,1.0233300176523786E-2,1.7152672714407326E-2,1.0233300176523786E-2,2.2070691614146001E-2,9.0977138715733083E-2,0.10121043889225687,9.0977138715733083E-2]
["Big Head 90 Completed During 2017/18pton Road Wolverhampton West Midlands WV3 9PS",39570,9.09880218101E-3,0.01,0,0,0,null,null,null,0,0,0,0,0,1,null,null,0,0,0,0,0,0,0,0,0,0,0]
["Villiers Arms Public House Villiers Square Bilston WV14 6QN",39580,0.165754254047,0.17,0,0,0,null,null,null,0,0,0,0,0,1,null,null,0,0,0,0,0,0,0,1.5578258535204E-2,9.3984064691255212E-2,9.3984064691255212E-2,9.3984064691255212E-2]
["226 Dudley Road Wolverhampton WV2 3JP",39590,1.3500617699399999E-2,0.01,0,0,0,null,null,null,0,0,0,0,0,1,null,null,0,0,0,0,0,0,0,0,0,0,0]
["Catholic Club 9 Tame Street Wolverhampton West Midlands WV14 7EL",39600,7.2813280034400005E-2,7.0000000000000007E-2,0,0,0,null,null,null,9.8893942303890005E-3,0.01,0.01,0.14285714285714285,0.14285714285714285,0.85714285714285721,null,null,0,0,0,0,0,0,0,0,0,0,0]
["Inglewood Court Inglewood Avenue Wolverhampton West Midlands",39610,0.11702001535000001,0.12,0,0,0,null,null,null,0,0,0,0,0,1,null,null,0,0,0,0,0,0,0,0,0,0,0]
["Merridale Court Merridale Road Wolverhampton WV3 9LF",39620,2.04346953E-2,0.02,0,0,0,null,null,null,0,0,0,0,0,1,null,null,0,0,0,0,0,0,0,0,0,0,0]
["Garage Site Between 92 And 106 Hurst Road Wolverhampton",39630,5.4309375E-2,0.05,0,0,0,null,null,null,0,0,0,0,0,1,null,null,0,0,0,0,0,0,0,0,0,0,0]
["Garage Site Behind 39 To 81  Hall Green Street Wolverhampton",39640,0.1973928026,0.2,0,0,0,null,null,null,0,0,0,0,0,1,null,null,0,0,0,0,0,0,0,0,0,0,0]
["Woodfields Retirement Home Old Hill Wolverhampton West Midlands WV6 8QB",39650,0.11450256065,0.11,0,0,0,null,null,null,0,0,0,0,0,1,null,null,0,0,0,0,0,0,0,0,0,0,0]
["7 The Holloway Wolverhampton West Midlands WV6 8LH",39660,8.6059774967499995E-3,0.01,0,0,0,null,null,null,0,0,0,0,0,1,null,null,0,0,0,0,0,0,0,0,0,0,0]
["Cafe Rickshaw 20 Chapel Ash Wolverhampton West Midlands WV3 0TN",39670,1.05276850012E-2,0.01,0,0,0,null,null,null,0,0,0,0,0,1,null,null,0,0,0,0,0,0,0,0,0,0,0]
["1 Barnett Road Wolverhampton West Midlands WV13 3LD",39680,1.57821E-2,0.02,0,0,0,null,null,null,0,0,0,0,0,1,null,null,0,0,0,0,0,0,0,0,0,0,0]
["Land North East Of 125 Upper Villiers Street Wolverhampton West Midlands",39690,4.4271870900000003E-2,0.04,0,0,0,null,null,null,0,0,0,0,0,1,null,null,0,0,0,0,0,0,0,3.2190698508999997E-4,7.271140309771728E-3,7.271140309771728E-3,7.271140309771728E-3]
["47 Queen Street City Centre Wolverhampton West Midlands WV1 3BJ",39700,2.7651374999999999E-2,0.03,0,0,0,null,null,null,0,0,0,0,0,1,null,null,0,0,0,0,0,0,0,0,0,0,0]
["8 Talbot Road Wolverhampton West Midlands WV2 3EW",39710,3.2478716022199997E-2,0.03,0,0,0,null,null,null,0,0,0,0,0,1,null,null,0,0,0,0,0,0,0,0,0,0,0]
["8 Walton Crescent Wolverhampton West Midlands WV4 6DX",39720,2.3505888000700002E-2,0.02,0,0,0,null,null,null,0,0,0,0,0,1,null,null,0,0,0,2.3388730985290001E-3,9.9501584388530601E-2,9.9501584388530601E-2,9.9501584388530601E-2,4.8288904518560003E-3,0.10593164373338493,0.20543322812191553,0.10593164373338493]
["4 Crowther Street Wolverhampton West Midlands WV10 9AG",39730,1.46232842025E-2,0.01,0,0,0,null,null,null,0,0,0,0,0,1,null,null,0,0,0,0,0,0,0,0,0,0,0]
["Almar Court Catisfield Crescent Wolverhampton WV8 1YT",39740,9.9360874999900005E-3,0.01,0,0,0,null,null,null,0,0,0,0,0,1,null,null,0,0,0,0,0,0,0,0,0,0,0]
["230 Bushbury Lane Wolverhampton West Midlands WV10 9TX",39750,7.9897995000100003E-2,0.08,0,0,0,null,null,null,0,0,0,0,0,1,null,null,0,0,0,0,0,0,0,0,0,0,0]
["11 King Street Wolverhampton WV1 1ST",39760,1.29719355E-2,0.01,0,0,0,null,null,null,0,0,0,0,0,1,null,null,0,0,0,0,0,0,0,0,0,0,0]
["Land East Of 103 Sweetman Street Wolverhampton",39770,7.0472875000000004E-2,7.0000000000000007E-2,0,0,0,null,null,null,0,0,0,0,0,1,null,null,0,0,0,8.1953824993999998E-4,1.1629130356041241E-2,1.1629130356041241E-2,1.1629130356041241E-2,8.6478347497849998E-3,0.11108240581706082,0.12271153617310206,0.11108240581706082]
["66 - 68 Stratton Street Wolverhampton WV10 9AJ",39780,5.2863456750000003E-2,0.05,0,0,0,null,null,null,0,0,0,0,0,1,null,null,0,0,0,0,0,0,0,0,0,0,0]
["Fidgets 50 - 52 High Street Bilston Wolverhampton West Midlands WV14 0EP",39790,2.514495395E-2,0.03,0,0,0,null,null,null,0,0,0,0,0,1,null,null,0,0,0,0,0,0,0,0,0,0,0]
["93 Goldthorn Hill Wolverhampton West Midlands WV2 3HY",39800,0.13772628625,0.14000000000000001,0,0,0,null,null,null,0,{"$f":"ROUND(K754,2)","v":0},{"$f":"L754-F754","v":0},{"$f":"L754/D754","v":0},{"$f":"IF(N754>=0.005,N754,IF(K754=0,N754,\"<1%\"))","v":0},{"$f":"1-N754","v":1},null,null,0,0,0,0,{"$f":"X754-T754","v":0},{"$f":"V754/C754","v":0},0,0,0,{"$f":"Z754/C754","v":0},0]
["21 Walnut Drive Wolverhampton West Midlands WV3 9HA",39810,4.53957538031E-2,0.05,0,0,0,null,null,null,0,0,0,0,0,1,null,null,0,0,0,0,0,0,0,8.0321592969999996E-4,1.7693635690771363E-2,1.7693635690771363E-2,1.7693635690771363E-2]
["Land Adjacent To 69 Stubby Lane Wolverhampton West Midlands WV11 3NL",39820,1.5280629517899999E-2,0.02,0,0,0,null,null,null,0,0,0,0,0,1,null,null,0,0,0,0,0,0,0,0,0,0,0]
["Open Space North Of 17 Newman Road Wolverhampton West Midlands",39830,0.21070744864999999,0.21,0,0,0,null,null,null,0,0,0,0,0,1,null,null,0,0,0,0,0,0,0,0,0,0,0]
["141 Merridale Road Wolverhampton West Midlands WV3 9RL",39840,2.5202124407399999E-2,0.03,0,0,0,null,null,null,0,0,0,0,0,1,null,null,6.2080271477499998E-4,2.4632951759920533E-2,2.4632951759920533E-2,2.0862211485310001E-3,5.8146623279334148E-2,8.2779575039254677E-2,5.8146623279334148E-2,1.4323772822900999E-2,0.51020914670865813,0.56835576998799231,0.51020914670865813]
["60 Amos Lane Wolverhampton West Midlands WV11 1ND",39850,0.20294183199999999,0.2,0,0,0,null,null,null,0,0,0,0,0,1,null,null,0,0,0,0,0,0,0,0,0,0,0]
["7 Allen Road Wolverhampton West Midlands WV6 0AW",39860,1.4975125000000001E-2,0.01,0,0,0,null,null,null,0,0,0,0,0,1,null,null,0,0,0,0,0,0,0,0,0,0,0]
["83A Goldthorn Hill Wolverhampton West Midlands WV2 3HY",39870,0.13768153029999999,0.14000000000000001,0,0,0,null,null,null,0,0,0,0,0,1,null,null,0,0,0,0,0,0,0,0,0,0,0]
["10 Clarendon Street Wolverhampton WV3 9PP",39880,9.3015000000500007E-3,0.01,0,0,0,null,null,null,0,0,0,0,0,1,null,null,0,0,0,0,0,0,0,0,0,0,0]
["43 Tettenhall Road Wolverhampton West Midlands",39890,2.6443485000299999E-2,0.03,0,0,0,null,null,null,0,0,0,0,0,1,null,null,0,0,0,0,0,0,0,0,0,0,0]
["241 Coalway Road Wolverhampton West Midlands WV3 7NG",39900,4.3671500000099998E-2,0.04,0,0,0,null,null,null,0,0,0,0,0,1,null,null,0,0,0,1.0733999976E-5,2.4578958762523433E-4,2.4578958762523433E-4,"<1%",1.907497750108E-3,4.3432530371699085E-2,4.3678319959324322E-2,4.3432530371699085E-2]
["126 JeffcOther Commitmentk Road Wolverhampton West Midlands WV3 7AF",39910,2.3408195400000002E-2,0.02,0,0,0,null,null,null,0,0,0,0,0,1,null,null,0,0,0,0,0,0,0,0,0,0,0]
["103 JeffcOther Commitmentk Road Wolverhampton West Midlands WV3 7AG",39920,1.5910374996099999E-2,0.02,0,0,0,null,null,null,0,0,0,0,0,1,null,null,0,0,0,0,0,0,0,2.531250009E-6,1.5909430227888834E-4,1.5909430227888834E-4,"<1%"]
["Byrne Road Motors Byrne Road Wolverhampton WV2 3DP",39930,4.8628316050000002E-2,0.05,0,0,0,null,null,null,0,0,0,0,0,1,null,null,0,0,0,0,0,0,0,1.42560938701E-3,2.9316445700981658E-2,2.9316445700981658E-2,2.9316445700981658E-2]
["Central Taxis 38 Thornley Street Wolverhampton West Midlands WV1 1JP",39940,6.0335277500099998E-3,0.01,0,0,0,null,null,null,0,0,0,0,0,1,null,null,0,0,0,0,0,0,0,0,0,0,0]
["Garage Site Between 14 And 16 Genge Avenue Wolverhampton",39950,9.9405525896800004E-2,0.1,0,0,0,null,null,null,0,0,0,0,0,1,null,null,0,0,0,0,0,0,0,0,0,0,0]
["38-39 Snow Hill Wolverhampton West Midlands WV2 4AG",39960,3.22777655E-2,0.03,0,0,0,null,null,null,0,0,0,0,0,1,null,null,0,0,0,0,0,0,0,4.4782499993400001E-4,1.3874101660909582E-2,1.3874101660909582E-2,1.3874101660909582E-2]
["Howard Court Brooklands Parade Wolverhampton WV1 2NW",39970,0.1982669715,{"$f":"ROUND(C771,2)","v":0.2},0,{"$f":"ROUND(E771,2)","v":0},{"$f":"F771/D771","v":0},null,null,null,0,0,0,0,0,1,null,null,0,{"$f":"S771/C771","v":0},{"$f":"IF(T771>=0.005,T771,IF(S771=0,T771,\"<1%\"))","v":0},5.7841365790300004E-4,2.9173475215109141E-3,2.9173475215109141E-3,{"$f":"IF(W771>=0.005,W771,IF(V771=0,W771,\"<1%\"))","v":"<1%"},1.4300915155147999E-2,{"$f":"AB771-W771","v":6.9212241420881337E-2},7.2129588942392256E-2,{"$f":"IF(AA771>=0.005,AA771,IF(Z771=0,AA771,\"<1%\"))","v":6.9212241420881337E-2}]
["Land Adjacent 1 Wood Street Bilston Wolverhampton West Midlands",39980,1.50215551531E-2,0.02,0,0,0,null,null,null,0,0,0,0,0,1,null,null,0,0,0,0,0,0,0,0,0,0,0]
["Music Box Nursery 33 - 35 Wellington Road Wolverhampton West Midlands WV14 6AH",39990,2.771532765E-2,0.03,0,0,0,null,null,null,0,0,0,0,0,1,null,null,0,0,0,0,0,0,0,0,0,0,0]
["Land To The Rear Of 226 And 227 Hordern Road Wolverhampton West Midlands WV6 0HQ",40000,2.88836545599E-2,0.03,0,0,0,null,null,null,0,0,0,0,0,1,null,null,0,0,0,0,0,0,0,0,0,0,0]
["Emerald Close Wolverhampton West Midlands",40010,4.9783420000000002E-2,0.05,0,0,0,null,null,null,1.169743320009E-3,0,0,0,"<1%",1,null,null,0,0,0,0,0,0,0,1.7539517998199999E-4,3.5231645391578157E-3,3.5231645391578157E-3,"<1%"]
["Good Shepherd Centre Thornley Street Wolverhampton West Midlands WV1 1JS",40020,0.12090599320000001,0.12,0,0,0,null,null,null,0,0,0,0,0,1,null,null,0,0,0,0,0,0,0,1.0800000000000001E-2,8.9325596805899285E-2,8.9325596805899285E-2,8.9325596805899285E-2]
["Land South West Of 5 Warwick Street Bilston Wolverhampton West Midlands",40030,8.0967269100000003E-2,0.08,0,0,0,null,null,null,0,0,0,0,0,1,null,null,0,0,0,0,0,0,0,0,0,0,0]
["7 Finchfield Gardens Wolverhampton West Midlands WV3 9LT",40040,4.8736594299999998E-2,0.05,0,0,0,null,null,null,0,0,0,0,0,1,null,null,0,0,0,0,0,0,0,0,0,0,0]
["Wolves Superstore 59 - 60 Dudley Street City Centre Wolverhampton West Midlands WV1 3EN",40050,2.57169720488E-2,0.03,0,0,0,null,null,null,0,0,0,0,0,1,null,null,0,0,0,0,0,0,0,0,0,0,0]
["Richmond House 29 Wellington Road Bilston WV14 6AH",40060,7.7448407499999997E-2,0.08,0,0,0,null,null,null,0,0,0,0,0,1,null,null,0,0,0,0,0,0,0,1.4858314812034999E-2,0.19184790613073613,0.19184790613073613,0.19184790613073613]
["188 Wood End Road Wolverhampton West Midlands WV11 1YQ",40070,6.5839929150000004E-2,7.0000000000000007E-2,0,0,0,null,null,null,0,0,0,0,0,1,null,null,2.8058554994936001E-2,0.42616320152792875,0.42616320152792875,3.1832709937633999E-2,5.7323192649547328E-2,0.48348639417747608,5.7323192649547328E-2,5.5248971662872001E-2,0.78181762016938627,0.8391408128189336,0.78181762016938627]
["Land adj 126 Church Road, Bradmore",40080,0.62455562009999999,0.62,0,0,0,null,null,null,0,0,0,0,0,1,null,null,3.2815698590199998E-4,5.2542475856587041E-4,"<1%",1.5182305919699999E-3,1.9054725756489917E-3,2.430897334214862E-3,"<1%",1.1160966819459E-2,1.5964780225329687E-2,1.7870252800978679E-2,1.5964780225329687E-2]
["Daves Supersave 6 - 8 Wootton Avenue Wolverhampton WV11 3AA",40090,3.0353849400000001E-2,0.03,0,0,0,null,null,null,0,0,0,0,0,1,null,null,0,0,0,0,0,0,0,4.37410972061E-4,1.4410395409716963E-2,1.4410395409716963E-2,1.4410395409716963E-2]
["Goodyear Tyre Factory, Stafford Road",40110,7.6975889402000002,7.7,0,0,0,null,null,null,0,0,0,0,0,1,null,null,0.176125925600575,2.2880661330299465E-2,2.2880661330299465E-2,0.419978780972457,3.1679121510162916E-2,5.4559782840462381E-2,3.1679121510162916E-2,1.0996260008962799,0.11117418092504211,0.14285330243520503,0.11117418092504211]
["The Dog & Partridge PH Broad Street Bilston",40210,0.19693927750000001,0.2,0,0,0,null,null,null,0,0,0,0,0,1,null,null,0,0,0,1.2E-2,6.0932487172346818E-2,6.0932487172346818E-2,6.0932487172346818E-2,5.8777736660006998E-2,0.23752365324894112,0.29845614042128793,0.23752365324894112]
["Land adj 69 Mount Road, Penn",40200,5.3771715800000001E-2,0.05,0,0,0,null,null,null,0,0,0,0,0,1,null,null,0,0,0,0,0,0,0,0,0,0,0]
["Open Space at Broadway, Rushall Road, Northwood Park Road, WV10 8EB","D82",0.330943465002,0.33,0,0,0,null,null,null,0,0,0,0,0,1,null,null,0,0,0,2.1629546975000001E-5,6.5357226421948795E-5,6.5357226421948795E-5,"<1%",1.6909316234409999E-3,5.0440702204405568E-3,5.1094274468625059E-3,5.0440702204405568E-3]
["Land adj 84 Villiers Avenue, Bilston",40100,6.0470625E-2,0.06,0,0,0,null,null,null,0,0,0,0,0,1,null,null,1.3599999999999999E-2,0.2249025869998863,0.2249025869998863,2.3727481384967001E-2,0.16747770318178457,0.39238029018167087,0.16747770318178457,5.6075888296288998E-2,0.75984673403527736,0.92732443721706193,0.75984673403527736]
["Northicote Secondary School, Northwood Park Road, WV10 8ER","D5b",4.7634367400100004,4.76,0,0,0,null,null,null,0,0,0,0,0,1,null,null,3.56E-2,7.473595629177026E-3,7.473595629177026E-3,8.6800000000000002E-2,1.0748542028479319E-2,1.8222137657656345E-2,1.0748542028479319E-2,0.39113983680442499,7.1364406700132083E-2,8.2112948728611398E-2,7.1364406700132083E-2]